Workbook

Sheet Рейтинг 2013
B2: № пп | C2: Номер карточки | D2: ФИО | E2: Дата рождения | F2: Год рождения | G2: Субъект РФ | H2: Город | I2: ДОСААФ 2013 | J2: Кубок России 2013 | K2: Владивосток 2013 | L2: Чемпионат России 2013 | M2: Сумма 3х лучших выступлений | N2: k рейтинга | O2: Очки рейтинга 2013
B4: 1 | C4: 2617 | D4: Сидоров Петр Александрович | E4: 29390 | F4: 1980 | G4: Краснодарский край | H4: Новороссийск | I4: 50 | J4: 57.398654 | L4: 65.851824 | M4: 173.25048 | N4: 0.57719898 | O4: 100
B5: 2 | C5: 3202 | D5: Левский Дмитрий Евгеньевич | E5: 31151 | F5: 1985 | G5: Ярославская область | H5: Ярославль | I5: 31.649428 | J5: 75 | K5: 27.969865 | M5: 134.61929 | N5: 0.57719898 | O5: 77.702119
B6: 3 | C6: 3201 | D6: Цветов Михаил Викторович | E6: 25230 | F6: 1969 | G6: Ярославская область | H6: Ярославль | I6: 14.650596 | J6: 54.571105 | K6: 37.725875 | L6: 16.823367 | M6: 109.12035 | N6: 0.57719898 | O6: 62.984153
B7: 4 | C7: 3168 | D7: Фещенко Андрей Владимирович | E7: 26528 | F7: 1972 | G7: Краснодарский край | H7: Новороссийск | I7: 13.991229 | J7: 12.047629 | L7: 78.304963 | M7: 104.34382 | N7: 0.57719898 | O7: 60.227147
B8: 5 | C8: 2591 | D8: Уткин Александр Федорович | E8: 20951 | F8: 1957 | G8: Ярославская область | H8: Ярославль | I8: 13.522601 | J8: 38.795953 | K8: 47.178021 | L8: 17.91226 | M8: 103.88623 | N8: 0.57719898 | O8: 59.963029
B9: 6 | C9: 2614 | D9: Чукардин Алексей Владимирович | E9: 31630 | F9: 1986 | G9: Краснодарский край | H9: Новороссийск | L9: 100 | M9: 100 | N9: 0.57719898 | O9: 57.719898
B10: 7 | C10: 2618 | D10: Арцимович Денис Леонидович | E10: 27097 | F10: 1974 | G10: Краснодарский край | H10: Новороссийск | I10: 27.834582 | J10: 65.636475 | L10: 0 | M10: 93.471057 | N10: 0.57719898 | O10: 53.951399
B11: 8 | C11: 3232 | D11: Приймак Валерий Петрович | E11: 21204 | F11: 1958 | G11: Краснодарский край | H11: Новороссийск | I11: 35.224909 | J11: 0 | L11: 56.098235 | M11: 91.323144 | N11: 0.57719898 | O11: 52.711626
B12: 9 | C12: 1448 | D12: Турухано Андрей Борисович | E12: 26589 | F12: 1972 | G12: Санкт-Петербург | H12: Санкт-Петербург | I12: 0 | J12: 40.14299 | K12: 50 | M12: 90.14299 | N12: 0.57719898 | O12: 52.030442
B13: 10 | C13: 3227 | D13: Коваленко Юрий Иванович | E13: 26261 | F13: 1971 | G13: Краснодарский край | H13: Новороссийск | I13: 35.913937 | J13: 11.326349 | L13: 32.914758 | M13: 80.155044 | N13: 0.57719898 | O13: 46.26541
B14: 11 | C14: 1840 | D14: Лубягин Максим Григорьевич | E14: 30204 | F14: 1982 | G14: Волгоградская область | H14: Волгоград | I14: 24.996223 | J14: 49.660138 | M14: 74.65636 | N14: 0.57719898 | O14: 43.091575
B15: 12 | C15: 2592 | D15: Кузнецов Роман Феликсович | E15: 25242 | F15: 1969 | G15: Санкт-Петербург | H15: Санкт-Петербург | I15: 0 | J15: 48.120683 | L15: 21.289162 | M15: 69.409845 | N15: 0.57719898 | O15: 40.063292
B16: 13 | C16: 3203 | D16: Костырев Александр Николаевич | E16: 31062 | F16: 1985 | G16: Ярославская область | H16: Ярославль | I16: 0 | J16: 38.287493 | L16: 29.334336 | M16: 67.621829 | N16: 0.57719898 | O16: 39.031251
B17: 14 | C17: 2683 | D17: Ченцов Сергей Юрьевич | E17: 28737 | F17: 1978 | G17: Нижегородская область | H17: Н. Новгород | J17: 13.377489 | L17: 48.223094 | M17: 61.600583 | N17: 0.57719898 | O17: 35.555794
B18: 15 | C18: 3731 | D18: Любецкий Дмитрий Александрович | E18: 29874 | F18: 1981 | G18: Краснодарский край | H18: Новороссийск | I18: 5.6229192 | L18: 46.435031 | M18: 52.05795 | N18: 0.57719898 | O18: 30.047796
B19: 16 | C19: 3269 | D19: Сысоев Александр Борисович | E19: 26675 | F19: 1973 | G19: Ярославская область | H19: Ярославль | I19: 19.021328 | J19: 29.66514 | M19: 48.686467 | N19: 0.57719898 | O19: 28.10178
B20: 17 | C20: 2590 | D20: Горохов Валерий Сергеевич | E20: 27549 | F20: 1975 | G20: Ярославская область | H20: Ярославль | I20: 43.281757 | J20: 0 | L20: 0 | M20: 43.281757 | N20: 0.57719898 | O20: 24.982186
B21: 18 | C21: 2682 | D21: Богатов Илья Александрович | E21: 26821 | F21: 1973 | G21: Нижегородская область | H21: Дзержинск | J21: 27.825628 | L21: 10.016297 | M21: 37.841925 | N21: 0.57719898 | O21: 21.842321
B22: 19 | C22: 4183 | D22: Попов Сергей Станиславович | E22: 27042 | F22: 1974 | G22: Волгоградская область | H22: Волжский | I22: 0 | J22: 25.205663 | L22: 11.921775 | M22: 37.127438 | N22: 0.57719898 | O22: 21.429919
B23: 20 | C23: 4668 | D23: Коровников Сергей Валерьевич | E23: 30212 | F23: 1982 | G23: Нижегородская область | H23: Дзержинск | J23: 17.302688 | L23: 18.156963 | M23: 35.459652 | N23: 0.57719898 | O23: 20.467275
B24: 21 | C24: 3992 | D24: Виноградов Евгений Иванович | E24: 23487 | F24: 1964 | G24: Тверская область | H24: Тверь | I24: 0 | J24: 32.845781 | L24: 0 | M24: 32.845781 | N24: 0.57719898 | O24: 18.958552
B25: 22 | C25: 2250 | D25: Бурцев Александр Анатольевич | E25: 30840 | F25: 1984 | G25: Москва | H25: Москва | L25: 27.102921 | M25: 27.102921 | N25: 0.57719898 | O25: 15.643778
B26: 23 | C26: 3262 | D26: Барсов Валерий Владимирович | E26: 27066 | F26: 1974 | G26: Волгоградская область | H26: Волгоград | I26: 5.9627987 | J26: 21.13375 | L26: 0 | M26: 27.096549 | N26: 0.57719898 | O26: 15.640101
B27: 24 | C27: 2657 | D27: Краснов Егор Алексеевич | E27: 30231 | F27: 1982 | G27: Владимирская область | H27: Владимир | I27: 6.278827 | J27: 20.31681 | L27: 0 | M27: 26.595637 | N27: 0.57719898 | O27: 15.350975
B28: 25 | C28: 2601 | D28: Пустов Александр Вячеславович | E28: 30594 | F28: 1983 | G28: Владимирская область | H28: Владимир | I28: 14.092564 | L28: 6.3432368 | M28: 20.435801 | N28: 0.57719898 | O28: 11.795523
B29: 26 | C29: 3275 | D29: Докучаев Владимир Александрович | E29: 21325 | F29: 1958 | G29: Ленинградская область | H29: Кириши | M29: 19.648816 | N29: 0.57719898 | O29: 11.341276
B30: 27 | C30: 3923 | D30: Березкин Анатолий Борисович | E30: 26574 | F30: 1972 | G30: Владимирская область | H30: Владимир | I30: 6.324753 | J30: 11.315079 | L30: 0 | M30: 17.639832 | N30: 0.57719898 | O30: 10.181693
B31: 28 | C31: 2644 | D31: Мельников Виталий Александрович | E31: 27709 | F31: 1975 | G31: Оренбургская область | H31: Орск | I31: 0 | J31: 16.813912 | M31: 16.813912 | N31: 0.57719898 | O31: 9.7049728
B32: 29 | C32: 1841 | D32: Бережной Сергей Владимирович | E32: 25622 | F32: 1970 | G32: Волгоградская область | H32: Волгоград | I32: 0 | J32: 11.472859 | L32: 0 | M32: 11.472859 | N32: 0.57719898 | O32: 6.6221226
B33: 30 | C33: 3838 | D33: Васильев Артем Игоревич | E33: 26511 | F33: 1972 | G33: Ярославская область | H33: Ярославль | I33: 7.5787171 | J33: 0 | M33: 7.5787171 | N33: 0.57719898 | O33: 4.3744278
B34: 31 | C34: 2621 | D34: Липин Михаил Владимирович | E34: 23966 | F34: 1965 | G34: Ярославская область | H34: Ярославль | I34: 7.0852834 | M34: 7.0852834 | N34: 0.57719898 | O34: 4.0896184
B35: 32 | C35: 3820 | D35: Тимичев Владимир Анатольевич | E35: 22758 | F35: 1962 | G35: Нижегородская область | H35: Н. Новгород | I35: 7.0332813 | M35: 7.0332813 | N35: 0.57719898 | O35: 4.0596028
B36: 33 | C36: 2622 | D36: Тофоров Владимир Александрович | E36: 24564 | F36: 1967 | G36: Ярославская область | H36: Ярославль | I36: 6.6627665 | L36: 0 | M36: 6.6627665 | N36: 0.57719898 | O36: 3.8457421
B37: 34 | C37: 1554 | D37: Колпачников Роман Леонидович | E37: 28457 | F37: 1977 | G37: Санкт-Петербург | H37: Санкт-Петербург | I37: 0 | J37: 0 | L37: 6.5906677 | M37: 6.5906677 | N37: 0.57719898 | O37: 3.8041267
B38: 35 | C38: 3821 | D38: Бабичев Александр Владимирович | E38: 24761 | F38: 1967 | G38: Нижегородская область | H38: Н. Новгород | I38: 6.5197608 | J38: 0 | L38: 0 | M38: 6.5197608 | N38: 0.57719898 | O38: 3.7631993
B39: 36 | C39: 3991 | D39: Хайрулин Равиль Гамирович | E39: 24709 | F39: 1967 | G39: Ярославская область | K39: 0.88462161 | M39: 0.88462161 | N39: 0.57719898 | O39: 0.51060269
B40: 37 | C40: 2673 | D40: Агеев Александр Анатольевич | E40: 22824 | F40: 1962 | G40: Воронежская область | H40: Воронеж | L40: 0 | M40: 0 | N40: 0.57719898 | O40: 0
B41: 38 | C41: 3972 | D41: Болдырев Николай Владимирович | E41: 27337 | F41: 1974 | G41: Воронежская область | H41: Воронеж | L41: 0 | M41: 0 | N41: 0.57719898 | O41: 0
B42: 39 | C42: 3226 | D42: Гришин Алексей Фёдорович | E42: 18837 | F42: 1951 | G42: Краснодарский край | H42: Новороссийск | I42: 0 | M42: 0 | N42: 0.57719898 | O42: 0
...

Sheet ДОСААФ 2014
B2: ФЕДЕРАЦИЯ ПОДВОДНОГО СПОРТА РОССИИ
B3: Всероссийские соревнования "Кубок ДОСААФ России по подводной охоте"
B4: код спортивной дисциплины 1460231511Л
B5: 01-03 мая 2014 | N5: г. Новороссийск
B7: Протокол расчета очков рейтинга
B11: № пп | C11: Старт. № | D11: Ф.И.О. Спортсмена | E11: Год рождения | F11: Спорт. Звание, разряд | G11: Постоянная состовляющая | H11: Переменная составляющая (Сумма % за 2 дня) | I11: Сумма состовляющих | K11: Сумма % за 2дня | L11: РЧ (%) | M11: k сор. | N11: Очки рейтинга
E12: 0 | F12: 0 | K12: 0 | L12: 50 | N12: ПП
L17: 50 | M17: 0.35010823
B18: 1 | C18: 1 | D18: Ченцов Сергей Юрьевич | E18: 1978 | F18: МС | H18: 142.81298 | I18: 142.81298 | J18: 142.81298 | K18: 142.81298 | L18: 50 | M18: 0.35010823 | N18: 50
B19: 2 | C19: 14 | D19: Уткин Александр Федорович | E19: 1957 | F19: МС | H19: 132.95184 | I19: 132.95184 | J19: 132.95184 | K19: 132.95184 | L19: 50 | M19: 0.35010823 | N19: 46.547531
B20: 3 | C20: 25 | D20: Сидоров Петр Александрович | E20: 1980 | F20: МС | H20: 123.64298 | I20: 123.64298 | J20: 123.64298 | K20: 123.64298 | L20: 50 | M20: 0.35010823 | N20: 43.288424
B21: 4 | C21: 30 | D21: Арцимович Денис Леонидович | E21: 1974 | F21: 1 | H21: 100.29473 | I21: 100.29473 | J21: 100.29473 | K21: 100.29473 | L21: 50 | M21: 0.35010823 | N21: 35.114011
B22: 5 | C22: 4 | D22: Богатов Илья Александрович | E22: 1973 | F22: 2 | H22: 46.018121 | I22: 46.018121 | J22: 46.018121 | K22: 46.018121 | L22: 50 | M22: 0.35010823 | N22: 16.111323
B23: 6 | C23: 26 | D23: Фещенко Андрей Владимирович | E23: 1972 | F23: МС | H23: 39.707519 | I23: 39.707519 | J23: 39.707519 | K23: 39.707519 | L23: 50 | M23: 0.35010823 | N23: 13.901929
B24: 7 | C24: 12 | D24: Горохов Валерий Сергеевич | E24: 1975 | F24: МС | H24: 37.001546 | I24: 37.001546 | J24: 37.001546 | K24: 37.001546 | L24: 50 | M24: 0.35010823 | N24: 12.954545
B25: 8 | C25: 32 | D25: Лубягин Максим Григорьевич | E25: 1982 | F25: МС | H25: 35.876649 | I25: 35.876649 | J25: 35.876649 | K25: 35.876649 | L25: 50 | M25: 0.35010823 | N25: 12.56071
B26: 9 | C26: 22 | D26: Любецкий Дмитрий Александрович | E26: 1981 | F26: 2 | H26: 32.51932 | I26: 32.51932 | J26: 32.51932 | K26: 32.51932 | L26: 50 | M26: 0.35010823 | N26: 11.385281
B27: 10 | C27: 13 | D27: Цветов Михаил Викторович | E27: 1969 | F27: МС | H27: 32.272025 | I27: 32.272025 | J27: 32.272025 | K27: 32.272025 | L27: 50 | M27: 0.35010823 | N27: 11.298701
B28: 11 | C28: 6 | D28: Миклин Александр Рудольфович | E28: 1984 | F28: МС | H28: 32.148377 | I28: 32.148377 | J28: 32.148377 | K28: 32.148377 | L28: 50 | M28: 0.35010823 | N28: 11.255411
B29: 12 | C29: 10 | D29: Костырев Александр Николаевич | E29: 1985 | F29: 1 | H29: 31.764148 | I29: 31.764148 | J29: 31.764148 | K29: 31.764148 | L29: 50 | M29: 0.35010823 | N29: 11.120889
B30: 13 | C30: 21 | D30: Попов Сергей Станиславович | E30: 1974 | F30: 1 | H30: 27.308854 | I30: 27.308854 | J30: 27.308854 | K30: 27.308854 | L30: 50 | M30: 0.35010823 | N30: 9.5610544
B31: 14 | C31: 20 | D31: Бережной Сергей Владимирович | E31: 1970 | F31: 1 | H31: 19.599428 | I31: 19.599428 | J31: 19.599428 | K31: 19.599428 | L31: 50 | M31: 0.35010823 | N31: 6.8619209
B32: 15 | C32: 23 | D32: Приймак Валерий Петрович | E32: 1958 | F32: МС | H32: 18.343666 | I32: 18.343666 | J32: 18.343666 | K32: 18.343666 | L32: 50 | M32: 0.35010823 | N32: 6.4222682
B33: 16 | C33: 24 | D33: Чукардин Алексей Владимирович | E33: 1986 | F33: МС | H33: 15.768558 | I33: 15.768558 | J33: 15.768558 | K33: 15.768558 | L33: 50 | M33: 0.35010823 | N33: 5.5207019
B34: 17 | C34: 18 | D34: Колпачников Роман Леонидович | E34: 1977 | F34: МС | H34: 14.806801 | I34: 14.806801 | J34: 14.806801 | K34: 14.806801 | L34: 50 | M34: 0.35010823 | N34: 5.1839827
B35: 18 | C35: 11 | D35: Клапша Дмитрий Валерьевич | H35: 12.550232 | I35: 12.550232 | J35: 0 | K35: 12.550232 | L35: 50 | M35: 0.35010823 | N35: 4.3939394
B36: 20 | C36: 3 | D36: Бабичев Александр Владимирович | E36: 1967 | F36: 2 | H36: 0 | I36: 0 | J36: 0 | K36: 0 | L36: 50 | M36: 0.35010823 | N36: 0
B37: 28 | C37: 19 | D37: Барсов Валерий Владимирович | E37: 1974 | F37: 1 | H37: 0 | I37: 0 | J37: 0 | K37: 0 | L37: 50 | M37: 0.35010823 | N37: 0
B38: 29 | C38: 27 | D38: Виноградов Евгений Иванович | E38: 1964 | F38: КМС | H38: 0 | I38: 0 | J38: 0 | K38: 0 | L38: 50 | M38: 0.35010823 | N38: 0
B39: 19 | C39: 2 | D39: Коровников Сергей Валерьевич | E39: 1982 | F39: 2 | H39: 0 | I39: 0 | J39: 0 | K39: 0 | L39: 50 | M39: 0.35010823 | N39: 0
B40: 26 | C40: 16 | D40: Кузнецов Максим Романович | E40: 1996 | F40: 2 | H40: 0 | I40: 0 | J40: 0 | K40: 0 | L40: 50 | M40: 0.35010823 | N40: 0
B41: 27 | C41: 17 | D41: Кузнецов Роман Феликсович | E41: 1969 | F41: МС | H41: 0 | I41: 0 | J41: 0 | K41: 0 | L41: 50 | M41: 0.35010823 | N41: 0
B42: 35 | C42: 35 | D42: Курбатов Павел Валерьевич | E42: 1982 | F42: 1 | H42: 0 | I42: 0 | J42: 0 | K42: 0 | L42: 50 | M42: 0.35010823 | N42: 0
B43: 25 | C43: 15 | D43: Левский Дмитрий Евгеньевич | E43: 1985 | F43: КМС | H43: 0 | I43: 0 | J43: 0 | K43: 0 | L43: 50 | M43: 0.35010823 | N43: 0
B44: 21 | C44: 5 | D44: Полянский Сергей Геннадьевич | E44: 1965 | F44: 1 | H44: 0 | I44: 0 | J44: 0 | K44: 0 | L44: 50 | M44: 0.35010823 | N44: 0
B45: 22 | C45: 7 | D45: Головизнин Сергей Геннадьевич | E45: 1964 | H45: 0 | I45: 0 | J45: 0 | K45: 0 | L45: 50 | M45: 0.35010823 | N45: 0
B46: 23 | C46: 8 | D46: Широнин Николай Александрович | E46: 1962 | H46: 0 | I46: 0 | J46: 0 | K46: 0 | L46: 50 | M46: 0.35010823 | N46: 0
B47: 24 | C47: 9 | D47: Чекалин Евгений Александрович | E47: 1978 | H47: 0 | I47: 0 | J47: 0 | K47: 0 | L47: 50 | M47: 0.35010823 | N47: 0
B48: 30 | C48: 28 | D48: Антонов Павел Евгеньевич | E48: 1962 | H48: 0 | I48: 0 | J48: 0 | K48: 0 | L48: 50 | M48: 0.35010823 | N48: 0
B49: 31 | C49: 29 | D49: Смирнов Алексей Андреевич | H49: 0 | I49: 0 | J49: 0 | K49: 0 | L49: 50 | M49: 0.35010823 | N49: 0
...

Sheet ЧР 2014
B2: ФЕДЕРАЦИЯ ПОДВОДНОГО СПОРТА РОССИИ
B3: Чемпионат России по подводному спорту(подводная охота)
B4: код спортивной дисциплины 1460231511Л
B5: 08-11 мая 2014 | N5: г. Новороссийск
B7: Протокол расчета очков рейтинга
B11: № пп | C11: Старт. № | D11: Ф.И.О. Спортсмена | E11: Год рождения | F11: Спорт. Звание, разряд | G11: Постоянная состовляющая | H11: Переменная составляющая (Сумма % за 2 дня) | I11: Сумма состовляющих | J11: Сумма % за 2дня | L11: РЧ (%) | M11: k сор. | N11: Очки рейтинга
E12: 0 | F12: 0 | J12: 0 | L12: 100 | N12: ПП
B13: 1 | C13: 40 | D13: Сидоров Петр Александрович | E13: 1980 | F13: МС | H13: 200 | I13: 200 | J13: 200 | K13: 200 | L13: 100 | M13: 0.5 | N13: 100
B14: 2 | C14: 33 | D14: Левский Дмитрий Евгеньевич | E14: 1985 | F14: КМС | H14: 168.7689 | I14: 168.7689 | J14: 168.7689 | K14: 200 | L14: 100 | M14: 0.5 | N14: 84.384451
B15: 3 | C15: 20 | D15: Турухано Андрей Борисович | E15: 1972 | F15: МС | H15: 139.6693 | I15: 139.6693 | J15: 139.6693 | K15: 200 | L15: 100 | M15: 0.5 | N15: 69.83465
B16: 4 | C16: 1 | D16: Ченцов Сергей Юрьевич | E16: 1978 | F16: МС | H16: 120.24439 | I16: 120.24439 | J16: 120.24439 | K16: 200 | L16: 100 | M16: 0.5 | N16: 60.122193
B17: 5 | C17: 28 | D17: Приймак Валерий Петрович | E17: 1958 | F17: МС | H17: 118.36358 | I17: 118.36358 | J17: 118.36358 | K17: 200 | L17: 100 | M17: 0.5 | N17: 59.181788
B18: 6 | C18: 30 | D18: Бережной Сергей Владимирович | E18: 1970 | F18: 1 | H18: 118.22226 | I18: 118.22226 | J18: 118.22226 | K18: 200 | L18: 100 | M18: 0.5 | N18: 59.11113
B19: 7 | C19: 37 | D19: Фещенко Андрей Владимирович | E19: 1972 | F19: МС | H19: 112.00529 | I19: 112.00529 | J19: 112.00529 | K19: 200 | L19: 100 | M19: 0.5 | N19: 56.002643
B20: 8 | C20: 21 | D20: Горохов Валерий Сергеевич | E20: 1975 | F20: МС | H20: 111.86627 | I20: 111.86627 | J20: 111.86627 | K20: 200 | L20: 100 | M20: 0.5 | N20: 55.933134
B21: 9 | C21: 15 | D21: Цветов Михаил Викторович | E21: 1969 | F21: МС | H21: 107.05967 | I21: 107.05967 | J21: 107.05967 | K21: 200 | L21: 100 | M21: 0.5 | N21: 53.529833
B22: 10 | C22: 19 | D22: Уткин Александр Федорович | E22: 1957 | F22: МС | H22: 100.27053 | I22: 100.27053 | J22: 100.27053 | K22: 200 | L22: 100 | M22: 0.5 | N22: 50.135264
B23: 11 | C23: 16 | D23: Курбатов Павел Валерьевич | E23: 1982 | F23: 1 | H23: 99.466342 | I23: 99.466342 | J23: 99.466342 | K23: 200 | L23: 100 | M23: 0.5 | N23: 49.733171
B24: 12 | C24: 17 | D24: Сысоев Александр Борисович | E24: 1973 | F24: МС | H24: 75.299067 | I24: 75.299067 | J24: 75.299067 | K24: 200 | L24: 100 | M24: 0.5 | N24: 37.649533
B25: 13 | C25: 29 | D25: Краснов Егор Алексеевич | E25: 1982 | F25: 2 | H25: 65.738195 | I25: 65.738195 | J25: 65.738195 | K25: 200 | L25: 100 | M25: 0.5 | N25: 32.869098
B26: 14 | C26: 12 | D26: Кузнецов Роман Феликсович | E26: 1969 | F26: МС | H26: 63.499916 | I26: 63.499916 | J26: 63.499916 | K26: 200 | L26: 100 | M26: 0.5 | N26: 31.749958
B27: 15 | C27: 10 | D27: Антимонов Роман Валерьевич | E27: 1973 | F27: 1 | H27: 62.587503 | I27: 62.587503 | J27: 62.587503 | K27: 200 | L27: 100 | M27: 0.5 | N27: 31.293752
B28: 16 | C28: 2 | D28: Богатов Илья Александрович | E28: 1973 | F28: 2 | H28: 60.487425 | I28: 60.487425 | J28: 60.487425 | K28: 200 | L28: 100 | M28: 0.5 | N28: 30.243713
B29: 17 | C29: 44 | D29: Чукардин Алексей Владимирович | E29: 1986 | F29: МС | H29: 59.528131 | I29: 59.528131 | J29: 59.528131 | K29: 200 | L29: 100 | M29: 0.5 | N29: 29.764065
B30: 18 | C30: 34 | D30: Смирнов Алексей Андреевич | H30: 43.738657 | I30: 43.738657 | J30: 0 | K30: 200 | L30: 100 | M30: 0.5 | N30: 21.869328
B31: 19 | C31: 31 | D31: Барсов Валерий Владимирович | E31: 1974 | F31: 1 | H31: 34.363444 | I31: 34.363444 | J31: 34.363444 | K31: 200 | L31: 100 | M31: 0.5 | N31: 17.181722
B32: 20 | C32: 39 | D32: Лубягин Максим Григорьевич | E32: 1982 | F32: МС | H32: 34.204966 | I32: 34.204966 | J32: 34.204966 | K32: 200 | L32: 100 | M32: 0.5 | N32: 17.102483
B33: 21 | C33: 36 | D33: Антонов Павел Евгеньевич | E33: 1962 | H33: 30.152969 | I33: 30.152969 | J33: 30.152969 | K33: 200 | L33: 100 | M33: 0.5 | N33: 15.076484
B34: 22 | C34: 25 | D34: Пустов Александр Вячеславович | E34: 1983 | F34: КМС | H34: 28.631801 | I34: 28.631801 | J34: 28.631801 | K34: 200 | L34: 100 | M34: 0.5 | N34: 14.315901
B35: 23 | C35: 45 | D35: Арцимович Денис Леонидович | E35: 1974 | F35: 1 | H35: 28.341257 | I35: 28.341257 | J35: 28.341257 | K35: 200 | L35: 100 | M35: 0.5 | N35: 14.170629
B36: 24 | C36: 4 | D36: Коровников Сергей Валерьевич | E36: 1982 | F36: 2 | H36: 27.971474 | I36: 27.971474 | J36: 27.971474 | K36: 200 | L36: 100 | M36: 0.5 | N36: 13.985737
B37: 25 | C37: 26 | D37: Исаев Кирилл Борисович | E37: 1986 | H37: 27.337559 | I37: 27.337559 | J37: 27.337559 | K37: 200 | L37: 100 | M37: 0.5 | N37: 13.66878
B38: 26 | C38: 38 | D38: Любецкий Дмитрий Александрович | E38: 1981 | F38: 2 | H38: 27.284733 | I38: 27.284733 | J38: 27.284733 | K38: 200 | L38: 100 | M38: 0.5 | N38: 13.642367
B39: 27 | C39: 9 | D39: Коноплев Владимир Анатольевич | E39: 1969 | F39: 2 | H39: 20.274825 | I39: 20.274825 | J39: 20.274825 | K39: 200 | L39: 100 | M39: 0.5 | N39: 10.137412
B40: 28 | C40: 35 | D40: Каменщикова Анна Викторовна | E40: 1989 | F40: КМС | H40: 16.059165 | I40: 16.059165 | J40: 16.059165 | K40: 200 | L40: 100 | M40: 0.5 | N40: 8.0295827
B41: 29 | C41: 8 | D41: Миклин Александр Рудольфович | E41: 1984 | F41: МС | H41: 15.919108 | I41: 15.919108 | J41: 15.919108 | K41: 200 | L41: 100 | M41: 0.5 | N41: 7.9595541
B42: 30 | C42: 3 | D42: Бабичев Александр Владимирович | E42: 1967 | F42: 2 | H42: 0 | I42: 0 | J42: 0 | K42: 200 | L42: 100 | M42: 0.5 | N42: 0
B43: 33 | C43: 11 | D43: Баранов Максим Симонович | E43: 1978 | F43: 2 | H43: 0 | I43: 0 | J43: 0 | K43: 200 | L43: 100 | M43: 0.5 | N43: 0
B44: 31 | C44: 6 | D44: Белобоков Сергей Борисович | E44: 1981 | H44: 0 | I44: 0 | J44: 0 | K44: 200 | L44: 100 | M44: 0.5 | N44: 0
B45: 43 | C45: 42 | D45: Виноградов Евгений Иванович | E45: 1964 | F45: КМС | H45: 0 | I45: 0 | J45: 0 | K45: 200 | L45: 100 | M45: 0.5 | N45: 0
...

Sheet Отборочный Рейтинг 2014
B2: № пп | C2: ФИО | D2: Очки рейтинга 2013 | E2: ДОСААФ 2014 | F2: Чемпионат России 2014 | G2: Очки отборочного рейтинга 2014
B4: 1 | C4: Сидоров Петр Александрович | D4: 100 | E4: 43.288424 | F4: 100 | G4: 243.28842
B5: 2 | C5: Левский Дмитрий Евгеньевич | D5: 77.702119 | E5: 0 | F5: 84.384451 | G5: 162.08657
B6: 3 | C6: Уткин Александр Федорович | D6: 59.963029 | E6: 46.547531 | F6: 50.135264 | G6: 156.64582
B7: 4 | C7: Ченцов Сергей Юрьевич | D7: 35.555794 | E7: 50 | F7: 60.122193 | G7: 145.67799
B8: 5 | C8: Фещенко Андрей Владимирович | D8: 60.227147 | E8: 13.901929 | F8: 56.002643 | G8: 130.13172
B9: 6 | C9: Цветов Михаил Викторович | D9: 62.984153 | E9: 11.298701 | F9: 53.529833 | G9: 127.81269
B10: 7 | C10: Турухано Андрей Борисович | D10: 52.030442 | F10: 69.83465 | G10: 121.86509
B11: 8 | C11: Приймак Валерий Петрович | D11: 52.711626 | E11: 6.4222682 | F11: 59.181788 | G11: 118.31568
B12: 9 | C12: Арцимович Денис Леонидович | D12: 53.951399 | E12: 35.114011 | F12: 14.170629 | G12: 103.23604
B13: 10 | C13: Горохов Валерий Сергеевич | D13: 24.982186 | E13: 12.954545 | F13: 55.933134 | G13: 93.869866
B14: 12 | C14: Чукардин Алексей Владимирович | D14: 57.719898 | E14: 5.5207019 | F14: 29.764065 | G14: 93.004666
B15: 14 | C15: Лубягин Максим Григорьевич | D15: 43.091575 | E15: 12.56071 | F15: 17.102483 | G15: 72.754768
B16: 11 | C16: Бережной Сергей Владимирович | D16: 6.6221226 | E16: 6.8619209 | F16: 59.11113 | G16: 72.595173
B17: 15 | C17: Кузнецов Роман Феликсович | D17: 40.063292 | E17: 0 | F17: 31.749958 | G17: 71.81325
B18: 13 | C18: Богатов Илья Александрович | D18: 21.842321 | E18: 16.111323 | F18: 30.243713 | G18: 68.197356
B19: 16 | C19: Сысоев Александр Борисович | D19: 28.10178 | F19: 37.649533 | G19: 65.751313
B20: 18 | C20: Любецкий Дмитрий Александрович | D20: 30.047796 | E20: 11.385281 | F20: 13.642367 | G20: 55.075444
B21: 20 | C21: Костырев Александр Николаевич | D21: 39.031251 | E21: 11.120889 | F21: 0 | G21: 50.15214
B22: 17 | C22: Курбатов Павел Валерьевич | D22: 0 | E22: 0 | F22: 49.733171 | G22: 49.733171
B23: 19 | C23: Краснов Егор Алексеевич | D23: 15.350975 | F23: 32.869098 | G23: 48.220072
B24: 26 | C24: Коваленко Юрий Иванович | D24: 46.26541 | F24: 0 | G24: 46.26541
B25: 24 | C25: Коровников Сергей Валерьевич | D25: 20.467275 | E25: 0 | F25: 13.985737 | G25: 34.453012
B26: 22 | C26: Барсов Валерий Владимирович | D26: 15.640101 | E26: 0 | F26: 17.181722 | G26: 32.821823
B27: 21 | C27: Антимонов Роман Валерьевич | F27: 31.293752 | G27: 31.293752
B28: 23 | C28: Попов Сергей Станиславович | D28: 21.429919 | E28: 9.5610544 | F28: 0 | G28: 30.990974
B29: 27 | C29: Пустов Александр Вячеславович | D29: 11.795523 | F29: 14.315901 | G29: 26.111424
B30: 54 | C30: Смирнов Алексей Андреевич | E30: 0 | F30: 21.869328 | G30: 21.869328
B31: 25 | C31: Миклин Александр Рудольфович | D31: 0 | E31: 11.255411 | F31: 7.9595541 | G31: 19.214965
B32: 31 | C32: Виноградов Евгений Иванович | D32: 18.958552 | E32: 0 | F32: 0 | G32: 18.958552
B33: 34 | C33: Бурцев Александр Анатольевич | D33: 15.643778 | G33: 15.643778
B34: 28 | C34: Антонов Павел Евгеньевич | E34: 0 | F34: 15.076484 | G34: 15.076484
B35: 29 | C35: Исаев Кирилл Борисович | F35: 13.66878 | G35: 13.66878
B36: 35 | C36: Докучаев Владимир Александрович | D36: 11.341276 | G36: 11.341276
B37: 36 | C37: Березкин Анатолий Борисович | D37: 10.181693 | G37: 10.181693
B38: 30 | C38: Коноплев Владимир Анатольевич | F38: 10.137412 | G38: 10.137412
B39: 37 | C39: Мельников Виталий Александрович | D39: 9.7049728 | G39: 9.7049728
B40: 32 | C40: Колпачников Роман Леонидович | D40: 3.8041267 | E40: 5.1839827 | F40: 0 | G40: 8.9881094
B41: 33 | C41: Каменщикова Анна Викторовна | F41: 8.0295827 | G41: 8.0295827
B42: 50 | C42: Клапша Дмитрий Валерьевич | E42: 4.3939394 | F42: 0 | G42: 4.3939394
...

Sheet ДОСААФ 2015
B2: ФЕДЕРАЦИЯ ПОДВОДНОГО СПОРТА РОССИИ
B3: Всероссийские соревнования по подводному спорту на "Призы ДОСААФ России"(подводная охота)
B4: код спортивной дисциплины 1460231511Л
B5: 21 - 24 мая 2015 года | J5: г. Новороссийск
B7: Протокол расчета очков рейтинга
B11: № пп | C11: Старт. № | D11: Ф.И.О. Спортсмена | E11: Год рождения | F11: Спорт. Звание, разряд | G11: Сумма % за 2 дня | H11: РЧ (%) | I11: k сор. | J11: Очки рейтинга
E12: 0 | F12: 0 | H12: 50 | J12: ПП
B13: 1 | C13: 19 | D13: Сидоров Петр Александрович | E13: 1980 | F13: МС | G13: 190.96633 | H13: 50 | I13: 0.26182626 | J13: 50
B14: 2 | C14: 9 | D14: Бережной Сергей Владимирович | E14: 1970 | F14: КМС | G14: 138.15128 | H14: 50 | I14: 0.26182626 | J14: 36.171634
B15: 3 | C15: 26 | D15: Бабичев Александр Владимирович | E15: 1967 | F15: 1 | G15: 128.63713 | H15: 50 | I15: 0.26182626 | J15: 33.68058
B16: 4 | C16: 22 | D16: Арцимович Денис Леонидович | E16: 1974 | F16: 1 | G16: 119.52319 | H16: 50 | I16: 0.26182626 | J16: 31.294311
B17: 5 | C17: 24 | D17: Ченцов Сергей Юрьевич | E17: 1978 | F17: МС | G17: 110.97911 | H17: 50 | I17: 0.26182626 | J17: 29.057245
B18: 6 | C18: 25 | D18: Богатов Илья Александрович | E18: 1973 | F18: 1 | G18: 110.31851 | H18: 50 | I18: 0.26182626 | J18: 28.884283
B19: 7 | C19: 30 | D19: Лубягин Максим Григорьевич | E19: 1982 | F19: МС | G19: 84.047446 | H19: 50 | I19: 0.26182626 | J19: 22.005829
B20: 8 | C20: 20 | D20: Любецкий Дмитрий Александрович | E20: 1981 | F20: 1 | G20: 83.285055 | H20: 50 | I20: 0.26182626 | J20: 21.806215
B21: 9 | C21: 1 | D21: Пустов Александр Вячеславович | E21: 1983 | F21: КМС | G21: 53.608376 | H21: 50 | I21: 0.26182626 | J21: 14.036081
B22: 10 | C22: 16 | D22: Бурцев Александр Анатольевич | E22: 1984 | F22: МС | G22: 39.496107 | H22: 50 | I22: 0.26182626 | J22: 10.341118
B23: 11 | C23: 8 | D23: Маслов Олег Борисович | E23: 1970 | F23: КМС | G23: 32.740214 | H23: 50 | I23: 0.26182626 | J23: 8.5722477
B24: 12 | C24: 21 | D24: Фещенко Андрей Владимирович | E24: 1972 | F24: МС | G24: 28.196003 | H24: 50 | I24: 0.26182626 | J24: 7.3824541
B25: 13 | C25: 6 | D25: Костырев Александр Николаевич | E25: 1985 | F25: 1 | G25: 27.28153 | H25: 50 | I25: 0.26182626 | J25: 7.143021
B26: 14 | C26: 12 | D26: Громов Андрей Олегович | E26: 1984 | F26: 2 | G26: 27.112079 | H26: 50 | I26: 0.26182626 | J26: 7.0986544
B27: 15 | C27: 27 | D27: Сибгатуллин Илдар Искандерович | E27: 1985 | F27: 1 | G27: 26.870007 | H27: 50 | I27: 0.26182626 | J27: 7.0352735
B28: 16 | C28: 34 | D28: Виноградов Евгений Иванович | E28: 1964 | F28: КМС | G28: 24.618736 | H28: 50 | I28: 0.26182626 | J28: 6.4458317
B29: 17 | C29: 11 | D29: Кузнецов Роман Феликсович | E29: 1969 | F29: МС | G29: 7.1169208 | H29: 50 | I29: 0.26182626 | J29: 1.8633968
B30: 18 | C30: 2 | D30: Бармашов Игорь Викторович | E30: 1963 | F30: 2 | G30: 0 | H30: 50 | I30: 0.26182626 | J30: 0
B31: 19 | C31: 3 | D31: Широнин Николай Александрович | E31: 1962 | F31: 2 | G31: 0 | H31: 50 | I31: 0.26182626 | J31: 0
B32: 20 | C32: 4 | D32: Головизнин Сергей Геннадьевич | E32: 1964 | F32: 2 | G32: 0 | H32: 50 | I32: 0.26182626 | J32: 0
B33: 21 | C33: 5 | D33: Горохов Валерий Сергеевич | E33: 1975 | F33: МС | G33: 0 | H33: 50 | I33: 0.26182626 | J33: 0
B34: 22 | C34: 7 | D34: Клапша Дмитрий Валерьевич | F34: 1 | G34: 0 | H34: 50 | I34: 0.26182626 | J34: 0
B35: 23 | C35: 10 | D35: Громов Олег Леонидович | E35: 1962 | F35: 1 | G35: 0 | H35: 50 | I35: 0.26182626 | J35: 0
B36: 24 | C36: 13 | D36: Антонов Павел Евгеньевич | E36: 1962 | F36: МС | G36: 0 | H36: 50 | I36: 0.26182626 | J36: 0
B37: 25 | C37: 14 | D37: Смирнов Алексей Андреевич | E37: 1989 | F37: МС | G37: 0 | H37: 50 | I37: 0.26182626 | J37: 0
B38: 26 | C38: 15 | D38: Каменщикова Анна Викторовна | E38: 1989 | F38: КМС | G38: 0 | H38: 50 | I38: 0.26182626 | J38: 0
B39: 27 | C39: 17 | D39: Леонов Алексей Викторович | E39: 1971 | F39: 2 | G39: 0 | H39: 50 | I39: 0.26182626 | J39: 0
B40: 28 | C40: 18 | D40: Недальченко Иван Владимирович | E40: 1974 | F40: 1. | G40: 0 | H40: 50 | I40: 0.26182626 | J40: 0
B41: 29 | C41: 23 | D41: Антимонов Роман Валерьевич | E41: 1973 | F41: 1 | G41: 0 | H41: 50 | I41: 0.26182626 | J41: 0
B42: 30 | C42: 28 | D42: Переверзенцев Александр Сергеевич | E42: 1985 | F42: 1 | G42: 0 | H42: 50 | I42: 0.26182626 | J42: 0
B43: 31 | C43: 29 | D43: Попов Сергей Станиславович | E43: 1974 | F43: 1 | G43: 0 | H43: 50 | I43: 0.26182626 | J43: 0
B44: 32 | C44: 31 | D44: Курбатов Павел Валерьевич | E44: 1982 | F44: КМС | G44: 0 | H44: 50 | I44: 0.26182626 | J44: 0
B45: 33 | C45: 32 | D45: Зенин Андрей Михайлович | E45: 1963 | F45: МС | G45: 0 | H45: 50 | I45: 0.26182626 | J45: 0
...

Sheet КР 2015
B2: ФЕДЕРАЦИЯ ПОДВОДНОГО СПОРТА РОССИИ
B3: 4-й этап Кубка России по подводному спорту на (подводная охота)
B4: код спортивной дисциплины 1460231511Л
B5: 24 - 27 сентября 2015 года | J5: Республика Крым г. Судак
B7: Протокол расчета очков рейтинга
B11: № пп | C11: Старт. № | D11: Ф.И.О. Спортсмена | E11: Год рождения | F11: Спорт. Звание, разряд | G11: Сумма % за 2 дня | H11: РЧ (%) | I11: k сор. | J11: Очки рейтинга
E12: 0 | F12: 0 | H12: 75 | J12: ПП
B13: 1 | C13: 36 | D13: Петров Сергей Александрович | E13: 1978 | F13: 1 | G13: 151.01483 | H13: 75 | I13: 0.49663997 | J13: 75
B14: 2 | C14: 37 | D14: Петченко Роман Владимирович | E14: 1978 | F14: 1 | G14: 106.52175 | H14: 75 | I14: 0.49663997 | J14: 52.902958
B15: 4 | C15: 30 | D15: Сибгатуллин Илдар Искандерович | E15: 1985 | F15: 1 | G15: 100 | H15: 75 | I15: 0.49663997 | J15: 49.663997
B16: 3 | C16: 11 | D16: Кузнецов Максим Романович | E16: 1996 | F16: 1 | G16: 100 | H16: 75 | I16: 0.49663997 | J16: 49.663997
B17: 5 | C17: 38 | D17: Белинский Владимир Владимирович | E17: 1981 | F17: 1 | G17: 91.071852 | H17: 75 | I17: 0.49663997 | J17: 45.229922
B18: 6 | C18: 9 | D18: Кузнецов Роман Феликсович | E18: 1969 | F18: МС | G18: 83.577053 | H18: 75 | I18: 0.49663997 | J18: 41.507705
B19: 7 | C19: 25 | D19: Корягин Антон Геннадьевич | E19: 1980 | F19: 1. | G19: 65.879265 | H19: 75 | I19: 0.49663997 | J19: 32.718276
B20: 8 | C20: 18 | D20: Баранов Максим Симонович | E20: 1978 | F20: 1 | G20: 36.407949 | H20: 75 | I20: 0.49663997 | J20: 18.081643
B21: 9 | C21: 29 | D21: Бабичев Александр Владимирович | E21: 1967 | F21: 1 | G21: 32.081218 | H21: 75 | I21: 0.49663997 | J21: 15.932815
B22: 10 | C22: 31 | D22: Переверзенцев Александр Сергеевич | E22: 1985 | F22: 1 | G22: 30.408699 | H22: 75 | I22: 0.49663997 | J22: 15.102175
B23: 26 | C23: 17 | D23: Антимонов Роман Валерьевич | E23: 1973 | F23: 1 | G23: 0 | H23: 75 | I23: 0.49663997 | J23: 0
B24: 35 | C24: 28 | D24: Богатов Илья Александрович | E24: 1973 | F24: 1 | G24: 0 | H24: 75 | I24: 0.49663997 | J24: 0
B25: 21 | C25: 12 | D25: Громов Олег Леонидович | E25: 1962 | F25: 1 | G25: 0 | H25: 75 | I25: 0.49663997 | J25: 0
B26: 13 | C26: 2 | D26: Зенин Андрей Михайлович | E26: 1963 | F26: МС | G26: 0 | H26: 75 | I26: 0.49663997 | J26: 0
B27: 29 | C27: 21 | D27: Клапша Дмитрий Валерьевич | F27: 1 | G27: 0 | H27: 75 | I27: 0.49663997 | J27: 0
B28: 31 | C28: 23 | D28: Костырев Александр Николаевич | E28: 1985 | F28: 1 | G28: 0 | H28: 75 | I28: 0.49663997 | J28: 0
B29: 12 | C29: 1 | D29: Курбатов Павел Валерьевич | E29: 1982 | F29: МС | G29: 0 | H29: 75 | I29: 0.49663997 | J29: 0
B30: 25 | C30: 16 | D30: Лубягин Максим Григорьевич | E30: 1982 | F30: МС | G30: 0 | H30: 75 | I30: 0.49663997 | J30: 0
B31: 30 | C31: 22 | D31: Маслов Олег Борисович | E31: 1970 | F31: КМС | G31: 0 | H31: 75 | I31: 0.49663997 | J31: 0
B32: 14 | C32: 3 | D32: Подставкин Сергей Васильевич | E32: 1966 | F32: МС | G32: 0 | H32: 75 | I32: 0.49663997 | J32: 0
B33: 34 | C33: 27 | D33: Ченцов Сергей Юрьевич | E33: 1978 | F33: МС | G33: 0 | H33: 75 | I33: 0.49663997 | J33: 0
B34: 11 | C34: 35 | D34: Новиков Андрей Леонидович | E34: 1974. | F34: 1 | G34: 0 | H34: 75 | I34: 0.49663997 | J34: 0
B35: 15 | C35: 4 | D35: Рудницкий Андрей Иванович | E35: 1982 | F35: 1 | G35: 0 | H35: 75 | I35: 0.49663997 | J35: 0
B36: 16 | C36: 5 | D36: Катасонов Александр Геннадиевич | E36: 1982 | F36: 1 | G36: 0 | H36: 75 | I36: 0.49663997 | J36: 0
B37: 17 | C37: 6 | D37: Алексеев Дмитрий Владимирович | E37: 1981 | F37: 1 | G37: 0 | H37: 75 | I37: 0.49663997 | J37: 0
B38: 18 | C38: 7 | D38: Суховерхов Павел Александрович | E38: 1980 | F38: КМС | G38: 0 | H38: 75 | I38: 0.49663997 | J38: 0
B39: 19 | C39: 8 | D39: Титов Сергей Павлович | E39: 1980 | F39: МС | G39: 0 | H39: 75 | I39: 0.49663997 | J39: 0
B40: 20 | C40: 10 | D40: Колпачников Роман Леонидович | E40: 1977 | F40: МС | G40: 0 | H40: 75 | I40: 0.49663997 | J40: 0
B41: 22 | C41: 13 | D41: Докучаев Владимир Александрович | E41: 1958 | F41: МС | G41: 0 | H41: 75 | I41: 0.49663997 | J41: 0
B42: 23 | C42: 14 | D42: Исаков Александр Вячеславович | E42: 1975 | F42: 1 | G42: 0 | H42: 75 | I42: 0.49663997 | J42: 0
B43: 24 | C43: 15 | D43: Петров Денис Сергеевич | E43: 1975 | F43: 1 | G43: 0 | H43: 75 | I43: 0.49663997 | J43: 0
B44: 27 | C44: 19 | D44: Давыдов Денис Сергеевич | E44: 1982 | F44: 1 | G44: 0 | H44: 75 | I44: 0.49663997 | J44: 0
B45: 28 | C45: 20 | D45: Катасонов Михаил Вячеславович | E45: 1980 | F45: 1 | G45: 0 | H45: 75 | I45: 0.49663997 | J45: 0
...

Sheet ЧР 2015
B2: ФЕДЕРАЦИЯ ПОДВОДНОГО СПОРТА РОССИИ
B3: Чемпионат России по подводному спорту (подводная охота)
B4: код спортивной дисциплины 1460231511Л
B5: 01 - 04 октября 2015 года | J5: Республика Крым г. Судак
B7: Протокол расчета очков рейтинга
B11: № пп | C11: Старт. № | D11: Ф.И.О. Спортсмена | E11: Год рождения | F11: Спорт. Звание, разряд | G11: Сумма % за 2 дня | H11: РЧ (%) | I11: k сор. | J11: Очки рейтинга
E12: 0 | F12: 0 | H12: 100 | J12: ПП
B13: 1 | C13: 49 | D13: Кежелис Сергей Александрович | E13: 1984 | F13: 1 | G13: 125.31653 | H13: 100 | I13: 0.79797934 | J13: 100
B14: 3 | C14: 28 | D14: Богатов Илья Александрович | E14: 1973 | F14: 1 | G14: 100 | H14: 100 | I14: 0.79797934 | J14: 79.797934
B15: 2 | C15: 16 | D15: Лубягин Максим Григорьевич | E15: 1982 | F15: МС | G15: 100 | H15: 100 | I15: 0.79797934 | J15: 79.797934
B16: 4 | C16: 47 | D16: Рачков Роман Евгеньевич | E16: 1978 | F16: 1 | G16: 75.43526 | H16: 100 | I16: 0.79797934 | J16: 60.195779
B17: 5 | C17: 23 | D17: Костырев Александр Николаевич | E17: 1985 | F17: 1 | G17: 67.163635 | H17: 100 | I17: 0.79797934 | J17: 53.595193
B18: 6 | C18: 36 | D18: Петров Сергей Александрович | E18: 1978 | F18: 1 | G18: 59.77931 | H18: 100 | I18: 0.79797934 | J18: 47.702654
B19: 7 | C19: 25 | D19: Корягин Антон Геннадьевич | E19: 1980 | F19: 1. | G19: 49.892389 | H19: 100 | I19: 0.79797934 | J19: 39.813096
B20: 8 | C20: 22 | D20: Маслов Олег Борисович | E20: 1970 | F20: КМС | G20: 45.324622 | H20: 100 | I20: 0.79797934 | J20: 36.168112
B21: 9 | C21: 29 | D21: Бабичев Александр Владимирович | E21: 1967 | F21: 1 | G21: 43.936301 | H21: 100 | I21: 0.79797934 | J21: 35.06026
B22: 10 | C22: 41 | D22: Пустов Александр Вячеславович | E22: 1983 | F22: КМС | G22: 42.711798 | H22: 100 | I22: 0.79797934 | J22: 34.083132
B23: 11 | C23: 24 | D23: Анашкин Дмитрий Валентинович | E23: 1974 | F23: КМС | G23: 39.771335 | H23: 100 | I23: 0.79797934 | J23: 31.736704
B24: 12 | C24: 9 | D24: Кузнецов Роман Феликсович | E24: 1969 | F24: МС | G24: 37.389943 | H24: 100 | I24: 0.79797934 | J24: 29.836402
B25: 13 | C25: 31 | D25: Переверзенцев Александр Сергеевич | E25: 1985 | F25: 1 | G25: 36.68558 | H25: 100 | I25: 0.79797934 | J25: 29.274335
B26: 14 | C26: 38 | D26: Белинский Владимир Владимирович | E26: 1981 | F26: 1 | G26: 34.865975 | H26: 100 | I26: 0.79797934 | J26: 27.822328
B27: 15 | C27: 50 | D27: Бельтюков Виктор Викторович | E27: 1983 | F27: 1 | G27: 33.261593 | H27: 100 | I27: 0.79797934 | J27: 26.542064
B28: 16 | C28: 27 | D28: Ченцов Сергей Юрьевич | E28: 1978 | F28: МС | G28: 19.389552 | H28: 100 | I28: 0.79797934 | J28: 15.472462
B29: 17 | C29: 21 | D29: Клапша Дмитрий Валерьевич | F29: 1 | G29: 18.078654 | H29: 100 | I29: 0.79797934 | J29: 14.426392
B30: 18 | C30: 37 | D30: Петченко Роман Владимирович | E30: 1978 | F30: 1 | G30: 16.161221 | H30: 100 | I30: 0.79797934 | J30: 12.89632
B31: 24 | C31: 6 | D31: Алексеев Дмитрий Владимирович | E31: 1981 | F31: 1 | G31: 0 | H31: 100 | I31: 0.79797934 | J31: 0
B32: 32 | C32: 17 | D32: Антимонов Роман Валерьевич | E32: 1973 | F32: 1 | G32: 0 | H32: 100 | I32: 0.79797934 | J32: 0
B33: 49 | C33: 48 | D33: Арцимович Денис Леонидович | E33: 1974 | F33: МС | G33: 0 | H33: 100 | I33: 0.79797934 | J33: 0
B34: 33 | C34: 18 | D34: Баранов Максим Симонович | E34: 1978 | F34: 1 | G34: 0 | H34: 100 | I34: 0.79797934 | J34: 0
B35: 43 | C35: 40 | D35: Бармашов Игорь Викторович | E35: 1963 | F35: 1 | G35: 0 | H35: 100 | I35: 0.79797934 | J35: 0
B36: 29 | C36: 12 | D36: Громов Олег Леонидович | E36: 1962 | F36: 1 | G36: 0 | H36: 100 | I36: 0.79797934 | J36: 0
B37: 34 | C37: 19 | D37: Давыдов Денис Сергеевич | E37: 1982 | F37: 1 | G37: 0 | H37: 100 | I37: 0.79797934 | J37: 0
B38: 40 | C38: 34 | D38: Затешилов Алексей Геннадиевич | E38: 1971 | F38: 1 | G38: 0 | H38: 100 | I38: 0.79797934 | J38: 0
B39: 20 | C39: 2 | D39: Зенин Андрей Михайлович | E39: 1963 | F39: МС | G39: 0 | H39: 100 | I39: 0.79797934 | J39: 0
B40: 42 | C40: 39 | D40: Иванов Юрий Александрович | E40: 1978 | F40: 1 | G40: 0 | H40: 100 | I40: 0.79797934 | J40: 0
B41: 23 | C41: 5 | D41: Катасонов Александр Геннадиевич | E41: 1982 | F41: 1 | G41: 0 | H41: 100 | I41: 0.79797934 | J41: 0
B42: 35 | C42: 20 | D42: Катасонов Михаил Вячеславович | E42: 1980 | F42: 1 | G42: 0 | H42: 100 | I42: 0.79797934 | J42: 0
B43: 27 | C43: 10 | D43: Колпачников Роман Леонидович | E43: 1977 | F43: МС | G43: 0 | H43: 100 | I43: 0.79797934 | J43: 0
B44: 38 | C44: 32 | D44: Коровников Сергей Валерьевич | E44: 1982 | F44: 1 | G44: 0 | H44: 100 | I44: 0.79797934 | J44: 0
B45: 28 | C45: 11 | D45: Кузнецов Максим Романович | E45: 1996 | F45: 1 | G45: 0 | H45: 100 | I45: 0.79797934 | J45: 0
...

Sheet Отборочный рейтинг 2015
B2: ФЕДЕРАЦИЯ ПОДВОДНОГО СПОРТА РОССИИ
B4: код спортивной дисциплины 1460231511Л
B7: Протокол расчета очков рейтинга за 2015 г.
B11: № пп | C11: Ф.И.О. Спортсмена | D11: Год рождения | E11: Спорт. Звание, разряд | F11: ДОСААФ 2015 | G11: КР 2015 | H11: ЧР 2015 | I11: Сумма ПП | J11: k рейтинга | K11: Очки рейтинга 2015
D12: 0 | E12: 0 | F12: ПП | G12: ПП | H12: ПП
B13: 1 | C13: Петров Сергей Александрович | D13: 1978 | E13: 1 | G13: 75 | H13: 47.702654 | I13: 122.70265 | J13: 0.81497829 | K13: 100
B14: 2 | C14: Богатов Илья Александрович | D14: 1973 | E14: 1 | F14: 28.884283 | G14: 0 | H14: 79.797934 | I14: 108.68222 | J14: 0.81497829 | K14: 88.573648
B15: 3 | C15: Лубягин Максим Григорьевич | D15: 1982 | E15: МС | F15: 22.005829 | G15: 0 | H15: 79.797934 | I15: 101.80376 | J15: 0.81497829 | K15: 82.967857
B16: 4 | C16: Кежелис Сергей Александрович | D16: 1984 | E16: 1 | H16: 100 | I16: 100 | J16: 0.81497829 | K16: 81.497829
B17: 5 | C17: Бабичев Александр Владимирович | D17: 1967 | E17: 1 | F17: 33.68058 | G17: 15.932815 | H17: 35.06026 | I17: 84.673655 | J17: 0.81497829 | K17: 69.007191
B18: 6 | C18: Кузнецов Роман Феликсович | D18: 1969 | E18: МС | F18: 1.8633968 | G18: 41.507705 | H18: 29.836402 | I18: 73.207504 | J18: 0.81497829 | K18: 59.662527
B19: 7 | C19: Белинский Владимир Владимирович | D19: 1981 | E19: 1 | G19: 45.229922 | H19: 27.822328 | I19: 73.05225 | J19: 0.81497829 | K19: 59.535998
B20: 8 | C20: Корягин Антон Геннадьевич | D20: 1980 | E20: 1. | G20: 32.718276 | H20: 39.813096 | I20: 72.531372 | J20: 0.81497829 | K20: 59.111494
B21: 9 | C21: Петченко Роман Владимирович | D21: 1978 | E21: 1 | G21: 52.902958 | H21: 12.89632 | I21: 65.799278 | J21: 0.81497829 | K21: 53.624984
B22: 10 | C22: Костырев Александр Николаевич | D22: 1985 | E22: 1 | F22: 7.143021 | G22: 0 | H22: 53.595193 | I22: 60.738214 | J22: 0.81497829 | K22: 49.500326
B23: 11 | C23: Рачков Роман Евгеньевич | D23: 1978 | E23: 1 | H23: 60.195779 | I23: 60.195779 | J23: 0.81497829 | K23: 49.058253
B24: 12 | C24: Сибгатуллин Илдар Искандерович | D24: 1985 | E24: 1 | F24: 7.0352735 | G24: 49.663997 | H24: 0 | I24: 56.699271 | J24: 0.81497829 | K24: 46.208675
B25: 13 | C25: Сидоров Петр Александрович | D25: 1980 | E25: МС | F25: 50 | I25: 50 | J25: 0.81497829 | K25: 40.748915
B26: 14 | C26: Кузнецов Максим Романович | D26: 1996 | E26: 1 | G26: 49.663997 | H26: 0 | I26: 49.663997 | J26: 0.81497829 | K26: 40.47508
B27: 15 | C27: Пустов Александр Вячеславович | D27: 1983 | E27: КМС | F27: 14.036081 | H27: 34.083132 | I27: 48.119213 | J27: 0.81497829 | K27: 39.216114
B28: 16 | C28: Маслов Олег Борисович | D28: 1970 | E28: КМС | F28: 8.5722477 | G28: 0 | H28: 36.168112 | I28: 44.74036 | J28: 0.81497829 | K28: 36.462422
B29: 17 | C29: Ченцов Сергей Юрьевич | D29: 1978 | E29: МС | F29: 29.057245 | G29: 0 | H29: 15.472462 | I29: 44.529707 | J29: 0.81497829 | K29: 36.290744
B30: 18 | C30: Переверзенцев Александр Сергеевич | D30: 1985 | E30: 1 | F30: 0 | G30: 15.102175 | H30: 29.274335 | I30: 44.37651 | J30: 0.81497829 | K30: 36.165893
B31: 19 | C31: Бережной Сергей Владимирович | D31: 1970 | E31: КМС | F31: 36.171634 | I31: 36.171634 | J31: 0.81497829 | K31: 29.479097
B32: 20 | C32: Анашкин Дмитрий Валентинович | D32: 1974 | E32: КМС | G32: 0 | H32: 31.736704 | I32: 31.736704 | J32: 0.81497829 | K32: 25.864725
B33: 21 | C33: Арцимович Денис Леонидович | D33: 1974 | E33: 1 | F33: 31.294311 | H33: 0 | I33: 31.294311 | J33: 0.81497829 | K33: 25.504184
B34: 22 | C34: Бельтюков Виктор Викторович | D34: 1983 | E34: 1 | H34: 26.542064 | I34: 26.542064 | J34: 0.81497829 | K34: 21.631206
B35: 23 | C35: Любецкий Дмитрий Александрович | D35: 1981 | E35: 1 | F35: 21.806215 | I35: 21.806215 | J35: 0.81497829 | K35: 17.771592
B36: 24 | C36: Баранов Максим Симонович | D36: 1978 | E36: 1 | G36: 18.081643 | H36: 0 | I36: 18.081643 | J36: 0.81497829 | K36: 14.736146
B37: 25 | C37: Клапша Дмитрий Валерьевич | E37: 1 | F37: 0 | G37: 0 | H37: 14.426392 | I37: 14.426392 | J37: 0.81497829 | K37: 11.757197
B38: 26 | C38: Бурцев Александр Анатольевич | D38: 1984 | E38: МС | F38: 10.341118 | I38: 10.341118 | J38: 0.81497829 | K38: 8.4277867
B39: 27 | C39: Фещенко Андрей Владимирович | D39: 1972 | E39: МС | F39: 7.3824541 | I39: 7.3824541 | J39: 0.81497829 | K39: 6.0165399
B40: 28 | C40: Громов Андрей Олегович | D40: 1984 | E40: 2 | F40: 7.0986544 | I40: 7.0986544 | J40: 0.81497829 | K40: 5.7852492
B41: 29 | C41: Виноградов Евгений Иванович | D41: 1964 | E41: КМС | F41: 6.4458317 | I41: 6.4458317 | J41: 0.81497829 | K41: 5.2532129
B42: 30 | C42: Бармашов Игорь Викторович | D42: 1963 | E42: 2 | F42: 0 | H42: 0 | I42: 0 | J42: 0.81497829 | K42: 0
B43: 31 | C43: Широнин Николай Александрович | D43: 1962 | E43: 2 | F43: 0 | I43: 0 | J43: 0.81497829 | K43: 0
B44: 32 | C44: Головизнин Сергей Геннадьевич | D44: 1964 | E44: 2 | F44: 0 | I44: 0 | J44: 0.81497829 | K44: 0
B45: 33 | C45: Горохов Валерий Сергеевич | D45: 1975 | E45: МС | F45: 0 | I45: 0 | J45: 0.81497829 | K45: 0
B46: 34 | C46: Громов Олег Леонидович | D46: 1962 | E46: 1 | F46: 0 | G46: 0 | H46: 0 | I46: 0 | J46: 0.81497829 | K46: 0
B47: 35 | C47: Антонов Павел Евгеньевич | D47: 1962 | E47: МС | F47: 0 | I47: 0 | J47: 0.81497829 | K47: 0
...

Sheet Отборочный рейтинг 2016
B2: ФЕДЕРАЦИЯ ПОДВОДНОГО СПОРТА РОССИИ
B4: код спортивной дисциплины 1460231511Л
B7: Протокол расчета очков отборочного рейтинга 2016 г.
B11: № пп | C11: Ф.И.О. Спортсмена | D11: Год рождения | E11: Спорт. Звание, разряд | F11: Очки рейтинга 2015 | G11: ЧР 2016 | H11: ВС 2016 | I11: Очки отборочного рейтинга 2016
D12: 0 | E12: 0
B13: 1 | C13: Ченцов Сергей Юрьевич | D13: 1978 | E13: МС | F13: 36.290744 | G13: =VLOOKUP(C13,'ЧР 2016'!$D$13:$J$61,7,FALSE) -> 100 | I13: =F13+G13+H13 -> 136.29074
B14: 2 | C14: Кежелис Сергей Александрович | D14: 1984 | E14: 1 | F14: 81.497829 | G14: =VLOOKUP(C14,'ЧР 2016'!$D$13:$J$61,7,FALSE) -> 41.060141 | I14: =F14+G14+H14 -> 122.55797
B15: 3 | C15: Левский Дмитрий Евгеньевич | G15: =VLOOKUP(C15,'ЧР 2016'!$D$13:$J$61,7,FALSE) -> 64.566409 | H15: =VLOOKUP(C15,'ВС Новоросийск 2016'!$D$13:$J$47,7,FALSE) -> 44.437519 | I15: =F15+G15+H15 -> 109.00393
B16: 4 | C16: Сизов Алексей Владимирович | G16: =VLOOKUP(C16,'ЧР 2016'!$D$13:$J$61,7,FALSE) -> 66.321674 | H16: =VLOOKUP(C16,'ВС Новоросийск 2016'!$D$13:$J$47,7,FALSE) -> 42.314522 | I16: =F16+G16+H16 -> 108.6362
B17: 5 | C17: Богатов Илья Александрович | D17: 1973 | E17: 1 | F17: 88.573648 | G17: =VLOOKUP(C17,'ЧР 2016'!$D$13:$J$61,7,FALSE) -> 0 | H17: =VLOOKUP(C17,'ВС Новоросийск 2016'!$D$13:$J$47,7,FALSE) -> 14.579363 | I17: =F17+G17+H17 -> 103.15301
B18: 6 | C18: Петров Сергей Александрович | D18: 1978 | E18: 1 | F18: 100 | G18: =VLOOKUP(C18,'ЧР 2016'!$D$13:$J$61,7,FALSE) -> 0 | I18: =F18+G18+H18 -> 100
B19: 7 | C19: Сидоров Петр Александрович | D19: 1980 | E19: МС | F19: 40.748915 | G19: =VLOOKUP(C19,'ЧР 2016'!$D$13:$J$61,7,FALSE) -> 50.364328 | H19: =VLOOKUP(C19,'ВС Новоросийск 2016'!$D$13:$J$47,7,FALSE) -> 0 | I19: =F19+G19+H19 -> 91.113243
B20: 8 | C20: Бабичев Александр Владимирович | D20: 1967 | E20: 1 | F20: 69.007191 | G20: =VLOOKUP(C20,'ЧР 2016'!$D$13:$J$61,7,FALSE) -> 5.2161944 | H20: =VLOOKUP(C20,'ВС Новоросийск 2016'!$D$13:$J$47,7,FALSE) -> 13.939348 | I20: =F20+G20+H20 -> 88.162734
B21: 9 | C21: Лубягин Максим Григорьевич | D21: 1982 | E21: МС | F21: 82.967857 | I21: =F21+G21+H21 -> 82.967857
B22: 10 | C22: Пустов Александр Вячеславович | D22: 1983 | E22: КМС | F22: 39.216114 | G22: =VLOOKUP(C22,'ЧР 2016'!$D$13:$J$61,7,FALSE) -> 16.165316 | H22: =VLOOKUP(C22,'ВС Новоросийск 2016'!$D$13:$J$47,7,FALSE) -> 26.245576 | I22: =F22+G22+H22 -> 81.627006
B23: 11 | C23: Сибгатуллин Илдар Искандерович | D23: 1985 | E23: 1 | F23: 46.208675 | G23: =VLOOKUP(C23,'ЧР 2016'!$D$13:$J$61,7,FALSE) -> 26.828119 | H23: =VLOOKUP(C23,'ВС Новоросийск 2016'!$D$13:$J$47,7,FALSE) -> 7.8584244 | I23: =F23+G23+H23 -> 80.895218
B24: 12 | C24: Корягин Антон Геннадьевич | D24: 1980 | E24: 1. | F24: 59.111494 | G24: =VLOOKUP(C24,'ЧР 2016'!$D$13:$J$61,7,FALSE) -> 17.97905 | H24: =VLOOKUP(C24,'ВС Новоросийск 2016'!$D$13:$J$47,7,FALSE) -> 0 | I24: =F24+G24+H24 -> 77.090544
B25: 13 | C25: Любецкий Дмитрий Александрович | D25: 1981 | E25: 1 | F25: 17.771592 | G25: =VLOOKUP(C25,'ЧР 2016'!$D$13:$J$61,7,FALSE) -> 9.2830052 | H25: =VLOOKUP(C25,'ВС Новоросийск 2016'!$D$13:$J$47,7,FALSE) -> 50 | I25: =F25+G25+H25 -> 77.054597
B26: 14 | C26: Петченко Роман Владимирович | D26: 1978 | E26: 1 | F26: 53.624984 | G26: =VLOOKUP(C26,'ЧР 2016'!$D$13:$J$61,7,FALSE) -> 22.139908 | I26: =F26+G26+H26 -> 75.764891
B27: 15 | C27: Цветов Михаил Викторович | G27: =VLOOKUP(C27,'ЧР 2016'!$D$13:$J$61,7,FALSE) -> 54.74045 | H27: =VLOOKUP(C27,'ВС Новоросийск 2016'!$D$13:$J$47,7,FALSE) -> 16.251435 | I27: =F27+G27+H27 -> 70.991885
B28: 16 | C28: Кузнецов Роман Феликсович | D28: 1969 | E28: МС | F28: 59.662527 | G28: =VLOOKUP(C28,'ЧР 2016'!$D$13:$J$61,7,FALSE) -> 10.796794 | H28: =VLOOKUP(C28,'ВС Новоросийск 2016'!$D$13:$J$47,7,FALSE) -> 0 | I28: =F28+G28+H28 -> 70.45932
B29: 17 | C29: Перевезенцев Александр Сергеевич | D29: 1985 | E29: 1 | F29: 36.165893 | G29: =VLOOKUP(C29,'ЧР 2016'!$D$13:$J$61,7,FALSE) -> 12.410586 | H29: =VLOOKUP(C29,'ВС Новоросийск 2016'!$D$13:$J$47,7,FALSE) -> 17.247482 | I29: =F29+G29+H29 -> 65.823961
B30: 18 | C30: Мещанюк Олег Юрьевич | G30: =VLOOKUP(C30,'ЧР 2016'!$D$13:$J$61,7,FALSE) -> 32.68585 | H30: =VLOOKUP(C30,'ВС Новоросийск 2016'!$D$13:$J$47,7,FALSE) -> 28.65505 | I30: =F30+G30+H30 -> 61.340901
B31: 19 | C31: Белинский Владимир Владимирович | D31: 1981 | E31: 1 | F31: 59.535998 | G31: =VLOOKUP(C31,'ЧР 2016'!$D$13:$J$61,7,FALSE) -> 0 | I31: =F31+G31+H31 -> 59.535998
B32: 20 | C32: Рачков Роман Евгеньевич | D32: 1978 | E32: 1 | F32: 49.058253 | G32: =VLOOKUP(C32,'ЧР 2016'!$D$13:$J$61,7,FALSE) -> 0 | H32: =VLOOKUP(C32,'ВС Новоросийск 2016'!$D$13:$J$47,7,FALSE) -> 2.7712637 | I32: =F32+G32+H32 -> 51.829517
B33: 21 | C33: Костырев Александр Николаевич | D33: 1985 | E33: 1 | F33: 49.500326 | I33: =F33+G33+H33 -> 49.500326
B34: 22 | C34: Кузнецов Максим Романович | D34: 1996 | E34: 1 | F34: 40.47508 | I34: =F34+G34+H34 -> 40.47508
B35: 23 | C35: Маслов Олег Борисович | D35: 1970 | E35: КМС | F35: 36.462422 | I35: =F35+G35+H35 -> 36.462422
B36: 24 | C36: Горохов Валерий Сергеевич | D36: 1975 | E36: МС | F36: 0 | G36: =VLOOKUP(C36,'ЧР 2016'!$D$13:$J$61,7,FALSE) -> 18.268015 | H36: =VLOOKUP(C36,'ВС Новоросийск 2016'!$D$13:$J$47,7,FALSE) -> 14.838007 | I36: =F36+G36+H36 -> 33.106022
B37: 25 | C37: Исаев Кирилл Борисович | G37: =VLOOKUP(C37,'ЧР 2016'!$D$13:$J$61,7,FALSE) -> 23.824797 | H37: =VLOOKUP(C37,'ВС Новоросийск 2016'!$D$13:$J$47,7,FALSE) -> 7.5142935 | I37: =F37+G37+H37 -> 31.339091
B38: 26 | C38: Докучаев Владимир Александрович | D38: 1958 | E38: МС | F38: -0.19053625 | G38: =VLOOKUP(C38,'ЧР 2016'!$D$13:$J$61,7,FALSE) -> 30.63703 | I38: =F38+G38+H38 -> 30.446494
B39: 27 | C39: Бережной Сергей Владимирович | D39: 1970 | E39: КМС | F39: 29.479097 | G39: =VLOOKUP(C39,'ЧР 2016'!$D$13:$J$61,7,FALSE) -> 0 | I39: =F39+G39+H39 -> 29.479097
B40: 28 | C40: Паутов Виктор Викторович | G40: =VLOOKUP(C40,'ЧР 2016'!$D$13:$J$61,7,FALSE) -> 21.291249 | H40: =VLOOKUP(C40,'ВС Новоросийск 2016'!$D$13:$J$47,7,FALSE) -> 7.7184863 | I40: =F40+G40+H40 -> 29.009735
B41: 29 | C41: Попов Сергей Станиславович | D41: 1974 | E41: 1 | F41: 0 | G41: =VLOOKUP(C41,'ЧР 2016'!$D$13:$J$61,7,FALSE) -> 27.076976 | I41: =F41+G41+H41 -> 27.076976
B42: 30 | C42: Стаценко Вячеслав Викторович | G42: =VLOOKUP(C42,'ЧР 2016'!$D$13:$J$61,7,FALSE) -> 20.698193 | H42: =VLOOKUP(C42,'ВС Новоросийск 2016'!$D$13:$J$47,7,FALSE) -> 6.0408296 | I42: =F42+G42+H42 -> 26.739022
B43: 31 | C43: Анашкин Дмитрий Валентинович | D43: 1974 | E43: КМС | F43: 25.864725 | I43: =F43+G43+H43 -> 25.864725
B44: 32 | C44: Арцимович Денис Леонидович | D44: 1974 | E44: 1 | F44: 25.504184 | I44: =F44+G44+H44 -> 25.504184
B45: 33 | C45: Клапша Дмитрий Валерьевич | E45: 1 | F45: 11.757197 | G45: =VLOOKUP(C45,'ЧР 2016'!$D$13:$J$61,7,FALSE) -> 12.208777 | H45: =VLOOKUP(C45,'ВС Новоросийск 2016'!$D$13:$J$47,7,FALSE) -> 0 | I45: =F45+G45+H45 -> 23.965974
B46: 34 | C46: Бельтюков Виктор Викторович | D46: 1983 | E46: 1 | F46: 21.631206 | I46: =F46+G46+H46 -> 21.631206
B47: 35 | C47: Смирнов Алексей Андреевич | D47: 1989 | E47: МС | F47: 0 | G47: =VLOOKUP(C47,'ЧР 2016'!$D$13:$J$61,7,FALSE) -> 20.592933 | H47: =VLOOKUP(C47,'ВС Новоросийск 2016'!$D$13:$J$47,7,FALSE) -> 0 | I47: =F47+G47+H47 -> 20.592933
...

Sheet Рейтинг 2016
B2: ФЕДЕРАЦИЯ ПОДВОДНОГО СПОРТА РОССИИ
B4: код спортивной дисциплины 1460231511Л
B7: Протокол расчета очков рейтинга 2016 г.
B9: № пп | C9: Ф.И.О. Спортсмена | D9: Год рождения | E9: Спорт. Звание, разряд | F9: ЧР 2016 | G9: ВС Новороссийск 2016 | H9: ВС Крым 2016 | I9: КР 2016 | J9: Сумма ПП | K9: k рейтинга | L9: Очки рейтинга 2016
F10: ПП | G10: ПП | H10: ПП | I10: ПП
D11: 0 | E11: 0 | F11: 100 | G11: 50 | H11: 50 | I11: 75 | K11: =100/J12 -> 0.91739813
B12: 1 | C12: Левский Дмитрий Евгеньевич | F12: =VLOOKUP(C12,'ЧР 2016'!$D$13:$J$61,7,FALSE) -> 64.566409 | G12: =VLOOKUP(C12,'ВС Новоросийск 2016'!$D$13:$J$47,7,FALSE) -> 44.437519 | J12: =F12+G12+H12+I12 -> 109.00393 | K12: =$K$11 -> 0.91739813 | L12: =J12*K12 -> 100
B13: 2 | C13: Сизов Алексей Владимирович | F13: =VLOOKUP(C13,'ЧР 2016'!$D$13:$J$61,7,FALSE) -> 66.321674 | G13: =VLOOKUP(C13,'ВС Новоросийск 2016'!$D$13:$J$47,7,FALSE) -> 42.314522 | J13: =F13+G13+H13+I13 -> 108.6362 | K13: =$K$11 -> 0.91739813 | L13: =J13*K13 -> 99.662643
B14: 3 | C14: Ченцов Сергей Юрьевич | D14: 1978 | E14: МС | F14: =VLOOKUP(C14,'ЧР 2016'!$D$13:$J$61,7,FALSE) -> 100 | J14: =F14+G14+H14+I14 -> 100 | K14: =$K$11 -> 0.91739813 | L14: =J14*K14 -> 91.739813
B15: 4 | C15: Корягин Антон Геннадьевич | D15: 1980 | E15: 1. | F15: =VLOOKUP(C15,'ЧР 2016'!$D$13:$J$61,7,FALSE) -> 17.97905 | G15: =VLOOKUP(C15,'ВС Новоросийск 2016'!$D$13:$J$47,7,FALSE) -> 0 | H15: =VLOOKUP(C15,'Крым 2016'!$D$18:$N$42,11,FALSE) -> 0 | I15: =VLOOKUP(C15,'КР 2016'!$D$18:$N$32,11,FALSE) -> 75 | J15: =F15+G15+H15+I15 -> 92.97905 | K15: =$K$11 -> 0.91739813 | L15: =J15*K15 -> 85.298807
B16: 5 | C16: Кежелис Сергей Александрович | D16: 1984 | E16: 1 | F16: =VLOOKUP(C16,'ЧР 2016'!$D$13:$J$61,7,FALSE) -> 41.060141 | H16: =VLOOKUP(C16,'Крым 2016'!$D$18:$N$42,11,FALSE) -> 50 | J16: =F16+G16+H16+I16 -> 91.060141 | K16: =$K$11 -> 0.91739813 | L16: =J16*K16 -> 83.538403
B17: 6 | C17: Мещанюк Олег Юрьевич | F17: =VLOOKUP(C17,'ЧР 2016'!$D$13:$J$61,7,FALSE) -> 32.68585 | G17: =VLOOKUP(C17,'ВС Новоросийск 2016'!$D$13:$J$47,7,FALSE) -> 28.65505 | H17: =VLOOKUP(C17,'Крым 2016'!$D$18:$N$42,11,FALSE) -> 0 | I17: =VLOOKUP(C17,'КР 2016'!$D$18:$N$32,11,FALSE) -> 16.177963 | J17: =F17+G17+H17+I17 -> 77.518864 | K17: =$K$11 -> 0.91739813 | L17: =J17*K17 -> 71.115661
B18: 7 | C18: Цветов Михаил Викторович | F18: =VLOOKUP(C18,'ЧР 2016'!$D$13:$J$61,7,FALSE) -> 54.74045 | G18: =VLOOKUP(C18,'ВС Новоросийск 2016'!$D$13:$J$47,7,FALSE) -> 16.251435 | J18: =F18+G18+H18+I18 -> 70.991885 | K18: =$K$11 -> 0.91739813 | L18: =J18*K18 -> 65.127823
B19: 8 | C19: Петченко Роман Владимирович | D19: 1978 | E19: 1 | F19: =VLOOKUP(C19,'ЧР 2016'!$D$13:$J$61,7,FALSE) -> 22.139908 | H19: =VLOOKUP(C19,'Крым 2016'!$D$18:$N$42,11,FALSE) -> 38.172121 | J19: =F19+G19+H19+I19 -> 60.312029 | K19: =$K$11 -> 0.91739813 | L19: =J19*K19 -> 55.330143
B20: 9 | C20: Любецкий Дмитрий Александрович | D20: 1981 | E20: 1 | F20: =VLOOKUP(C20,'ЧР 2016'!$D$13:$J$61,7,FALSE) -> 9.2830052 | G20: =VLOOKUP(C20,'ВС Новоросийск 2016'!$D$13:$J$47,7,FALSE) -> 50 | J20: =F20+G20+H20+I20 -> 59.283005 | K20: =$K$11 -> 0.91739813 | L20: =J20*K20 -> 54.386118
B21: 10 | C21: Колганов Юрий Валерьевич | D21: 1974 | E21: 1 | I21: =VLOOKUP(C21,'КР 2016'!$D$18:$N$32,11,FALSE) -> 57.69397 | J21: =F21+G21+H21+I21 -> 57.69397 | K21: =$K$11 -> 0.91739813 | L21: =J21*K21 -> 52.92834
B22: 11 | C22: Сидоров Петр Александрович | D22: 1980 | E22: МС | F22: =VLOOKUP(C22,'ЧР 2016'!$D$13:$J$61,7,FALSE) -> 50.364328 | G22: =VLOOKUP(C22,'ВС Новоросийск 2016'!$D$13:$J$47,7,FALSE) -> 0 | J22: =F22+G22+H22+I22 -> 50.364328 | K22: =$K$11 -> 0.91739813 | L22: =J22*K22 -> 46.204141
B23: 12 | C23: Пустов Александр Вячеславович | D23: 1983 | E23: КМС | F23: =VLOOKUP(C23,'ЧР 2016'!$D$13:$J$61,7,FALSE) -> 16.165316 | G23: =VLOOKUP(C23,'ВС Новоросийск 2016'!$D$13:$J$47,7,FALSE) -> 26.245576 | H23: =VLOOKUP(C23,'Крым 2016'!$D$18:$N$42,11,FALSE) -> 0 | J23: =F23+G23+H23+I23 -> 42.410892 | K23: =$K$11 -> 0.91739813 | L23: =J23*K23 -> 38.907673
B24: 13 | C24: Рачков Роман Евгеньевич | D24: 1978 | E24: 1 | F24: =VLOOKUP(C24,'ЧР 2016'!$D$13:$J$61,7,FALSE) -> 0 | G24: =VLOOKUP(C24,'ВС Новоросийск 2016'!$D$13:$J$47,7,FALSE) -> 2.7712637 | H24: =VLOOKUP(C24,'Крым 2016'!$D$18:$N$42,11,FALSE) -> 38.902524 | J24: =F24+G24+H24+I24 -> 41.673788 | K24: =$K$11 -> 0.91739813 | L24: =J24*K24 -> 38.231455
B25: 14 | C25: Сибгатуллин Илдар Искандерович | D25: 1985 | E25: 1 | F25: =VLOOKUP(C25,'ЧР 2016'!$D$13:$J$61,7,FALSE) -> 26.828119 | G25: =VLOOKUP(C25,'ВС Новоросийск 2016'!$D$13:$J$47,7,FALSE) -> 7.8584244 | J25: =F25+G25+H25+I25 -> 34.686544 | K25: =$K$11 -> 0.91739813 | L25: =J25*K25 -> 31.82137
B26: 15 | C26: Горохов Валерий Сергеевич | D26: 1975 | E26: МС | F26: =VLOOKUP(C26,'ЧР 2016'!$D$13:$J$61,7,FALSE) -> 18.268015 | G26: =VLOOKUP(C26,'ВС Новоросийск 2016'!$D$13:$J$47,7,FALSE) -> 14.838007 | J26: =F26+G26+H26+I26 -> 33.106022 | K26: =$K$11 -> 0.91739813 | L26: =J26*K26 -> 30.371403
B27: 16 | C27: Исаев Кирилл Борисович | F27: =VLOOKUP(C27,'ЧР 2016'!$D$13:$J$61,7,FALSE) -> 23.824797 | G27: =VLOOKUP(C27,'ВС Новоросийск 2016'!$D$13:$J$47,7,FALSE) -> 7.5142935 | H27: =VLOOKUP(C27,'Крым 2016'!$D$18:$N$42,11,FALSE) -> 0 | J27: =F27+G27+H27+I27 -> 31.339091 | K27: =$K$11 -> 0.91739813 | L27: =J27*K27 -> 28.750423
B28: 17 | C28: Белинский Владимир Владимирович | D28: 1981 | E28: 1 | F28: =VLOOKUP(C28,'ЧР 2016'!$D$13:$J$61,7,FALSE) -> 0 | H28: =VLOOKUP(C28,'Крым 2016'!$D$18:$N$42,11,FALSE) -> 31.269371 | J28: =F28+G28+H28+I28 -> 31.269371 | K28: =$K$11 -> 0.91739813 | L28: =J28*K28 -> 28.686462
B29: 18 | C29: Докучаев Владимир Александрович | D29: 1958 | E29: МС | F29: =VLOOKUP(C29,'ЧР 2016'!$D$13:$J$61,7,FALSE) -> 30.63703 | J29: =F29+G29+H29+I29 -> 30.63703 | K29: =$K$11 -> 0.91739813 | L29: =J29*K29 -> 28.106354
B30: 19 | C30: Петров Сергей Александрович | D30: 1978 | E30: 1 | F30: =VLOOKUP(C30,'ЧР 2016'!$D$13:$J$61,7,FALSE) -> 0 | H30: =VLOOKUP(C30,'Крым 2016'!$D$18:$N$42,11,FALSE) -> 30.36985 | J30: =F30+G30+H30+I30 -> 30.36985 | K30: =$K$11 -> 0.91739813 | L30: =J30*K30 -> 27.861244
B31: 20 | C31: Перевезенцев Александр Сергеевич | D31: 1985 | E31: 1 | F31: =VLOOKUP(C31,'ЧР 2016'!$D$13:$J$61,7,FALSE) -> 12.410586 | G31: =VLOOKUP(C31,'ВС Новоросийск 2016'!$D$13:$J$47,7,FALSE) -> 17.247482 | J31: =F31+G31+H31+I31 -> 29.658068 | K31: =$K$11 -> 0.91739813 | L31: =J31*K31 -> 27.208256
B32: 21 | C32: Паутов Виктор Викторович | F32: =VLOOKUP(C32,'ЧР 2016'!$D$13:$J$61,7,FALSE) -> 21.291249 | G32: =VLOOKUP(C32,'ВС Новоросийск 2016'!$D$13:$J$47,7,FALSE) -> 7.7184863 | J32: =F32+G32+H32+I32 -> 29.009735 | K32: =$K$11 -> 0.91739813 | L32: =J32*K32 -> 26.613477
B33: 22 | C33: Попов Сергей Станиславович | D33: 1974 | E33: 1 | F33: =VLOOKUP(C33,'ЧР 2016'!$D$13:$J$61,7,FALSE) -> 27.076976 | J33: =F33+G33+H33+I33 -> 27.076976 | K33: =$K$11 -> 0.91739813 | L33: =J33*K33 -> 24.840367
B34: 23 | C34: Стаценко Вячеслав Викторович | F34: =VLOOKUP(C34,'ЧР 2016'!$D$13:$J$61,7,FALSE) -> 20.698193 | G34: =VLOOKUP(C34,'ВС Новоросийск 2016'!$D$13:$J$47,7,FALSE) -> 6.0408296 | J34: =F34+G34+H34+I34 -> 26.739022 | K34: =$K$11 -> 0.91739813 | L34: =J34*K34 -> 24.530329
B35: 24 | C35: Черданцев Олег Геннадьевич | D35: 1973 | E35: 1 | I35: =VLOOKUP(C35,'КР 2016'!$D$18:$N$32,11,FALSE) -> 21.57147 | J35: =F35+G35+H35+I35 -> 21.57147 | K35: =$K$11 -> 0.91739813 | L35: =J35*K35 -> 19.789627
B36: 25 | C36: Кравченко Алексей Геральдович | D36: 1968 | E36: 1 | I36: =VLOOKUP(C36,'КР 2016'!$D$18:$N$32,11,FALSE) -> 20.775974 | J36: =F36+G36+H36+I36 -> 20.775974 | K36: =$K$11 -> 0.91739813 | L36: =J36*K36 -> 19.05984
B37: 26 | C37: Смирнов Алексей Андреевич | D37: 1989 | E37: МС | F37: =VLOOKUP(C37,'ЧР 2016'!$D$13:$J$61,7,FALSE) -> 20.592933 | G37: =VLOOKUP(C37,'ВС Новоросийск 2016'!$D$13:$J$47,7,FALSE) -> 0 | J37: =F37+G37+H37+I37 -> 20.592933 | K37: =$K$11 -> 0.91739813 | L37: =J37*K37 -> 18.891918
B38: 27 | C38: Бабичев Александр Владимирович | D38: 1967 | E38: 1 | F38: =VLOOKUP(C38,'ЧР 2016'!$D$13:$J$61,7,FALSE) -> 5.2161944 | G38: =VLOOKUP(C38,'ВС Новоросийск 2016'!$D$13:$J$47,7,FALSE) -> 13.939348 | J38: =F38+G38+H38+I38 -> 19.155542 | K38: =$K$11 -> 0.91739813 | L38: =J38*K38 -> 17.573259
B39: 28 | C39: Параничев Алексей Спартакович | D39: 1965 | E39: 2 | H39: =VLOOKUP(C39,'Крым 2016'!$D$18:$N$42,11,FALSE) -> 17.806354 | J39: =F39+G39+H39+I39 -> 17.806354 | K39: =$K$11 -> 0.91739813 | L39: =J39*K39 -> 16.335516
B40: 29 | C40: Иванов Юрий Александрович | D40: 1978 | E40: 1 | F40: =VLOOKUP(C40,'ЧР 2016'!$D$13:$J$61,7,FALSE) -> -7.8086743 | H40: =VLOOKUP(C40,'Крым 2016'!$D$18:$N$42,11,FALSE) -> 24.124993 | J40: =F40+G40+H40+I40 -> 16.316318 | K40: =$K$11 -> 0.91739813 | L40: =J40*K40 -> 14.96856
B41: 30 | C41: Осокин Сергей Леонидович | D41: 1972 | E41: 1 | I41: =VLOOKUP(C41,'КР 2016'!$D$18:$N$32,11,FALSE) -> 16.210288 | J41: =F41+G41+H41+I41 -> 16.210288 | K41: =$K$11 -> 0.91739813 | L41: =J41*K41 -> 14.871288
B42: 31 | C42: Богатов Илья Александрович | D42: 1973 | E42: 1 | F42: =VLOOKUP(C42,'ЧР 2016'!$D$13:$J$61,7,FALSE) -> 0 | G42: =VLOOKUP(C42,'ВС Новоросийск 2016'!$D$13:$J$47,7,FALSE) -> 14.579363 | J42: =F42+G42+H42+I42 -> 14.579363 | K42: =$K$11 -> 0.91739813 | L42: =J42*K42 -> 13.37508
