Workbook

Sheet Рейтинг 2013
B2: № пп | C2: Номер карточки | D2: ФИО | E2: Дата рождения | F2: Год рождения | G2: Субъект РФ | H2: Город | I2: ДОСААФ 2013 | J2: Кубок России 2013 | K2: Владивосток 2013 | L2: Чемпионат России 2013 | M2: Сумма 3х лучших выступлений | N2: k рейтинга | O2: Очки рейтинга 2013
B4: 1 | C4: 2617 | D4: Сидоров Петр Александрович | E4: 29390 | F4: 1980 | G4: Краснодарский край | H4: Новороссийск | I4: 50 | J4: 57.398654 | L4: 65.851824 | M4: 173.25048 | N4: 0.57719898 | O4: 100
B5: 2 | C5: 3202 | D5: Левский Дмитрий Евгеньевич | E5: 31151 | F5: 1985 | G5: Ярославская область | H5: Ярославль | I5: 31.649428 | J5: 75 | K5: 27.969865 | M5: 134.61929 | N5: 0.57719898 | O5: 77.702119
B6: 3 | C6: 3201 | D6: Цветов Михаил Викторович | E6: 25230 | F6: 1969 | G6: Ярославская область | H6: Ярославль | I6: 14.650596 | J6: 54.571105 | K6: 37.725875 | L6: 16.823367 | M6: 109.12035 | N6: 0.57719898 | O6: 62.984153
B7: 4 | C7: 3168 | D7: Фещенко Андрей Владимирович | E7: 26528 | F7: 1972 | G7: Краснодарский край | H7: Новороссийск | I7: 13.991229 | J7: 12.047629 | L7: 78.304963 | M7: 104.34382 | N7: 0.57719898 | O7: 60.227147
B8: 5 | C8: 2591 | D8: Уткин Александр Федорович | E8: 20951 | F8: 1957 | G8: Ярославская область | H8: Ярославль | I8: 13.522601 | J8: 38.795953 | K8: 47.178021 | L8: 17.91226 | M8: 103.88623 | N8: 0.57719898 | O8: 59.963029
B9: 6 | C9: 2614 | D9: Чукардин Алексей Владимирович | E9: 31630 | F9: 1986 | G9: Краснодарский край | H9: Новороссийск | L9: 100 | M9: 100 | N9: 0.57719898 | O9: 57.719898
B10: 7 | C10: 2618 | D10: Арцимович Денис Леонидович | E10: 27097 | F10: 1974 | G10: Краснодарский край | H10: Новороссийск | I10: 27.834582 | J10: 65.636475 | L10: 0 | M10: 93.471057 | N10: 0.57719898 | O10: 53.951399
B11: 8 | C11: 3232 | D11: Приймак Валерий Петрович | E11: 21204 | F11: 1958 | G11: Краснодарский край | H11: Новороссийск | I11: 35.224909 | J11: 0 | L11: 56.098235 | M11: 91.323144 | N11: 0.57719898 | O11: 52.711626
B12: 9 | C12: 1448 | D12: Турухано Андрей Борисович | E12: 26589 | F12: 1972 | G12: Санкт-Петербург | H12: Санкт-Петербург | I12: 0 | J12: 40.14299 | K12: 50 | M12: 90.14299 | N12: 0.57719898 | O12: 52.030442
B13: 10 | C13: 3227 | D13: Коваленко Юрий Иванович | E13: 26261 | F13: 1971 | G13: Краснодарский край | H13: Новороссийск | I13: 35.913937 | J13: 11.326349 | L13: 32.914758 | M13: 80.155044 | N13: 0.57719898 | O13: 46.26541
B14: 11 | C14: 1840 | D14: Лубягин Максим Григорьевич | E14: 30204 | F14: 1982 | G14: Волгоградская область | H14: Волгоград | I14: 24.996223 | J14: 49.660138 | M14: 74.65636 | N14: 0.57719898 | O14: 43.091575
B15: 12 | C15: 2592 | D15: Кузнецов Роман Феликсович | E15: 25242 | F15: 1969 | G15: Санкт-Петербург | H15: Санкт-Петербург | I15: 0 | J15: 48.120683 | L15: 21.289162 | M15: 69.409845 | N15: 0.57719898 | O15: 40.063292
B16: 13 | C16: 3203 | D16: Костырев Александр Николаевич | E16: 31062 | F16: 1985 | G16: Ярославская область | H16: Ярославль | I16: 0 | J16: 38.287493 | L16: 29.334336 | M16: 67.621829 | N16: 0.57719898 | O16: 39.031251
B17: 14 | C17: 2683 | D17: Ченцов Сергей Юрьевич | E17: 28737 | F17: 1978 | G17: Нижегородская область | H17: Н. Новгород | J17: 13.377489 | L17: 48.223094 | M17: 61.600583 | N17: 0.57719898 | O17: 35.555794
B18: 15 | C18: 3731 | D18: Любецкий Дмитрий Александрович | E18: 29874 | F18: 1981 | G18: Краснодарский край | H18: Новороссийск | I18: 5.6229192 | L18: 46.435031 | M18: 52.05795 | N18: 0.57719898 | O18: 30.047796
B19: 16 | C19: 3269 | D19: Сысоев Александр Борисович | E19: 26675 | F19: 1973 | G19: Ярославская область | H19: Ярославль | I19: 19.021328 | J19: 29.66514 | M19: 48.686467 | N19: 0.57719898 | O19: 28.10178
B20: 17 | C20: 2590 | D20: Горохов Валерий Сергеевич | E20: 27549 | F20: 1975 | G20: Ярославская область | H20: Ярославль | I20: 43.281757 | J20: 0 | L20: 0 | M20: 43.281757 | N20: 0.57719898 | O20: 24.982186
B21: 18 | C21: 2682 | D21: Богатов Илья Александрович | E21: 26821 | F21: 1973 | G21: Нижегородская область | H21: Дзержинск | J21: 27.825628 | L21: 10.016297 | M21: 37.841925 | N21: 0.57719898 | O21: 21.842321
B22: 19 | C22: 4183 | D22: Попов Сергей Станиславович | E22: 27042 | F22: 1974 | G22: Волгоградская область | H22: Волжский | I22: 0 | J22: 25.205663 | L22: 11.921775 | M22: 37.127438 | N22: 0.57719898 | O22: 21.429919
B23: 20 | C23: 4668 | D23: Коровников Сергей Валерьевич | E23: 30212 | F23: 1982 | G23: Нижегородская область | H23: Дзержинск | J23: 17.302688 | L23: 18.156963 | M23: 35.459652 | N23: 0.57719898 | O23: 20.467275
B24: 21 | C24: 3992 | D24: Виноградов Евгений Иванович | E24: 23487 | F24: 1964 | G24: Тверская область | H24: Тверь | I24: 0 | J24: 32.845781 | L24: 0 | M24: 32.845781 | N24: 0.57719898 | O24: 18.958552
B25: 22 | C25: 2250 | D25: Бурцев Александр Анатольевич | E25: 30840 | F25: 1984 | G25: Москва | H25: Москва | L25: 27.102921 | M25: 27.102921 | N25: 0.57719898 | O25: 15.643778
B26: 23 | C26: 3262 | D26: Барсов Валерий Владимирович | E26: 27066 | F26: 1974 | G26: Волгоградская область | H26: Волгоград | I26: 5.9627987 | J26: 21.13375 | L26: 0 | M26: 27.096549 | N26: 0.57719898 | O26: 15.640101
B27: 24 | C27: 2657 | D27: Краснов Егор Алексеевич | E27: 30231 | F27: 1982 | G27: Владимирская область | H27: Владимир | I27: 6.278827 | J27: 20.31681 | L27: 0 | M27: 26.595637 | N27: 0.57719898 | O27: 15.350975
B28: 25 | C28: 2601 | D28: Пустов Александр Вячеславович | E28: 30594 | F28: 1983 | G28: Владимирская область | H28: Владимир | I28: 14.092564 | L28: 6.3432368 | M28: 20.435801 | N28: 0.57719898 | O28: 11.795523
B29: 26 | C29: 3275 | D29: Докучаев Владимир Александрович | E29: 21325 | F29: 1958 | G29: Ленинградская область | H29: Кириши | M29: 19.648816 | N29: 0.57719898 | O29: 11.341276
B30: 27 | C30: 3923 | D30: Березкин Анатолий Борисович | E30: 26574 | F30: 1972 | G30: Владимирская область | H30: Владимир | I30: 6.324753 | J30: 11.315079 | L30: 0 | M30: 17.639832 | N30: 0.57719898 | O30: 10.181693
B31: 28 | C31: 2644 | D31: Мельников Виталий Александрович | E31: 27709 | F31: 1975 | G31: Оренбургская область | H31: Орск | I31: 0 | J31: 16.813912 | M31: 16.813912 | N31: 0.57719898 | O31: 9.7049728
B32: 29 | C32: 1841 | D32: Бережной Сергей Владимирович | E32: 25622 | F32: 1970 | G32: Волгоградская область | H32: Волгоград | I32: 0 | J32: 11.472859 | L32: 0 | M32: 11.472859 | N32: 0.57719898 | O32: 6.6221226
B33: 30 | C33: 3838 | D33: Васильев Артем Игоревич | E33: 26511 | F33: 1972 | G33: Ярославская область | H33: Ярославль | I33: 7.5787171 | J33: 0 | M33: 7.5787171 | N33: 0.57719898 | O33: 4.3744278
B34: 31 | C34: 2621 | D34: Липин Михаил Владимирович | E34: 23966 | F34: 1965 | G34: Ярославская область | H34: Ярославль | I34: 7.0852834 | M34: 7.0852834 | N34: 0.57719898 | O34: 4.0896184
B35: 32 | C35: 3820 | D35: Тимичев Владимир Анатольевич | E35: 22758 | F35: 1962 | G35: Нижегородская область | H35: Н. Новгород | I35: 7.0332813 | M35: 7.0332813 | N35: 0.57719898 | O35: 4.0596028
B36: 33 | C36: 2622 | D36: Тофоров Владимир Александрович | E36: 24564 | F36: 1967 | G36: Ярославская область | H36: Ярославль | I36: 6.6627665 | L36: 0 | M36: 6.6627665 | N36: 0.57719898 | O36: 3.8457421
B37: 34 | C37: 1554 | D37: Колпачников Роман Леонидович | E37: 28457 | F37: 1977 | G37: Санкт-Петербург | H37: Санкт-Петербург | I37: 0 | J37: 0 | L37: 6.5906677 | M37: 6.5906677 | N37: 0.57719898 | O37: 3.8041267
B38: 35 | C38: 3821 | D38: Бабичев Александр Владимирович | E38: 24761 | F38: 1967 | G38: Нижегородская область | H38: Н. Новгород | I38: 6.5197608 | J38: 0 | L38: 0 | M38: 6.5197608 | N38: 0.57719898 | O38: 3.7631993
B39: 36 | C39: 3991 | D39: Хайрулин Равиль Гамирович | E39: 24709 | F39: 1967 | G39: Ярославская область | K39: 0.88462161 | M39: 0.88462161 | N39: 0.57719898 | O39: 0.51060269
B40: 37 | C40: 2673 | D40: Агеев Александр Анатольевич | E40: 22824 | F40: 1962 | G40: Воронежская область | H40: Воронеж | L40: 0 | M40: 0 | N40: 0.57719898 | O40: 0
B41: 38 | C41: 3972 | D41: Болдырев Николай Владимирович | E41: 27337 | F41: 1974 | G41: Воронежская область | H41: Воронеж | L41: 0 | M41: 0 | N41: 0.57719898 | O41: 0
B42: 39 | C42: 3226 | D42: Гришин Алексей Фёдорович | E42: 18837 | F42: 1951 | G42: Краснодарский край | H42: Новороссийск | I42: 0 | M42: 0 | N42: 0.57719898 | O42: 0
B43: 40 | C43: 2600 | D43: Ерошин Дмитрий Александрович | E43: 28311 | F43: 1977 | G43: Владимирская область | H43: Владимир | I43: 0 | J43: 0 | M43: 0 | N43: 0.57719898 | O43: 0
B44: 41 | C44: 2675 | D44: Зенин Андрей Михайлович | E44: 23115 | F44: 1963 | G44: Воронежская область | H44: Воронеж | L44: 0 | M44: 0 | N44: 0.57719898 | O44: 0
B45: 42 | C45: 3819 | D45: Комлев Степан Геннадьевич | E45: 27762 | F45: 1976 | G45: Нижегородская область | H45: Н. Новгород | I45: 0 | M45: 0 | N45: 0.57719898 | O45: 0
B46: 43 | C46: 2832 | D46: Кузнецов Максим Романович | E46: 35097 | F46: 1996 | G46: Санкт-Петербург | H46: Санкт-Петербург | I46: 0 | J46: 0 | L46: 0 | M46: 0 | N46: 0.57719898 | O46: 0
B47: 44 | C47: 2594 | D47: Курбатов Павел Валерьевич | E47: 30215 | F47: 1982 | G47: Воронежская область | H47: Воронеж | L47: 0 | M47: 0 | N47: 0.57719898 | O47: 0
B48: 45 | C48: 3193 | D48: Маслов Олег Борисович | E48: 25796 | F48: 1970 | G48: Ярославская область | H48: Ярославль | J48: 0 | K48: 0 | M48: 0 | N48: 0.57719898 | O48: 0
B49: 46 | C49: 3708 | D49: Миклин Александр Рудольфович | E49: 13.04.1984 | F49: 1984 | G49: Псковская область | H49: Псков | I49: 0 | J49: -4.0731375 | M49: 0 | N49: 0.57719898 | O49: 0
B50: 47 | C50: 3926 | D50: Петров Денис Сергеевич | E50: 27727 | F50: 1975 | G50: Ленинградская область | H50: Кириши | J50: 0 | M50: 0 | N50: 0.57719898 | O50: 0
B51: 48 | C51: 2674 | D51: Подставкин Сергей Васильевич | E51: 24234 | F51: 1966 | G51: Воронежская область | H51: Воронеж | L51: 0 | M51: 0 | N51: 0.57719898 | O51: 0
B52: 49 | C52: 3905 | D52: Семёнов Александр Игоревич | E52: 30820 | F52: 1984 | G52: Краснодарский край | H52: Новороссийск | I52: 0 | M52: 0 | N52: 0.57719898 | O52: 0
B53: 50 | C53: 1439 | D53: Титов Сергей Павлович | E53: 29493 | F53: 1980 | G53: Санкт-Петербург | H53: Санкт-Петербург | I53: 0 | J53: 0 | M53: 0 | N53: 0.57719898 | O53: 0

Sheet ДОСААФ 2014
B2: ФЕДЕРАЦИЯ ПОДВОДНОГО СПОРТА РОССИИ
B3: Всероссийские соревнования "Кубок ДОСААФ России по подводной охоте"
B4: код спортивной дисциплины 1460231511Л
B5: 01-03 мая 2014 | N5: г. Новороссийск
B7: Протокол расчета очков рейтинга
B11: № пп | C11: Старт. № | D11: Ф.И.О. Спортсмена | E11: Год рождения | F11: Спорт. Звание, разряд | G11: Постоянная состовляющая | H11: Переменная составляющая (Сумма % за 2 дня) | I11: Сумма состовляющих | K11: Сумма % за 2дня | L11: РЧ (%) | M11: k сор. | N11: Очки рейтинга
E12: 0 | F12: 0 | K12: 0 | L12: 50 | N12: ПП
L17: 50 | M17: 0.35010823
B18: 1 | C18: 1 | D18: Ченцов Сергей Юрьевич | E18: 1978 | F18: МС | H18: 142.81298 | I18: 142.81298 | J18: 142.81298 | K18: 142.81298 | L18: 50 | M18: 0.35010823 | N18: 50
B19: 2 | C19: 14 | D19: Уткин Александр Федорович | E19: 1957 | F19: МС | H19: 132.95184 | I19: 132.95184 | J19: 132.95184 | K19: 132.95184 | L19: 50 | M19: 0.35010823 | N19: 46.547531
B20: 3 | C20: 25 | D20: Сидоров Петр Александрович | E20: 1980 | F20: МС | H20: 123.64298 | I20: 123.64298 | J20: 123.64298 | K20: 123.64298 | L20: 50 | M20: 0.35010823 | N20: 43.288424
B21: 4 | C21: 30 | D21: Арцимович Денис Леонидович | E21: 1974 | F21: 1 | H21: 100.29473 | I21: 100.29473 | J21: 100.29473 | K21: 100.29473 | L21: 50 | M21: 0.35010823 | N21: 35.114011
B22: 5 | C22: 4 | D22: Богатов Илья Александрович | E22: 1973 | F22: 2 | H22: 46.018121 | I22: 46.018121 | J22: 46.018121 | K22: 46.018121 | L22: 50 | M22: 0.35010823 | N22: 16.111323
B23: 6 | C23: 26 | D23: Фещенко Андрей Владимирович | E23: 1972 | F23: МС | H23: 39.707519 | I23: 39.707519 | J23: 39.707519 | K23: 39.707519 | L23: 50 | M23: 0.35010823 | N23: 13.901929
B24: 7 | C24: 12 | D24: Горохов Валерий Сергеевич | E24: 1975 | F24: МС | H24: 37.001546 | I24: 37.001546 | J24: 37.001546 | K24: 37.001546 | L24: 50 | M24: 0.35010823 | N24: 12.954545
B25: 8 | C25: 32 | D25: Лубягин Максим Григорьевич | E25: 1982 | F25: МС | H25: 35.876649 | I25: 35.876649 | J25: 35.876649 | K25: 35.876649 | L25: 50 | M25: 0.35010823 | N25: 12.56071
B26: 9 | C26: 22 | D26: Любецкий Дмитрий Александрович | E26: 1981 | F26: 2 | H26: 32.51932 | I26: 32.51932 | J26: 32.51932 | K26: 32.51932 | L26: 50 | M26: 0.35010823 | N26: 11.385281
B27: 10 | C27: 13 | D27: Цветов Михаил Викторович | E27: 1969 | F27: МС | H27: 32.272025 | I27: 32.272025 | J27: 32.272025 | K27: 32.272025 | L27: 50 | M27: 0.35010823 | N27: 11.298701
B28: 11 | C28: 6 | D28: Миклин Александр Рудольфович | E28: 1984 | F28: МС | H28: 32.148377 | I28: 32.148377 | J28: 32.148377 | K28: 32.148377 | L28: 50 | M28: 0.35010823 | N28: 11.255411
B29: 12 | C29: 10 | D29: Костырев Александр Николаевич | E29: 1985 | F29: 1 | H29: 31.764148 | I29: 31.764148 | J29: 31.764148 | K29: 31.764148 | L29: 50 | M29: 0.35010823 | N29: 11.120889
B30: 13 | C30: 21 | D30: Попов Сергей Станиславович | E30: 1974 | F30: 1 | H30: 27.308854 | I30: 27.308854 | J30: 27.308854 | K30: 27.308854 | L30: 50 | M30: 0.35010823 | N30: 9.5610544
B31: 14 | C31: 20 | D31: Бережной Сергей Владимирович | E31: 1970 | F31: 1 | H31: 19.599428 | I31: 19.599428 | J31: 19.599428 | K31: 19.599428 | L31: 50 | M31: 0.35010823 | N31: 6.8619209
B32: 15 | C32: 23 | D32: Приймак Валерий Петрович | E32: 1958 | F32: МС | H32: 18.343666 | I32: 18.343666 | J32: 18.343666 | K32: 18.343666 | L32: 50 | M32: 0.35010823 | N32: 6.4222682
B33: 16 | C33: 24 | D33: Чукардин Алексей Владимирович | E33: 1986 | F33: МС | H33: 15.768558 | I33: 15.768558 | J33: 15.768558 | K33: 15.768558 | L33: 50 | M33: 0.35010823 | N33: 5.5207019
B34: 17 | C34: 18 | D34: Колпачников Роман Леонидович | E34: 1977 | F34: МС | H34: 14.806801 | I34: 14.806801 | J34: 14.806801 | K34: 14.806801 | L34: 50 | M34: 0.35010823 | N34: 5.1839827
B35: 18 | C35: 11 | D35: Клапша Дмитрий Валерьевич | H35: 12.550232 | I35: 12.550232 | J35: 0 | K35: 12.550232 | L35: 50 | M35: 0.35010823 | N35: 4.3939394
B36: 20 | C36: 3 | D36: Бабичев Александр Владимирович | E36: 1967 | F36: 2 | H36: 0 | I36: 0 | J36: 0 | K36: 0 | L36: 50 | M36: 0.35010823 | N36: 0
B37: 28 | C37: 19 | D37: Барсов Валерий Владимирович | E37: 1974 | F37: 1 | H37: 0 | I37: 0 | J37: 0 | K37: 0 | L37: 50 | M37: 0.35010823 | N37: 0
B38: 29 | C38: 27 | D38: Виноградов Евгений Иванович | E38: 1964 | F38: КМС | H38: 0 | I38: 0 | J38: 0 | K38: 0 | L38: 50 | M38: 0.35010823 | N38: 0
B39: 19 | C39: 2 | D39: Коровников Сергей Валерьевич | E39: 1982 | F39: 2 | H39: 0 | I39: 0 | J39: 0 | K39: 0 | L39: 50 | M39: 0.35010823 | N39: 0
B40: 26 | C40: 16 | D40: Кузнецов Максим Романович | E40: 1996 | F40: 2 | H40: 0 | I40: 0 | J40: 0 | K40: 0 | L40: 50 | M40: 0.35010823 | N40: 0
B41: 27 | C41: 17 | D41: Кузнецов Роман Феликсович | E41: 1969 | F41: МС | H41: 0 | I41: 0 | J41: 0 | K41: 0 | L41: 50 | M41: 0.35010823 | N41: 0
B42: 35 | C42: 35 | D42: Курбатов Павел Валерьевич | E42: 1982 | F42: 1 | H42: 0 | I42: 0 | J42: 0 | K42: 0 | L42: 50 | M42: 0.35010823 | N42: 0
B43: 25 | C43: 15 | D43: Левский Дмитрий Евгеньевич | E43: 1985 | F43: КМС | H43: 0 | I43: 0 | J43: 0 | K43: 0 | L43: 50 | M43: 0.35010823 | N43: 0
B44: 21 | C44: 5 | D44: Полянский Сергей Геннадьевич | E44: 1965 | F44: 1 | H44: 0 | I44: 0 | J44: 0 | K44: 0 | L44: 50 | M44: 0.35010823 | N44: 0
B45: 22 | C45: 7 | D45: Головизнин Сергей Геннадьевич | E45: 1964 | H45: 0 | I45: 0 | J45: 0 | K45: 0 | L45: 50 | M45: 0.35010823 | N45: 0
B46: 23 | C46: 8 | D46: Широнин Николай Александрович | E46: 1962 | H46: 0 | I46: 0 | J46: 0 | K46: 0 | L46: 50 | M46: 0.35010823 | N46: 0
B47: 24 | C47: 9 | D47: Чекалин Евгений Александрович | E47: 1978 | H47: 0 | I47: 0 | J47: 0 | K47: 0 | L47: 50 | M47: 0.35010823 | N47: 0
B48: 30 | C48: 28 | D48: Антонов Павел Евгеньевич | E48: 1962 | H48: 0 | I48: 0 | J48: 0 | K48: 0 | L48: 50 | M48: 0.35010823 | N48: 0
B49: 31 | C49: 29 | D49: Смирнов Алексей Андреевич | H49: 0 | I49: 0 | J49: 0 | K49: 0 | L49: 50 | M49: 0.35010823 | N49: 0
B50: 32 | C50: 31 | D50: Абдурахманов Али Талятович | E50: 1982 | H50: 0 | I50: 0 | J50: 0 | K50: 0 | L50: 50 | M50: 0.35010823 | N50: 0
B51: 33 | C51: 33 | D51: Зайков Дмитрий Александрович | E51: 1980 | H51: 0 | I51: 0 | J51: 0 | K51: 0 | L51: 50 | M51: 0.35010823 | N51: 0
B52: 34 | C52: 34 | D52: Белобоков Сергей Борисович | E52: 1981 | H52: 0 | I52: 0 | J52: 0 | K52: 0 | L52: 50 | M52: 0.35010823 | N52: 0
B53: 36 | C53: 36 | D53: Баранов Максим Симонович | E53: 1978 | H53: 0 | I53: 0 | J53: 0 | K53: 0 | L53: 50 | M53: 0.35010823 | N53: 0
B54: 37 | J54: 0 | K54: 142.81298 | L54: 50 | M54: 0.35010823
B55: 38 | J55: 0 | K55: 142.81298 | L55: 50 | M55: 0.35010823
B56: 39 | J56: 0 | K56: 142.81298 | L56: 50 | M56: 0.35010823
B57: 40 | J57: 0 | K57: 142.81298 | L57: 50 | M57: 0.35010823
B58: 41 | J58: 0 | K58: 142.81298 | L58: 50 | M58: 0.35010823
B59: 42 | J59: 0 | K59: 142.81298 | L59: 50 | M59: 0.35010823
B60: 43 | J60: 0 | K60: 142.81298 | L60: 50 | M60: 0.35010823
B61: 44 | J61: 0 | K61: 142.81298 | L61: 50 | M61: 0.35010823
B62: 45 | J62: 0 | K62: 142.81298 | L62: 50 | M62: 0.35010823
B63: 46 | J63: 0 | K63: 142.81298 | L63: 50 | M63: 0.35010823
B64: 47 | J64: 0 | K64: 142.81298 | L64: 50 | M64: 0.35010823
B65: 48 | J65: 0 | K65: 142.81298 | L65: 50 | M65: 0.35010823
... B117: 100 | J117: 0 | K117: 142.81298 | L117: 50 | M117: 0.35010823

Sheet ЧР 2014
B2: ФЕДЕРАЦИЯ ПОДВОДНОГО СПОРТА РОССИИ
B3: Чемпионат России по подводному спорту(подводная охота)
B4: код спортивной дисциплины 1460231511Л
B5: 08-11 мая 2014 | N5: г. Новороссийск
B7: Протокол расчета очков рейтинга
B11: № пп | C11: Старт. № | D11: Ф.И.О. Спортсмена | E11: Год рождения | F11: Спорт. Звание, разряд | G11: Постоянная состовляющая | H11: Переменная составляющая (Сумма % за 2 дня) | I11: Сумма состовляющих | J11: Сумма % за 2дня | L11: РЧ (%) | M11: k сор. | N11: Очки рейтинга
E12: 0 | F12: 0 | J12: 0 | L12: 100 | N12: ПП
B13: 1 | C13: 40 | D13: Сидоров Петр Александрович | E13: 1980 | F13: МС | H13: 200 | I13: 200 | J13: 200 | K13: 200 | L13: 100 | M13: 0.5 | N13: 100
B14: 2 | C14: 33 | D14: Левский Дмитрий Евгеньевич | E14: 1985 | F14: КМС | H14: 168.7689 | I14: 168.7689 | J14: 168.7689 | K14: 200 | L14: 100 | M14: 0.5 | N14: 84.384451
B15: 3 | C15: 20 | D15: Турухано Андрей Борисович | E15: 1972 | F15: МС | H15: 139.6693 | I15: 139.6693 | J15: 139.6693 | K15: 200 | L15: 100 | M15: 0.5 | N15: 69.83465
B16: 4 | C16: 1 | D16: Ченцов Сергей Юрьевич | E16: 1978 | F16: МС | H16: 120.24439 | I16: 120.24439 | J16: 120.24439 | K16: 200 | L16: 100 | M16: 0.5 | N16: 60.122193
B17: 5 | C17: 28 | D17: Приймак Валерий Петрович | E17: 1958 | F17: МС | H17: 118.36358 | I17: 118.36358 | J17: 118.36358 | K17: 200 | L17: 100 | M17: 0.5 | N17: 59.181788
B18: 6 | C18: 30 | D18: Бережной Сергей Владимирович | E18: 1970 | F18: 1 | H18: 118.22226 | I18: 118.22226 | J18: 118.22226 | K18: 200 | L18: 100 | M18: 0.5 | N18: 59.11113
B19: 7 | C19: 37 | D19: Фещенко Андрей Владимирович | E19: 1972 | F19: МС | H19: 112.00529 | I19: 112.00529 | J19: 112.00529 | K19: 200 | L19: 100 | M19: 0.5 | N19: 56.002643
B20: 8 | C20: 21 | D20: Горохов Валерий Сергеевич | E20: 1975 | F20: МС | H20: 111.86627 | I20: 111.86627 | J20: 111.86627 | K20: 200 | L20: 100 | M20: 0.5 | N20: 55.933134
B21: 9 | C21: 15 | D21: Цветов Михаил Викторович | E21: 1969 | F21: МС | H21: 107.05967 | I21: 107.05967 | J21: 107.05967 | K21: 200 | L21: 100 | M21: 0.5 | N21: 53.529833
B22: 10 | C22: 19 | D22: Уткин Александр Федорович | E22: 1957 | F22: МС | H22: 100.27053 | I22: 100.27053 | J22: 100.27053 | K22: 200 | L22: 100 | M22: 0.5 | N22: 50.135264
B23: 11 | C23: 16 | D23: Курбатов Павел Валерьевич | E23: 1982 | F23: 1 | H23: 99.466342 | I23: 99.466342 | J23: 99.466342 | K23: 200 | L23: 100 | M23: 0.5 | N23: 49.733171
B24: 12 | C24: 17 | D24: Сысоев Александр Борисович | E24: 1973 | F24: МС | H24: 75.299067 | I24: 75.299067 | J24: 75.299067 | K24: 200 | L24: 100 | M24: 0.5 | N24: 37.649533
B25: 13 | C25: 29 | D25: Краснов Егор Алексеевич | E25: 1982 | F25: 2 | H25: 65.738195 | I25: 65.738195 | J25: 65.738195 | K25: 200 | L25: 100 | M25: 0.5 | N25: 32.869098
B26: 14 | C26: 12 | D26: Кузнецов Роман Феликсович | E26: 1969 | F26: МС | H26: 63.499916 | I26: 63.499916 | J26: 63.499916 | K26: 200 | L26: 100 | M26: 0.5 | N26: 31.749958
B27: 15 | C27: 10 | D27: Антимонов Роман Валерьевич | E27: 1973 | F27: 1 | H27: 62.587503 | I27: 62.587503 | J27: 62.587503 | K27: 200 | L27: 100 | M27: 0.5 | N27: 31.293752
B28: 16 | C28: 2 | D28: Богатов Илья Александрович | E28: 1973 | F28: 2 | H28: 60.487425 | I28: 60.487425 | J28: 60.487425 | K28: 200 | L28: 100 | M28: 0.5 | N28: 30.243713
B29: 17 | C29: 44 | D29: Чукардин Алексей Владимирович | E29: 1986 | F29: МС | H29: 59.528131 | I29: 59.528131 | J29: 59.528131 | K29: 200 | L29: 100 | M29: 0.5 | N29: 29.764065
B30: 18 | C30: 34 | D30: Смирнов Алексей Андреевич | H30: 43.738657 | I30: 43.738657 | J30: 0 | K30: 200 | L30: 100 | M30: 0.5 | N30: 21.869328
B31: 19 | C31: 31 | D31: Барсов Валерий Владимирович | E31: 1974 | F31: 1 | H31: 34.363444 | I31: 34.363444 | J31: 34.363444 | K31: 200 | L31: 100 | M31: 0.5 | N31: 17.181722
B32: 20 | C32: 39 | D32: Лубягин Максим Григорьевич | E32: 1982 | F32: МС | H32: 34.204966 | I32: 34.204966 | J32: 34.204966 | K32: 200 | L32: 100 | M32: 0.5 | N32: 17.102483
B33: 21 | C33: 36 | D33: Антонов Павел Евгеньевич | E33: 1962 | H33: 30.152969 | I33: 30.152969 | J33: 30.152969 | K33: 200 | L33: 100 | M33: 0.5 | N33: 15.076484
B34: 22 | C34: 25 | D34: Пустов Александр Вячеславович | E34: 1983 | F34: КМС | H34: 28.631801 | I34: 28.631801 | J34: 28.631801 | K34: 200 | L34: 100 | M34: 0.5 | N34: 14.315901
B35: 23 | C35: 45 | D35: Арцимович Денис Леонидович | E35: 1974 | F35: 1 | H35: 28.341257 | I35: 28.341257 | J35: 28.341257 | K35: 200 | L35: 100 | M35: 0.5 | N35: 14.170629
B36: 24 | C36: 4 | D36: Коровников Сергей Валерьевич | E36: 1982 | F36: 2 | H36: 27.971474 | I36: 27.971474 | J36: 27.971474 | K36: 200 | L36: 100 | M36: 0.5 | N36: 13.985737
B37: 25 | C37: 26 | D37: Исаев Кирилл Борисович | E37: 1986 | H37: 27.337559 | I37: 27.337559 | J37: 27.337559 | K37: 200 | L37: 100 | M37: 0.5 | N37: 13.66878
B38: 26 | C38: 38 | D38: Любецкий Дмитрий Александрович | E38: 1981 | F38: 2 | H38: 27.284733 | I38: 27.284733 | J38: 27.284733 | K38: 200 | L38: 100 | M38: 0.5 | N38: 13.642367
B39: 27 | C39: 9 | D39: Коноплев Владимир Анатольевич | E39: 1969 | F39: 2 | H39: 20.274825 | I39: 20.274825 | J39: 20.274825 | K39: 200 | L39: 100 | M39: 0.5 | N39: 10.137412
B40: 28 | C40: 35 | D40: Каменщикова Анна Викторовна | E40: 1989 | F40: КМС | H40: 16.059165 | I40: 16.059165 | J40: 16.059165 | K40: 200 | L40: 100 | M40: 0.5 | N40: 8.0295827
B41: 29 | C41: 8 | D41: Миклин Александр Рудольфович | E41: 1984 | F41: МС | H41: 15.919108 | I41: 15.919108 | J41: 15.919108 | K41: 200 | L41: 100 | M41: 0.5 | N41: 7.9595541
B42: 30 | C42: 3 | D42: Бабичев Александр Владимирович | E42: 1967 | F42: 2 | H42: 0 | I42: 0 | J42: 0 | K42: 200 | L42: 100 | M42: 0.5 | N42: 0
B43: 33 | C43: 11 | D43: Баранов Максим Симонович | E43: 1978 | F43: 2 | H43: 0 | I43: 0 | J43: 0 | K43: 200 | L43: 100 | M43: 0.5 | N43: 0
B44: 31 | C44: 6 | D44: Белобоков Сергей Борисович | E44: 1981 | H44: 0 | I44: 0 | J44: 0 | K44: 200 | L44: 100 | M44: 0.5 | N44: 0
B45: 43 | C45: 42 | D45: Виноградов Евгений Иванович | E45: 1964 | F45: КМС | H45: 0 | I45: 0 | J45: 0 | K45: 200 | L45: 100 | M45: 0.5 | N45: 0
B46: 32 | C46: 7 | D46: Зайков Дмитрий Александрович | E46: 1980 | H46: 0 | I46: 0 | J46: 0 | K46: 200 | L46: 100 | M46: 0.5 | N46: 0
B47: 37 | C47: 22 | D47: Клапша Дмитрий Валерьевич | H47: 0 | I47: 0 | J47: 0 | K47: 200 | L47: 100 | M47: 0.5 | N47: 0
B48: 39 | C48: 24 | D48: Коваленко Юрий Иванович | E48: 1971 | F48: КМС | H48: 0 | I48: 0 | J48: 0 | K48: 200 | L48: 100 | M48: 0.5 | N48: 0
B49: 34 | C49: 13 | D49: Колпачников Роман Леонидович | E49: 1977 | F49: МС | H49: 0 | I49: 0 | J49: 0 | K49: 200 | L49: 100 | M49: 0.5 | N49: 0
B50: 36 | C50: 18 | D50: Костырев Александр Николаевич | E50: 1985 | F50: 1 | H50: 0 | I50: 0 | J50: 0 | K50: 200 | L50: 100 | M50: 0.5 | N50: 0
B51: 35 | C51: 14 | D51: Кузнецов Максим Романович | E51: 1996 | F51: 2 | H51: 0 | I51: 0 | J51: 0 | K51: 200 | L51: 100 | M51: 0.5 | N51: 0
B52: 38 | C52: 23 | D52: Липин Михаил Владимирович | E52: 1965 | F52: КМС | H52: 0 | I52: 0 | J52: 0 | K52: 200 | L52: 100 | M52: 0.5 | N52: 0
B53: 41 | C53: 32 | D53: Попов Сергей Станиславович | E53: 1974 | F53: 1 | H53: 0 | I53: 0 | J53: 0 | K53: 200 | L53: 100 | M53: 0.5 | N53: 0
B54: 40 | C54: 27 | D54: Бармашов Игорь Викторович | E54: 1963 | H54: 0 | I54: 0 | J54: 0 | K54: 200 | L54: 100 | M54: 0.5 | N54: 0
B55: 42 | C55: 41 | D55: Поздняков Сергей Евгеньевич | E55: 1970 | F55: 1 | H55: 0 | I55: 0 | J55: 0 | K55: 200 | L55: 100 | M55: 0.5 | N55: 0
B56: 44 | C56: 43 | D56: Кочегаров Евгений Николаевич | E56: 1964 | F56: 1 | H56: 0 | I56: 0 | J56: 0 | K56: 200 | L56: 100 | M56: 0.5 | N56: 0
B57: 45 | C57: 46 | D57: Тереньтев Андрей Валерьевич | E57: 1972 | H57: 0 | I57: 0 | J57: 0 | K57: 200 | L57: 100 | M57: 0.5 | N57: 0
B58: 46 | C58: 5 | D58: Полянский Сергей Геннадьевич | E58: 1965 | F58: 1 | H58: -6.6032752 | I58: -6.6032752 | J58: -6.6032752 | K58: 200 | L58: 100 | M58: 0.5 | N58: -3.3016376

Sheet Отборочный Рейтинг 2014
B2: № пп | C2: ФИО | D2: Очки рейтинга 2013 | E2: ДОСААФ 2014 | F2: Чемпионат России 2014 | G2: Очки отборочного рейтинга 2014
B4: 1 | C4: Сидоров Петр Александрович | D4: 100 | E4: 43.288424 | F4: 100 | G4: 243.28842
B5: 2 | C5: Левский Дмитрий Евгеньевич | D5: 77.702119 | E5: 0 | F5: 84.384451 | G5: 162.08657
B6: 3 | C6: Уткин Александр Федорович | D6: 59.963029 | E6: 46.547531 | F6: 50.135264 | G6: 156.64582
B7: 4 | C7: Ченцов Сергей Юрьевич | D7: 35.555794 | E7: 50 | F7: 60.122193 | G7: 145.67799
B8: 5 | C8: Фещенко Андрей Владимирович | D8: 60.227147 | E8: 13.901929 | F8: 56.002643 | G8: 130.13172
B9: 6 | C9: Цветов Михаил Викторович | D9: 62.984153 | E9: 11.298701 | F9: 53.529833 | G9: 127.81269
B10: 7 | C10: Турухано Андрей Борисович | D10: 52.030442 | F10: 69.83465 | G10: 121.86509
B11: 8 | C11: Приймак Валерий Петрович | D11: 52.711626 | E11: 6.4222682 | F11: 59.181788 | G11: 118.31568
B12: 9 | C12: Арцимович Денис Леонидович | D12: 53.951399 | E12: 35.114011 | F12: 14.170629 | G12: 103.23604
B13: 10 | C13: Горохов Валерий Сергеевич | D13: 24.982186 | E13: 12.954545 | F13: 55.933134 | G13: 93.869866
B14: 12 | C14: Чукардин Алексей Владимирович | D14: 57.719898 | E14: 5.5207019 | F14: 29.764065 | G14: 93.004666
B15: 14 | C15: Лубягин Максим Григорьевич | D15: 43.091575 | E15: 12.56071 | F15: 17.102483 | G15: 72.754768
B16: 11 | C16: Бережной Сергей Владимирович | D16: 6.6221226 | E16: 6.8619209 | F16: 59.11113 | G16: 72.595173
B17: 15 | C17: Кузнецов Роман Феликсович | D17: 40.063292 | E17: 0 | F17: 31.749958 | G17: 71.81325
B18: 13 | C18: Богатов Илья Александрович | D18: 21.842321 | E18: 16.111323 | F18: 30.243713 | G18: 68.197356
B19: 16 | C19: Сысоев Александр Борисович | D19: 28.10178 | F19: 37.649533 | G19: 65.751313
B20: 18 | C20: Любецкий Дмитрий Александрович | D20: 30.047796 | E20: 11.385281 | F20: 13.642367 | G20: 55.075444
B21: 20 | C21: Костырев Александр Николаевич | D21: 39.031251 | E21: 11.120889 | F21: 0 | G21: 50.15214
B22: 17 | C22: Курбатов Павел Валерьевич | D22: 0 | E22: 0 | F22: 49.733171 | G22: 49.733171
B23: 19 | C23: Краснов Егор Алексеевич | D23: 15.350975 | F23: 32.869098 | G23: 48.220072
B24: 26 | C24: Коваленко Юрий Иванович | D24: 46.26541 | F24: 0 | G24: 46.26541
B25: 24 | C25: Коровников Сергей Валерьевич | D25: 20.467275 | E25: 0 | F25: 13.985737 | G25: 34.453012
B26: 22 | C26: Барсов Валерий Владимирович | D26: 15.640101 | E26: 0 | F26: 17.181722 | G26: 32.821823
B27: 21 | C27: Антимонов Роман Валерьевич | F27: 31.293752 | G27: 31.293752
B28: 23 | C28: Попов Сергей Станиславович | D28: 21.429919 | E28: 9.5610544 | F28: 0 | G28: 30.990974
B29: 27 | C29: Пустов Александр Вячеславович | D29: 11.795523 | F29: 14.315901 | G29: 26.111424
B30: 54 | C30: Смирнов Алексей Андреевич | E30: 0 | F30: 21.869328 | G30: 21.869328
B31: 25 | C31: Миклин Александр Рудольфович | D31: 0 | E31: 11.255411 | F31: 7.9595541 | G31: 19.214965
B32: 31 | C32: Виноградов Евгений Иванович | D32: 18.958552 | E32: 0 | F32: 0 | G32: 18.958552
B33: 34 | C33: Бурцев Александр Анатольевич | D33: 15.643778 | G33: 15.643778
B34: 28 | C34: Антонов Павел Евгеньевич | E34: 0 | F34: 15.076484 | G34: 15.076484
B35: 29 | C35: Исаев Кирилл Борисович | F35: 13.66878 | G35: 13.66878
B36: 35 | C36: Докучаев Владимир Александрович | D36: 11.341276 | G36: 11.341276
B37: 36 | C37: Березкин Анатолий Борисович | D37: 10.181693 | G37: 10.181693
B38: 30 | C38: Коноплев Владимир Анатольевич | F38: 10.137412 | G38: 10.137412
B39: 37 | C39: Мельников Виталий Александрович | D39: 9.7049728 | G39: 9.7049728
B40: 32 | C40: Колпачников Роман Леонидович | D40: 3.8041267 | E40: 5.1839827 | F40: 0 | G40: 8.9881094
B41: 33 | C41: Каменщикова Анна Викторовна | F41: 8.0295827 | G41: 8.0295827
B42: 50 | C42: Клапша Дмитрий Валерьевич | E42: 4.3939394 | F42: 0 | G42: 4.3939394
B43: 38 | C43: Васильев Артем Игоревич | D43: 4.3744278 | G43: 4.3744278
B44: 39 | C44: Липин Михаил Владимирович | D44: 4.0896184 | G44: 4.0896184
B45: 40 | C45: Тимичев Владимир Анатольевич | D45: 4.0596028 | G45: 4.0596028
B46: 41 | C46: Тофоров Владимир Александрович | D46: 3.8457421 | G46: 3.8457421
B47: 42 | C47: Бабичев Александр Владимирович | D47: 3.7631993 | E47: 0 | F47: 0 | G47: 3.7631993
B48: 43 | C48: Хайрулин Равиль Гамирович | D48: 0.51060269 | G48: 0.51060269
B49: 44 | C49: Абдурахманов Али Талятович | E49: 0 | G49: 0
B50: 45 | C50: Баранов Максим Симонович | E50: 0 | F50: 0 | G50: 0
B51: 46 | C51: Бармашов Игорь Викторович | F51: 0 | G51: 0
B52: 47 | C52: Белобоков Сергей Борисович | E52: 0 | F52: 0 | G52: 0
B53: 48 | C53: Головизнин Сергей Геннадьевич | E53: 0 | G53: 0
B54: 49 | C54: Зайков Дмитрий Александрович | E54: 0 | F54: 0 | G54: 0
B55: 51 | C55: Кочегаров Евгений Николаевич | F55: 0 | G55: 0
B56: 52 | C56: Кузнецов Максим Романович | D56: 0 | E56: 0 | F56: 0 | G56: 0
B57: 53 | C57: Поздняков Сергей Евгеньевич | F57: 0 | G57: 0
B58: 55 | C58: Тереньтев Андрей Валерьевич | F58: 0 | G58: 0
B59: 56 | C59: Чекалин Евгений Александрович | E59: 0 | G59: 0
B60: 57 | C60: Широнин Николай Александрович | E60: 0 | G60: 0
B61: 58 | C61: Полянский Сергей Геннадьевич | E61: 0 | F61: -3.3016376 | G61: -3.3016376

Sheet ДОСААФ 2015
B2: ФЕДЕРАЦИЯ ПОДВОДНОГО СПОРТА РОССИИ
B3: Всероссийские соревнования по подводному спорту на "Призы ДОСААФ России"(подводная охота)
B4: код спортивной дисциплины 1460231511Л
B5: 21 - 24 мая 2015 года | J5: г. Новороссийск
B7: Протокол расчета очков рейтинга
B11: № пп | C11: Старт. № | D11: Ф.И.О. Спортсмена | E11: Год рождения | F11: Спорт. Звание, разряд | G11: Сумма % за 2 дня | H11: РЧ (%) | I11: k сор. | J11: Очки рейтинга
E12: 0 | F12: 0 | H12: 50 | J12: ПП
B13: 1 | C13: 19 | D13: Сидоров Петр Александрович | E13: 1980 | F13: МС | G13: 190.96633 | H13: 50 | I13: 0.26182626 | J13: 50
B14: 2 | C14: 9 | D14: Бережной Сергей Владимирович | E14: 1970 | F14: КМС | G14: 138.15128 | H14: 50 | I14: 0.26182626 | J14: 36.171634
B15: 3 | C15: 26 | D15: Бабичев Александр Владимирович | E15: 1967 | F15: 1 | G15: 128.63713 | H15: 50 | I15: 0.26182626 | J15: 33.68058
B16: 4 | C16: 22 | D16: Арцимович Денис Леонидович | E16: 1974 | F16: 1 | G16: 119.52319 | H16: 50 | I16: 0.26182626 | J16: 31.294311
B17: 5 | C17: 24 | D17: Ченцов Сергей Юрьевич | E17: 1978 | F17: МС | G17: 110.97911 | H17: 50 | I17: 0.26182626 | J17: 29.057245
B18: 6 | C18: 25 | D18: Богатов Илья Александрович | E18: 1973 | F18: 1 | G18: 110.31851 | H18: 50 | I18: 0.26182626 | J18: 28.884283
B19: 7 | C19: 30 | D19: Лубягин Максим Григорьевич | E19: 1982 | F19: МС | G19: 84.047446 | H19: 50 | I19: 0.26182626 | J19: 22.005829
B20: 8 | C20: 20 | D20: Любецкий Дмитрий Александрович | E20: 1981 | F20: 1 | G20: 83.285055 | H20: 50 | I20: 0.26182626 | J20: 21.806215
B21: 9 | C21: 1 | D21: Пустов Александр Вячеславович | E21: 1983 | F21: КМС | G21: 53.608376 | H21: 50 | I21: 0.26182626 | J21: 14.036081
B22: 10 | C22: 16 | D22: Бурцев Александр Анатольевич | E22: 1984 | F22: МС | G22: 39.496107 | H22: 50 | I22: 0.26182626 | J22: 10.341118
B23: 11 | C23: 8 | D23: Маслов Олег Борисович | E23: 1970 | F23: КМС | G23: 32.740214 | H23: 50 | I23: 0.26182626 | J23: 8.5722477
B24: 12 | C24: 21 | D24: Фещенко Андрей Владимирович | E24: 1972 | F24: МС | G24: 28.196003 | H24: 50 | I24: 0.26182626 | J24: 7.3824541
B25: 13 | C25: 6 | D25: Костырев Александр Николаевич | E25: 1985 | F25: 1 | G25: 27.28153 | H25: 50 | I25: 0.26182626 | J25: 7.143021
B26: 14 | C26: 12 | D26: Громов Андрей Олегович | E26: 1984 | F26: 2 | G26: 27.112079 | H26: 50 | I26: 0.26182626 | J26: 7.0986544
B27: 15 | C27: 27 | D27: Сибгатуллин Илдар Искандерович | E27: 1985 | F27: 1 | G27: 26.870007 | H27: 50 | I27: 0.26182626 | J27: 7.0352735
B28: 16 | C28: 34 | D28: Виноградов Евгений Иванович | E28: 1964 | F28: КМС | G28: 24.618736 | H28: 50 | I28: 0.26182626 | J28: 6.4458317
B29: 17 | C29: 11 | D29: Кузнецов Роман Феликсович | E29: 1969 | F29: МС | G29: 7.1169208 | H29: 50 | I29: 0.26182626 | J29: 1.8633968
B30: 18 | C30: 2 | D30: Бармашов Игорь Викторович | E30: 1963 | F30: 2 | G30: 0 | H30: 50 | I30: 0.26182626 | J30: 0
B31: 19 | C31: 3 | D31: Широнин Николай Александрович | E31: 1962 | F31: 2 | G31: 0 | H31: 50 | I31: 0.26182626 | J31: 0
B32: 20 | C32: 4 | D32: Головизнин Сергей Геннадьевич | E32: 1964 | F32: 2 | G32: 0 | H32: 50 | I32: 0.26182626 | J32: 0
B33: 21 | C33: 5 | D33: Горохов Валерий Сергеевич | E33: 1975 | F33: МС | G33: 0 | H33: 50 | I33: 0.26182626 | J33: 0
B34: 22 | C34: 7 | D34: Клапша Дмитрий Валерьевич | F34: 1 | G34: 0 | H34: 50 | I34: 0.26182626 | J34: 0
B35: 23 | C35: 10 | D35: Громов Олег Леонидович | E35: 1962 | F35: 1 | G35: 0 | H35: 50 | I35: 0.26182626 | J35: 0
B36: 24 | C36: 13 | D36: Антонов Павел Евгеньевич | E36: 1962 | F36: МС | G36: 0 | H36: 50 | I36: 0.26182626 | J36: 0
B37: 25 | C37: 14 | D37: Смирнов Алексей Андреевич | E37: 1989 | F37: МС | G37: 0 | H37: 50 | I37: 0.26182626 | J37: 0
B38: 26 | C38: 15 | D38: Каменщикова Анна Викторовна | E38: 1989 | F38: КМС | G38: 0 | H38: 50 | I38: 0.26182626 | J38: 0
B39: 27 | C39: 17 | D39: Леонов Алексей Викторович | E39: 1971 | F39: 2 | G39: 0 | H39: 50 | I39: 0.26182626 | J39: 0
B40: 28 | C40: 18 | D40: Недальченко Иван Владимирович | E40: 1974 | F40: 1. | G40: 0 | H40: 50 | I40: 0.26182626 | J40: 0
B41: 29 | C41: 23 | D41: Антимонов Роман Валерьевич | E41: 1973 | F41: 1 | G41: 0 | H41: 50 | I41: 0.26182626 | J41: 0
B42: 30 | C42: 28 | D42: Переверзенцев Александр Сергеевич | E42: 1985 | F42: 1 | G42: 0 | H42: 50 | I42: 0.26182626 | J42: 0
B43: 31 | C43: 29 | D43: Попов Сергей Станиславович | E43: 1974 | F43: 1 | G43: 0 | H43: 50 | I43: 0.26182626 | J43: 0
B44: 32 | C44: 31 | D44: Курбатов Павел Валерьевич | E44: 1982 | F44: КМС | G44: 0 | H44: 50 | I44: 0.26182626 | J44: 0
B45: 33 | C45: 32 | D45: Зенин Андрей Михайлович | E45: 1963 | F45: МС | G45: 0 | H45: 50 | I45: 0.26182626 | J45: 0
B46: 34 | C46: 33 | D46: Подставкин Сергей Васильевич | E46: 1966 | F46: КМС | G46: 0 | H46: 50 | I46: 0.26182626 | J46: 0

Sheet КР 2015
B2: ФЕДЕРАЦИЯ ПОДВОДНОГО СПОРТА РОССИИ
B3: 4-й этап Кубка России по подводному спорту на (подводная охота)
B4: код спортивной дисциплины 1460231511Л
B5: 24 - 27 сентября 2015 года | J5: Республика Крым г. Судак
B7: Протокол расчета очков рейтинга
B11: № пп | C11: Старт. № | D11: Ф.И.О. Спортсмена | E11: Год рождения | F11: Спорт. Звание, разряд | G11: Сумма % за 2 дня | H11: РЧ (%) | I11: k сор. | J11: Очки рейтинга
E12: 0 | F12: 0 | H12: 75 | J12: ПП
B13: 1 | C13: 36 | D13: Петров Сергей Александрович | E13: 1978 | F13: 1 | G13: 151.01483 | H13: 75 | I13: 0.49663997 | J13: 75
B14: 2 | C14: 37 | D14: Петченко Роман Владимирович | E14: 1978 | F14: 1 | G14: 106.52175 | H14: 75 | I14: 0.49663997 | J14: 52.902958
B15: 4 | C15: 30 | D15: Сибгатуллин Илдар Искандерович | E15: 1985 | F15: 1 | G15: 100 | H15: 75 | I15: 0.49663997 | J15: 49.663997
B16: 3 | C16: 11 | D16: Кузнецов Максим Романович | E16: 1996 | F16: 1 | G16: 100 | H16: 75 | I16: 0.49663997 | J16: 49.663997
B17: 5 | C17: 38 | D17: Белинский Владимир Владимирович | E17: 1981 | F17: 1 | G17: 91.071852 | H17: 75 | I17: 0.49663997 | J17: 45.229922
B18: 6 | C18: 9 | D18: Кузнецов Роман Феликсович | E18: 1969 | F18: МС | G18: 83.577053 | H18: 75 | I18: 0.49663997 | J18: 41.507705
B19: 7 | C19: 25 | D19: Корягин Антон Геннадьевич | E19: 1980 | F19: 1. | G19: 65.879265 | H19: 75 | I19: 0.49663997 | J19: 32.718276
B20: 8 | C20: 18 | D20: Баранов Максим Симонович | E20: 1978 | F20: 1 | G20: 36.407949 | H20: 75 | I20: 0.49663997 | J20: 18.081643
B21: 9 | C21: 29 | D21: Бабичев Александр Владимирович | E21: 1967 | F21: 1 | G21: 32.081218 | H21: 75 | I21: 0.49663997 | J21: 15.932815
B22: 10 | C22: 31 | D22: Переверзенцев Александр Сергеевич | E22: 1985 | F22: 1 | G22: 30.408699 | H22: 75 | I22: 0.49663997 | J22: 15.102175
B23: 26 | C23: 17 | D23: Антимонов Роман Валерьевич | E23: 1973 | F23: 1 | G23: 0 | H23: 75 | I23: 0.49663997 | J23: 0
B24: 35 | C24: 28 | D24: Богатов Илья Александрович | E24: 1973 | F24: 1 | G24: 0 | H24: 75 | I24: 0.49663997 | J24: 0
B25: 21 | C25: 12 | D25: Громов Олег Леонидович | E25: 1962 | F25: 1 | G25: 0 | H25: 75 | I25: 0.49663997 | J25: 0
B26: 13 | C26: 2 | D26: Зенин Андрей Михайлович | E26: 1963 | F26: МС | G26: 0 | H26: 75 | I26: 0.49663997 | J26: 0
B27: 29 | C27: 21 | D27: Клапша Дмитрий Валерьевич | F27: 1 | G27: 0 | H27: 75 | I27: 0.49663997 | J27: 0
B28: 31 | C28: 23 | D28: Костырев Александр Николаевич | E28: 1985 | F28: 1 | G28: 0 | H28: 75 | I28: 0.49663997 | J28: 0
B29: 12 | C29: 1 | D29: Курбатов Павел Валерьевич | E29: 1982 | F29: МС | G29: 0 | H29: 75 | I29: 0.49663997 | J29: 0
B30: 25 | C30: 16 | D30: Лубягин Максим Григорьевич | E30: 1982 | F30: МС | G30: 0 | H30: 75 | I30: 0.49663997 | J30: 0
B31: 30 | C31: 22 | D31: Маслов Олег Борисович | E31: 1970 | F31: КМС | G31: 0 | H31: 75 | I31: 0.49663997 | J31: 0
B32: 14 | C32: 3 | D32: Подставкин Сергей Васильевич | E32: 1966 | F32: МС | G32: 0 | H32: 75 | I32: 0.49663997 | J32: 0
B33: 34 | C33: 27 | D33: Ченцов Сергей Юрьевич | E33: 1978 | F33: МС | G33: 0 | H33: 75 | I33: 0.49663997 | J33: 0
B34: 11 | C34: 35 | D34: Новиков Андрей Леонидович | E34: 1974. | F34: 1 | G34: 0 | H34: 75 | I34: 0.49663997 | J34: 0
B35: 15 | C35: 4 | D35: Рудницкий Андрей Иванович | E35: 1982 | F35: 1 | G35: 0 | H35: 75 | I35: 0.49663997 | J35: 0
B36: 16 | C36: 5 | D36: Катасонов Александр Геннадиевич | E36: 1982 | F36: 1 | G36: 0 | H36: 75 | I36: 0.49663997 | J36: 0
B37: 17 | C37: 6 | D37: Алексеев Дмитрий Владимирович | E37: 1981 | F37: 1 | G37: 0 | H37: 75 | I37: 0.49663997 | J37: 0
B38: 18 | C38: 7 | D38: Суховерхов Павел Александрович | E38: 1980 | F38: КМС | G38: 0 | H38: 75 | I38: 0.49663997 | J38: 0
B39: 19 | C39: 8 | D39: Титов Сергей Павлович | E39: 1980 | F39: МС | G39: 0 | H39: 75 | I39: 0.49663997 | J39: 0
B40: 20 | C40: 10 | D40: Колпачников Роман Леонидович | E40: 1977 | F40: МС | G40: 0 | H40: 75 | I40: 0.49663997 | J40: 0
B41: 22 | C41: 13 | D41: Докучаев Владимир Александрович | E41: 1958 | F41: МС | G41: 0 | H41: 75 | I41: 0.49663997 | J41: 0
B42: 23 | C42: 14 | D42: Исаков Александр Вячеславович | E42: 1975 | F42: 1 | G42: 0 | H42: 75 | I42: 0.49663997 | J42: 0
B43: 24 | C43: 15 | D43: Петров Денис Сергеевич | E43: 1975 | F43: 1 | G43: 0 | H43: 75 | I43: 0.49663997 | J43: 0
B44: 27 | C44: 19 | D44: Давыдов Денис Сергеевич | E44: 1982 | F44: 1 | G44: 0 | H44: 75 | I44: 0.49663997 | J44: 0
B45: 28 | C45: 20 | D45: Катасонов Михаил Вячеславович | E45: 1980 | F45: 1 | G45: 0 | H45: 75 | I45: 0.49663997 | J45: 0
B46: 32 | C46: 24 | D46: Анашкин Дмитрий Валентинович | E46: 1974 | F46: КМС | G46: 0 | H46: 75 | I46: 0.49663997 | J46: 0
B47: 33 | C47: 26 | D47: Резниченко Денис Игоревич | E47: 1980 | F47: 1 | G47: 0 | H47: 75 | I47: 0.49663997 | J47: 0
B48: 36 | C48: 32 | D48: Коровников Сергей Валерьевич | E48: 1982 | F48: 1 | G48: 0 | H48: 75 | I48: 0.49663997 | J48: 0
B49: 37 | C49: 33 | D49: Миклин Александр Рудольфович | E49: 1984 | F49: МС | G49: 0 | H49: 75 | I49: 0.49663997 | J49: 0
B50: 38 | C50: 34 | D50: Затешилов Алексей Геннадиевич | E50: 1971 | F50: 1 | G50: 0 | H50: 75 | I50: 0.49663997 | J50: 0
B51: 39 | C51: 39 | D51: Иванов Юрий Александрович | E51: 1978 | F51: 1 | G51: 0 | H51: 75 | I51: 0.49663997 | J51: 0

Sheet ЧР 2015
B2: ФЕДЕРАЦИЯ ПОДВОДНОГО СПОРТА РОССИИ
B3: Чемпионат России по подводному спорту (подводная охота)
B4: код спортивной дисциплины 1460231511Л
B5: 01 - 04 октября 2015 года | J5: Республика Крым г. Судак
B7: Протокол расчета очков рейтинга
B11: № пп | C11: Старт. № | D11: Ф.И.О. Спортсмена | E11: Год рождения | F11: Спорт. Звание, разряд | G11: Сумма % за 2 дня | H11: РЧ (%) | I11: k сор. | J11: Очки рейтинга
E12: 0 | F12: 0 | H12: 100 | J12: ПП
B13: 1 | C13: 49 | D13: Кежелис Сергей Александрович | E13: 1984 | F13: 1 | G13: 125.31653 | H13: 100 | I13: 0.79797934 | J13: 100
B14: 3 | C14: 28 | D14: Богатов Илья Александрович | E14: 1973 | F14: 1 | G14: 100 | H14: 100 | I14: 0.79797934 | J14: 79.797934
B15: 2 | C15: 16 | D15: Лубягин Максим Григорьевич | E15: 1982 | F15: МС | G15: 100 | H15: 100 | I15: 0.79797934 | J15: 79.797934
B16: 4 | C16: 47 | D16: Рачков Роман Евгеньевич | E16: 1978 | F16: 1 | G16: 75.43526 | H16: 100 | I16: 0.79797934 | J16: 60.195779
B17: 5 | C17: 23 | D17: Костырев Александр Николаевич | E17: 1985 | F17: 1 | G17: 67.163635 | H17: 100 | I17: 0.79797934 | J17: 53.595193
B18: 6 | C18: 36 | D18: Петров Сергей Александрович | E18: 1978 | F18: 1 | G18: 59.77931 | H18: 100 | I18: 0.79797934 | J18: 47.702654
B19: 7 | C19: 25 | D19: Корягин Антон Геннадьевич | E19: 1980 | F19: 1. | G19: 49.892389 | H19: 100 | I19: 0.79797934 | J19: 39.813096
B20: 8 | C20: 22 | D20: Маслов Олег Борисович | E20: 1970 | F20: КМС | G20: 45.324622 | H20: 100 | I20: 0.79797934 | J20: 36.168112
B21: 9 | C21: 29 | D21: Бабичев Александр Владимирович | E21: 1967 | F21: 1 | G21: 43.936301 | H21: 100 | I21: 0.79797934 | J21: 35.06026
B22: 10 | C22: 41 | D22: Пустов Александр Вячеславович | E22: 1983 | F22: КМС | G22: 42.711798 | H22: 100 | I22: 0.79797934 | J22: 34.083132
B23: 11 | C23: 24 | D23: Анашкин Дмитрий Валентинович | E23: 1974 | F23: КМС | G23: 39.771335 | H23: 100 | I23: 0.79797934 | J23: 31.736704
B24: 12 | C24: 9 | D24: Кузнецов Роман Феликсович | E24: 1969 | F24: МС | G24: 37.389943 | H24: 100 | I24: 0.79797934 | J24: 29.836402
B25: 13 | C25: 31 | D25: Переверзенцев Александр Сергеевич | E25: 1985 | F25: 1 | G25: 36.68558 | H25: 100 | I25: 0.79797934 | J25: 29.274335
B26: 14 | C26: 38 | D26: Белинский Владимир Владимирович | E26: 1981 | F26: 1 | G26: 34.865975 | H26: 100 | I26: 0.79797934 | J26: 27.822328
B27: 15 | C27: 50 | D27: Бельтюков Виктор Викторович | E27: 1983 | F27: 1 | G27: 33.261593 | H27: 100 | I27: 0.79797934 | J27: 26.542064
B28: 16 | C28: 27 | D28: Ченцов Сергей Юрьевич | E28: 1978 | F28: МС | G28: 19.389552 | H28: 100 | I28: 0.79797934 | J28: 15.472462
B29: 17 | C29: 21 | D29: Клапша Дмитрий Валерьевич | F29: 1 | G29: 18.078654 | H29: 100 | I29: 0.79797934 | J29: 14.426392
B30: 18 | C30: 37 | D30: Петченко Роман Владимирович | E30: 1978 | F30: 1 | G30: 16.161221 | H30: 100 | I30: 0.79797934 | J30: 12.89632
B31: 24 | C31: 6 | D31: Алексеев Дмитрий Владимирович | E31: 1981 | F31: 1 | G31: 0 | H31: 100 | I31: 0.79797934 | J31: 0
B32: 32 | C32: 17 | D32: Антимонов Роман Валерьевич | E32: 1973 | F32: 1 | G32: 0 | H32: 100 | I32: 0.79797934 | J32: 0
B33: 49 | C33: 48 | D33: Арцимович Денис Леонидович | E33: 1974 | F33: МС | G33: 0 | H33: 100 | I33: 0.79797934 | J33: 0
B34: 33 | C34: 18 | D34: Баранов Максим Симонович | E34: 1978 | F34: 1 | G34: 0 | H34: 100 | I34: 0.79797934 | J34: 0
B35: 43 | C35: 40 | D35: Бармашов Игорь Викторович | E35: 1963 | F35: 1 | G35: 0 | H35: 100 | I35: 0.79797934 | J35: 0
B36: 29 | C36: 12 | D36: Громов Олег Леонидович | E36: 1962 | F36: 1 | G36: 0 | H36: 100 | I36: 0.79797934 | J36: 0
B37: 34 | C37: 19 | D37: Давыдов Денис Сергеевич | E37: 1982 | F37: 1 | G37: 0 | H37: 100 | I37: 0.79797934 | J37: 0
B38: 40 | C38: 34 | D38: Затешилов Алексей Геннадиевич | E38: 1971 | F38: 1 | G38: 0 | H38: 100 | I38: 0.79797934 | J38: 0
B39: 20 | C39: 2 | D39: Зенин Андрей Михайлович | E39: 1963 | F39: МС | G39: 0 | H39: 100 | I39: 0.79797934 | J39: 0
B40: 42 | C40: 39 | D40: Иванов Юрий Александрович | E40: 1978 | F40: 1 | G40: 0 | H40: 100 | I40: 0.79797934 | J40: 0
B41: 23 | C41: 5 | D41: Катасонов Александр Геннадиевич | E41: 1982 | F41: 1 | G41: 0 | H41: 100 | I41: 0.79797934 | J41: 0
B42: 35 | C42: 20 | D42: Катасонов Михаил Вячеславович | E42: 1980 | F42: 1 | G42: 0 | H42: 100 | I42: 0.79797934 | J42: 0
B43: 27 | C43: 10 | D43: Колпачников Роман Леонидович | E43: 1977 | F43: МС | G43: 0 | H43: 100 | I43: 0.79797934 | J43: 0
B44: 38 | C44: 32 | D44: Коровников Сергей Валерьевич | E44: 1982 | F44: 1 | G44: 0 | H44: 100 | I44: 0.79797934 | J44: 0
B45: 28 | C45: 11 | D45: Кузнецов Максим Романович | E45: 1996 | F45: 1 | G45: 0 | H45: 100 | I45: 0.79797934 | J45: 0
B46: 19 | C46: 1 | D46: Курбатов Павел Валерьевич | E46: 1982 | F46: МС | G46: 0 | H46: 100 | I46: 0.79797934 | J46: 0
B47: 39 | C47: 33 | D47: Миклин Александр Рудольфович | E47: 1984 | F47: МС | G47: 0 | H47: 100 | I47: 0.79797934 | J47: 0
B48: 41 | C48: 35 | D48: Новиков Андрей Леонидович | E48: 1974. | F48: 1 | G48: 0 | H48: 100 | I48: 0.79797934 | J48: 0
B49: 21 | C49: 3 | D49: Подставкин Сергей Васильевич | E49: 1966 | F49: МС | G49: 0 | H49: 100 | I49: 0.79797934 | J49: 0
B50: 36 | C50: 26 | D50: Резниченко Денис Игоревич | E50: 1980 | F50: 1 | G50: 0 | H50: 100 | I50: 0.79797934 | J50: 0
B51: 22 | C51: 4 | D51: Рудницкий Андрей Иванович | E51: 1982 | F51: 1 | G51: 0 | H51: 100 | I51: 0.79797934 | J51: 0
B52: 37 | C52: 30 | D52: Сибгатуллин Илдар Искандерович | E52: 1985 | F52: 1 | G52: 0 | H52: 100 | I52: 0.79797934 | J52: 0
B53: 25 | C53: 7 | D53: Суховерхов Павел Александрович | E53: 1980 | F53: КМС | G53: 0 | H53: 100 | I53: 0.79797934 | J53: 0
B54: 26 | C54: 8 | D54: Титов Сергей Павлович | E54: 1980 | F54: МС | G54: 0 | H54: 100 | I54: 0.79797934 | J54: 0
B55: 30 | C55: 14 | D55: Берест Дмитрий Григорьевич | E55: 1970 | F55: 1 | G55: 0 | H55: 100 | I55: 0.79797934 | J55: 0
B56: 31 | C56: 15 | D56: Смирнов Михаил Владимирович | E56: 1961 | F56: 1 | G56: 0 | H56: 100 | I56: 0.79797934 | J56: 0
B57: 44 | C57: 42 | D57: Луценко Владимир Анатольевич | E57: 1958 | F57: 1 | G57: 0 | H57: 100 | I57: 0.79797934 | J57: 0
B58: 45 | C58: 43 | D58: Стародубцев Сергей Геннадьевич | E58: 1965 | F58: 1 | G58: 0 | H58: 100 | I58: 0.79797934 | J58: 0
B59: 46 | C59: 44 | D59: Сметанкин Дмитрий Евгеньевич | E59: 1982 | F59: МС | G59: 0 | H59: 100 | I59: 0.79797934 | J59: 0
B60: 47 | C60: 45 | D60: Козин Сергей Владимирович | E60: 1964 | F60: 1 | G60: 0 | H60: 100 | I60: 0.79797934 | J60: 0
B61: 48 | C61: 46 | D61: Иванов Сергей Викторович | E61: 1984 | F61: 1 | G61: 0 | H61: 100 | I61: 0.79797934 | J61: 0
B62: 50 | C62: 51 | D62: Семенов Александр Игоревич | E62: 1984 | F62: 1 | G62: 0 | H62: 100 | I62: 0.79797934 | J62: 0
B63: 51 | C63: 52 | D63: Кулешов Вячеслав Станиславович | E63: 1985 | F63: 1 | G63: 0 | H63: 100 | I63: 0.79797934 | J63: 0
B64: 52 | C64: 53 | D64: Басов Сергей Александрович | E64: 1985 | F64: 1 | G64: 0 | H64: 100 | I64: 0.79797934 | J64: 0
B65: 53 | C65: 13 | D65: Докучаев Владимир Александрович | E65: 1958 | F65: МС | G65: -0.29298132 | H65: 100 | I65: 0.79797934 | J65: -0.23379304

Sheet Отборочный рейтинг 2015
B2: ФЕДЕРАЦИЯ ПОДВОДНОГО СПОРТА РОССИИ
B4: код спортивной дисциплины 1460231511Л
B7: Протокол расчета очков рейтинга за 2015 г.
B11: № пп | C11: Ф.И.О. Спортсмена | D11: Год рождения | E11: Спорт. Звание, разряд | F11: ДОСААФ 2015 | G11: КР 2015 | H11: ЧР 2015 | I11: Сумма ПП | J11: k рейтинга | K11: Очки рейтинга 2015
D12: 0 | E12: 0 | F12: ПП | G12: ПП | H12: ПП
B13: 1 | C13: Петров Сергей Александрович | D13: 1978 | E13: 1 | G13: 75 | H13: 47.702654 | I13: 122.70265 | J13: 0.81497829 | K13: 100
B14: 2 | C14: Богатов Илья Александрович | D14: 1973 | E14: 1 | F14: 28.884283 | G14: 0 | H14: 79.797934 | I14: 108.68222 | J14: 0.81497829 | K14: 88.573648
B15: 3 | C15: Лубягин Максим Григорьевич | D15: 1982 | E15: МС | F15: 22.005829 | G15: 0 | H15: 79.797934 | I15: 101.80376 | J15: 0.81497829 | K15: 82.967857
B16: 4 | C16: Кежелис Сергей Александрович | D16: 1984 | E16: 1 | H16: 100 | I16: 100 | J16: 0.81497829 | K16: 81.497829
B17: 5 | C17: Бабичев Александр Владимирович | D17: 1967 | E17: 1 | F17: 33.68058 | G17: 15.932815 | H17: 35.06026 | I17: 84.673655 | J17: 0.81497829 | K17: 69.007191
B18: 6 | C18: Кузнецов Роман Феликсович | D18: 1969 | E18: МС | F18: 1.8633968 | G18: 41.507705 | H18: 29.836402 | I18: 73.207504 | J18: 0.81497829 | K18: 59.662527
B19: 7 | C19: Белинский Владимир Владимирович | D19: 1981 | E19: 1 | G19: 45.229922 | H19: 27.822328 | I19: 73.05225 | J19: 0.81497829 | K19: 59.535998
B20: 8 | C20: Корягин Антон Геннадьевич | D20: 1980 | E20: 1. | G20: 32.718276 | H20: 39.813096 | I20: 72.531372 | J20: 0.81497829 | K20: 59.111494
B21: 9 | C21: Петченко Роман Владимирович | D21: 1978 | E21: 1 | G21: 52.902958 | H21: 12.89632 | I21: 65.799278 | J21: 0.81497829 | K21: 53.624984
B22: 10 | C22: Костырев Александр Николаевич | D22: 1985 | E22: 1 | F22: 7.143021 | G22: 0 | H22: 53.595193 | I22: 60.738214 | J22: 0.81497829 | K22: 49.500326
B23: 11 | C23: Рачков Роман Евгеньевич | D23: 1978 | E23: 1 | H23: 60.195779 | I23: 60.195779 | J23: 0.81497829 | K23: 49.058253
B24: 12 | C24: Сибгатуллин Илдар Искандерович | D24: 1985 | E24: 1 | F24: 7.0352735 | G24: 49.663997 | H24: 0 | I24: 56.699271 | J24: 0.81497829 | K24: 46.208675
B25: 13 | C25: Сидоров Петр Александрович | D25: 1980 | E25: МС | F25: 50 | I25: 50 | J25: 0.81497829 | K25: 40.748915
B26: 14 | C26: Кузнецов Максим Романович | D26: 1996 | E26: 1 | G26: 49.663997 | H26: 0 | I26: 49.663997 | J26: 0.81497829 | K26: 40.47508
B27: 15 | C27: Пустов Александр Вячеславович | D27: 1983 | E27: КМС | F27: 14.036081 | H27: 34.083132 | I27: 48.119213 | J27: 0.81497829 | K27: 39.216114
B28: 16 | C28: Маслов Олег Борисович | D28: 1970 | E28: КМС | F28: 8.5722477 | G28: 0 | H28: 36.168112 | I28: 44.74036 | J28: 0.81497829 | K28: 36.462422
B29: 17 | C29: Ченцов Сергей Юрьевич | D29: 1978 | E29: МС | F29: 29.057245 | G29: 0 | H29: 15.472462 | I29: 44.529707 | J29: 0.81497829 | K29: 36.290744
B30: 18 | C30: Переверзенцев Александр Сергеевич | D30: 1985 | E30: 1 | F30: 0 | G30: 15.102175 | H30: 29.274335 | I30: 44.37651 | J30: 0.81497829 | K30: 36.165893
B31: 19 | C31: Бережной Сергей Владимирович | D31: 1970 | E31: КМС | F31: 36.171634 | I31: 36.171634 | J31: 0.81497829 | K31: 29.479097
B32: 20 | C32: Анашкин Дмитрий Валентинович | D32: 1974 | E32: КМС | G32: 0 | H32: 31.736704 | I32: 31.736704 | J32: 0.81497829 | K32: 25.864725
B33: 21 | C33: Арцимович Денис Леонидович | D33: 1974 | E33: 1 | F33: 31.294311 | H33: 0 | I33: 31.294311 | J33: 0.81497829 | K33: 25.504184
B34: 22 | C34: Бельтюков Виктор Викторович | D34: 1983 | E34: 1 | H34: 26.542064 | I34: 26.542064 | J34: 0.81497829 | K34: 21.631206
B35: 23 | C35: Любецкий Дмитрий Александрович | D35: 1981 | E35: 1 | F35: 21.806215 | I35: 21.806215 | J35: 0.81497829 | K35: 17.771592
B36: 24 | C36: Баранов Максим Симонович | D36: 1978 | E36: 1 | G36: 18.081643 | H36: 0 | I36: 18.081643 | J36: 0.81497829 | K36: 14.736146
B37: 25 | C37: Клапша Дмитрий Валерьевич | E37: 1 | F37: 0 | G37: 0 | H37: 14.426392 | I37: 14.426392 | J37: 0.81497829 | K37: 11.757197
B38: 26 | C38: Бурцев Александр Анатольевич | D38: 1984 | E38: МС | F38: 10.341118 | I38: 10.341118 | J38: 0.81497829 | K38: 8.4277867
B39: 27 | C39: Фещенко Андрей Владимирович | D39: 1972 | E39: МС | F39: 7.3824541 | I39: 7.3824541 | J39: 0.81497829 | K39: 6.0165399
B40: 28 | C40: Громов Андрей Олегович | D40: 1984 | E40: 2 | F40: 7.0986544 | I40: 7.0986544 | J40: 0.81497829 | K40: 5.7852492
B41: 29 | C41: Виноградов Евгений Иванович | D41: 1964 | E41: КМС | F41: 6.4458317 | I41: 6.4458317 | J41: 0.81497829 | K41: 5.2532129
B42: 30 | C42: Бармашов Игорь Викторович | D42: 1963 | E42: 2 | F42: 0 | H42: 0 | I42: 0 | J42: 0.81497829 | K42: 0
B43: 31 | C43: Широнин Николай Александрович | D43: 1962 | E43: 2 | F43: 0 | I43: 0 | J43: 0.81497829 | K43: 0
B44: 32 | C44: Головизнин Сергей Геннадьевич | D44: 1964 | E44: 2 | F44: 0 | I44: 0 | J44: 0.81497829 | K44: 0
B45: 33 | C45: Горохов Валерий Сергеевич | D45: 1975 | E45: МС | F45: 0 | I45: 0 | J45: 0.81497829 | K45: 0
B46: 34 | C46: Громов Олег Леонидович | D46: 1962 | E46: 1 | F46: 0 | G46: 0 | H46: 0 | I46: 0 | J46: 0.81497829 | K46: 0
B47: 35 | C47: Антонов Павел Евгеньевич | D47: 1962 | E47: МС | F47: 0 | I47: 0 | J47: 0.81497829 | K47: 0
B48: 36 | C48: Смирнов Алексей Андреевич | D48: 1989 | E48: МС | F48: 0 | I48: 0 | J48: 0.81497829 | K48: 0
B49: 37 | C49: Каменщикова Анна Викторовна | D49: 1989 | E49: КМС | F49: 0 | I49: 0 | J49: 0.81497829 | K49: 0
B50: 38 | C50: Леонов Алексей Викторович | D50: 1971 | E50: 2 | F50: 0 | I50: 0 | J50: 0.81497829 | K50: 0
B51: 39 | C51: Недальченко Иван Владимирович | D51: 1974 | E51: 1. | F51: 0 | I51: 0 | J51: 0.81497829 | K51: 0
B52: 40 | C52: Антимонов Роман Валерьевич | D52: 1973 | E52: 1 | F52: 0 | G52: 0 | H52: 0 | I52: 0 | J52: 0.81497829 | K52: 0
B53: 41 | C53: Попов Сергей Станиславович | D53: 1974 | E53: 1 | F53: 0 | I53: 0 | J53: 0.81497829 | K53: 0
B54: 42 | C54: Курбатов Павел Валерьевич | D54: 1982 | E54: КМС | F54: 0 | G54: 0 | H54: 0 | I54: 0 | J54: 0.81497829 | K54: 0
B55: 43 | C55: Зенин Андрей Михайлович | D55: 1963 | E55: МС | F55: 0 | G55: 0 | H55: 0 | I55: 0 | J55: 0.81497829 | K55: 0
B56: 44 | C56: Подставкин Сергей Васильевич | D56: 1966 | E56: КМС | F56: 0 | G56: 0 | H56: 0 | I56: 0 | J56: 0.81497829 | K56: 0
B57: 45 | C57: Новиков Андрей Леонидович | D57: 1974. | E57: 1 | G57: 0 | H57: 0 | I57: 0 | J57: 0.81497829 | K57: 0
B58: 46 | C58: Рудницкий Андрей Иванович | D58: 1982 | E58: 1 | G58: 0 | H58: 0 | I58: 0 | J58: 0.81497829 | K58: 0
B59: 47 | C59: Катасонов Александр Геннадиевич | D59: 1982 | E59: 1 | G59: 0 | H59: 0 | I59: 0 | J59: 0.81497829 | K59: 0
B60: 48 | C60: Алексеев Дмитрий Владимирович | D60: 1981 | E60: 1 | G60: 0 | H60: 0 | I60: 0 | J60: 0.81497829 | K60: 0
B61: 49 | C61: Суховерхов Павел Александрович | D61: 1980 | E61: КМС | G61: 0 | H61: 0 | I61: 0 | J61: 0.81497829 | K61: 0
B62: 50 | C62: Титов Сергей Павлович | D62: 1980 | E62: МС | G62: 0 | H62: 0 | I62: 0 | J62: 0.81497829 | K62: 0
B63: 51 | C63: Колпачников Роман Леонидович | D63: 1977 | E63: МС | G63: 0 | H63: 0 | I63: 0 | J63: 0.81497829 | K63: 0
B64: 52 | C64: Исаков Александр Вячеславович | D64: 1975 | E64: 1 | G64: 0 | I64: 0 | J64: 0.81497829 | K64: 0
B65: 53 | C65: Петров Денис Сергеевич | D65: 1975 | E65: 1 | G65: 0 | I65: 0 | J65: 0.81497829 | K65: 0
B66: 54 | C66: Давыдов Денис Сергеевич | D66: 1982 | E66: 1 | G66: 0 | H66: 0 | I66: 0 | J66: 0.81497829 | K66: 0
B67: 55 | C67: Катасонов Михаил Вячеславович | D67: 1980 | E67: 1 | G67: 0 | H67: 0 | I67: 0 | J67: 0.81497829 | K67: 0
B68: 56 | C68: Резниченко Денис Игоревич | D68: 1980 | E68: 1 | G68: 0 | H68: 0 | I68: 0 | J68: 0.81497829 | K68: 0
B69: 57 | C69: Коровников Сергей Валерьевич | D69: 1982 | E69: 1 | G69: 0 | H69: 0 | I69: 0 | J69: 0.81497829 | K69: 0
B70: 58 | C70: Миклин Александр Рудольфович | D70: 1984 | E70: МС | G70: 0 | H70: 0 | I70: 0 | J70: 0.81497829 | K70: 0
B71: 59 | C71: Затешилов Алексей Геннадиевич | D71: 1971 | E71: 1 | G71: 0 | H71: 0 | I71: 0 | J71: 0.81497829 | K71: 0
B72: 60 | C72: Иванов Юрий Александрович | D72: 1978 | E72: 1 | G72: 0 | H72: 0 | I72: 0 | J72: 0.81497829 | K72: 0
B73: 61 | C73: Берест Дмитрий Григорьевич | D73: 1970 | E73: 1 | H73: 0 | I73: 0 | J73: 0.81497829 | K73: 0
B74: 62 | C74: Смирнов Михаил Владимирович | D74: 1961 | E74: 1 | H74: 0 | I74: 0 | J74: 0.81497829 | K74: 0
B75: 63 | C75: Луценко Владимир Анатольевич | D75: 1958 | E75: 1 | H75: 0 | I75: 0 | J75: 0.81497829 | K75: 0
B76: 64 | C76: Стародубцев Сергей Геннадьевич | D76: 1965 | E76: 1 | H76: 0 | I76: 0 | J76: 0.81497829 | K76: 0
B77: 65 | C77: Сметанкин Дмитрий Евгеньевич | D77: 1982 | E77: МС | H77: 0 | I77: 0 | J77: 0.81497829 | K77: 0
B78: 66 | C78: Козин Сергей Владимирович | D78: 1964 | E78: 1 | H78: 0 | I78: 0 | J78: 0.81497829 | K78: 0
B79: 67 | C79: Иванов Сергей Викторович | D79: 1984 | E79: 1 | H79: 0 | I79: 0 | J79: 0.81497829 | K79: 0
B80: 68 | C80: Семенов Александр Игоревич | D80: 1984 | E80: 1 | H80: 0 | I80: 0 | J80: 0.81497829 | K80: 0
B81: 69 | C81: Кулешов Вячеслав Станиславович | D81: 1985 | E81: 1 | H81: 0 | I81: 0 | J81: 0.81497829 | K81: 0
B82: 70 | C82: Басов Сергей Александрович | D82: 1985 | E82: 1 | H82: 0 | I82: 0 | J82: 0.81497829 | K82: 0
B83: 71 | C83: Докучаев Владимир Александрович | D83: 1958 | E83: МС | G83: 0 | H83: -0.23379304 | I83: -0.23379304 | J83: 0.81497829 | K83: -0.19053625

Sheet Отборочный рейтинг 2016
B2: ФЕДЕРАЦИЯ ПОДВОДНОГО СПОРТА РОССИИ
B4: код спортивной дисциплины 1460231511Л
B7: Протокол расчета очков отборочного рейтинга 2016 г.
B11: № пп | C11: Ф.И.О. Спортсмена | D11: Год рождения | E11: Спорт. Звание, разряд | F11: Очки рейтинга 2015 | G11: ЧР 2016 | H11: ВС 2016 | I11: Очки отборочного рейтинга 2016
D12: 0 | E12: 0
B13: 1 | C13: Ченцов Сергей Юрьевич | D13: 1978 | E13: МС | F13: 36.290744 | G13: =VLOOKUP(C13,'ЧР 2016'!$D$13:$J$61,7,FALSE) -> 100 | I13: =F13+G13+H13 -> 136.29074
B14: 2 | C14: Кежелис Сергей Александрович | D14: 1984 | E14: 1 | F14: 81.497829 | G14: =VLOOKUP(C14,'ЧР 2016'!$D$13:$J$61,7,FALSE) -> 41.060141 | I14: =F14+G14+H14 -> 122.55797
B15: 3 | C15: Левский Дмитрий Евгеньевич | G15: =VLOOKUP(C15,'ЧР 2016'!$D$13:$J$61,7,FALSE) -> 64.566409 | H15: =VLOOKUP(C15,'ВС Новоросийск 2016'!$D$13:$J$47,7,FALSE) -> 44.437519 | I15: =F15+G15+H15 -> 109.00393
B16: 4 | C16: Сизов Алексей Владимирович | G16: =VLOOKUP(C16,'ЧР 2016'!$D$13:$J$61,7,FALSE) -> 66.321674 | H16: =VLOOKUP(C16,'ВС Новоросийск 2016'!$D$13:$J$47,7,FALSE) -> 42.314522 | I16: =F16+G16+H16 -> 108.6362
B17: 5 | C17: Богатов Илья Александрович | D17: 1973 | E17: 1 | F17: 88.573648 | G17: =VLOOKUP(C17,'ЧР 2016'!$D$13:$J$61,7,FALSE) -> 0 | H17: =VLOOKUP(C17,'ВС Новоросийск 2016'!$D$13:$J$47,7,FALSE) -> 14.579363 | I17: =F17+G17+H17 -> 103.15301
B18: 6 | C18: Петров Сергей Александрович | D18: 1978 | E18: 1 | F18: 100 | G18: =VLOOKUP(C18,'ЧР 2016'!$D$13:$J$61,7,FALSE) -> 0 | I18: =F18+G18+H18 -> 100
B19: 7 | C19: Сидоров Петр Александрович | D19: 1980 | E19: МС | F19: 40.748915 | G19: =VLOOKUP(C19,'ЧР 2016'!$D$13:$J$61,7,FALSE) -> 50.364328 | H19: =VLOOKUP(C19,'ВС Новоросийск 2016'!$D$13:$J$47,7,FALSE) -> 0 | I19: =F19+G19+H19 -> 91.113243
B20: 8 | C20: Бабичев Александр Владимирович | D20: 1967 | E20: 1 | F20: 69.007191 | G20: =VLOOKUP(C20,'ЧР 2016'!$D$13:$J$61,7,FALSE) -> 5.2161944 | H20: =VLOOKUP(C20,'ВС Новоросийск 2016'!$D$13:$J$47,7,FALSE) -> 13.939348 | I20: =F20+G20+H20 -> 88.162734
B21: 9 | C21: Лубягин Максим Григорьевич | D21: 1982 | E21: МС | F21: 82.967857 | I21: =F21+G21+H21 -> 82.967857
B22: 10 | C22: Пустов Александр Вячеславович | D22: 1983 | E22: КМС | F22: 39.216114 | G22: =VLOOKUP(C22,'ЧР 2016'!$D$13:$J$61,7,FALSE) -> 16.165316 | H22: =VLOOKUP(C22,'ВС Новоросийск 2016'!$D$13:$J$47,7,FALSE) -> 26.245576 | I22: =F22+G22+H22 -> 81.627006
B23: 11 | C23: Сибгатуллин Илдар Искандерович | D23: 1985 | E23: 1 | F23: 46.208675 | G23: =VLOOKUP(C23,'ЧР 2016'!$D$13:$J$61,7,FALSE) -> 26.828119 | H23: =VLOOKUP(C23,'ВС Новоросийск 2016'!$D$13:$J$47,7,FALSE) -> 7.8584244 | I23: =F23+G23+H23 -> 80.895218
B24: 12 | C24: Корягин Антон Геннадьевич | D24: 1980 | E24: 1. | F24: 59.111494 | G24: =VLOOKUP(C24,'ЧР 2016'!$D$13:$J$61,7,FALSE) -> 17.97905 | H24: =VLOOKUP(C24,'ВС Новоросийск 2016'!$D$13:$J$47,7,FALSE) -> 0 | I24: =F24+G24+H24 -> 77.090544
B25: 13 | C25: Любецкий Дмитрий Александрович | D25: 1981 | E25: 1 | F25: 17.771592 | G25: =VLOOKUP(C25,'ЧР 2016'!$D$13:$J$61,7,FALSE) -> 9.2830052 | H25: =VLOOKUP(C25,'ВС Новоросийск 2016'!$D$13:$J$47,7,FALSE) -> 50 | I25: =F25+G25+H25 -> 77.054597
B26: 14 | C26: Петченко Роман Владимирович | D26: 1978 | E26: 1 | F26: 53.624984 | G26: =VLOOKUP(C26,'ЧР 2016'!$D$13:$J$61,7,FALSE) -> 22.139908 | I26: =F26+G26+H26 -> 75.764891
B27: 15 | C27: Цветов Михаил Викторович | G27: =VLOOKUP(C27,'ЧР 2016'!$D$13:$J$61,7,FALSE) -> 54.74045 | H27: =VLOOKUP(C27,'ВС Новоросийск 2016'!$D$13:$J$47,7,FALSE) -> 16.251435 | I27: =F27+G27+H27 -> 70.991885
B28: 16 | C28: Кузнецов Роман Феликсович | D28: 1969 | E28: МС | F28: 59.662527 | G28: =VLOOKUP(C28,'ЧР 2016'!$D$13:$J$61,7,FALSE) -> 10.796794 | H28: =VLOOKUP(C28,'ВС Новоросийск 2016'!$D$13:$J$47,7,FALSE) -> 0 | I28: =F28+G28+H28 -> 70.45932
B29: 17 | C29: Перевезенцев Александр Сергеевич | D29: 1985 | E29: 1 | F29: 36.165893 | G29: =VLOOKUP(C29,'ЧР 2016'!$D$13:$J$61,7,FALSE) -> 12.410586 | H29: =VLOOKUP(C29,'ВС Новоросийск 2016'!$D$13:$J$47,7,FALSE) -> 17.247482 | I29: =F29+G29+H29 -> 65.823961
B30: 18 | C30: Мещанюк Олег Юрьевич | G30: =VLOOKUP(C30,'ЧР 2016'!$D$13:$J$61,7,FALSE) -> 32.68585 | H30: =VLOOKUP(C30,'ВС Новоросийск 2016'!$D$13:$J$47,7,FALSE) -> 28.65505 | I30: =F30+G30+H30 -> 61.340901
B31: 19 | C31: Белинский Владимир Владимирович | D31: 1981 | E31: 1 | F31: 59.535998 | G31: =VLOOKUP(C31,'ЧР 2016'!$D$13:$J$61,7,FALSE) -> 0 | I31: =F31+G31+H31 -> 59.535998
B32: 20 | C32: Рачков Роман Евгеньевич | D32: 1978 | E32: 1 | F32: 49.058253 | G32: =VLOOKUP(C32,'ЧР 2016'!$D$13:$J$61,7,FALSE) -> 0 | H32: =VLOOKUP(C32,'ВС Новоросийск 2016'!$D$13:$J$47,7,FALSE) -> 2.7712637 | I32: =F32+G32+H32 -> 51.829517
B33: 21 | C33: Костырев Александр Николаевич | D33: 1985 | E33: 1 | F33: 49.500326 | I33: =F33+G33+H33 -> 49.500326
B34: 22 | C34: Кузнецов Максим Романович | D34: 1996 | E34: 1 | F34: 40.47508 | I34: =F34+G34+H34 -> 40.47508
B35: 23 | C35: Маслов Олег Борисович | D35: 1970 | E35: КМС | F35: 36.462422 | I35: =F35+G35+H35 -> 36.462422
B36: 24 | C36: Горохов Валерий Сергеевич | D36: 1975 | E36: МС | F36: 0 | G36: =VLOOKUP(C36,'ЧР 2016'!$D$13:$J$61,7,FALSE) -> 18.268015 | H36: =VLOOKUP(C36,'ВС Новоросийск 2016'!$D$13:$J$47,7,FALSE) -> 14.838007 | I36: =F36+G36+H36 -> 33.106022
B37: 25 | C37: Исаев Кирилл Борисович | G37: =VLOOKUP(C37,'ЧР 2016'!$D$13:$J$61,7,FALSE) -> 23.824797 | H37: =VLOOKUP(C37,'ВС Новоросийск 2016'!$D$13:$J$47,7,FALSE) -> 7.5142935 | I37: =F37+G37+H37 -> 31.339091
B38: 26 | C38: Докучаев Владимир Александрович | D38: 1958 | E38: МС | F38: -0.19053625 | G38: =VLOOKUP(C38,'ЧР 2016'!$D$13:$J$61,7,FALSE) -> 30.63703 | I38: =F38+G38+H38 -> 30.446494
B39: 27 | C39: Бережной Сергей Владимирович | D39: 1970 | E39: КМС | F39: 29.479097 | G39: =VLOOKUP(C39,'ЧР 2016'!$D$13:$J$61,7,FALSE) -> 0 | I39: =F39+G39+H39 -> 29.479097
B40: 28 | C40: Паутов Виктор Викторович | G40: =VLOOKUP(C40,'ЧР 2016'!$D$13:$J$61,7,FALSE) -> 21.291249 | H40: =VLOOKUP(C40,'ВС Новоросийск 2016'!$D$13:$J$47,7,FALSE) -> 7.7184863 | I40: =F40+G40+H40 -> 29.009735
B41: 29 | C41: Попов Сергей Станиславович | D41: 1974 | E41: 1 | F41: 0 | G41: =VLOOKUP(C41,'ЧР 2016'!$D$13:$J$61,7,FALSE) -> 27.076976 | I41: =F41+G41+H41 -> 27.076976
B42: 30 | C42: Стаценко Вячеслав Викторович | G42: =VLOOKUP(C42,'ЧР 2016'!$D$13:$J$61,7,FALSE) -> 20.698193 | H42: =VLOOKUP(C42,'ВС Новоросийск 2016'!$D$13:$J$47,7,FALSE) -> 6.0408296 | I42: =F42+G42+H42 -> 26.739022
B43: 31 | C43: Анашкин Дмитрий Валентинович | D43: 1974 | E43: КМС | F43: 25.864725 | I43: =F43+G43+H43 -> 25.864725
B44: 32 | C44: Арцимович Денис Леонидович | D44: 1974 | E44: 1 | F44: 25.504184 | I44: =F44+G44+H44 -> 25.504184
B45: 33 | C45: Клапша Дмитрий Валерьевич | E45: 1 | F45: 11.757197 | G45: =VLOOKUP(C45,'ЧР 2016'!$D$13:$J$61,7,FALSE) -> 12.208777 | H45: =VLOOKUP(C45,'ВС Новоросийск 2016'!$D$13:$J$47,7,FALSE) -> 0 | I45: =F45+G45+H45 -> 23.965974
B46: 34 | C46: Бельтюков Виктор Викторович | D46: 1983 | E46: 1 | F46: 21.631206 | I46: =F46+G46+H46 -> 21.631206
B47: 35 | C47: Смирнов Алексей Андреевич | D47: 1989 | E47: МС | F47: 0 | G47: =VLOOKUP(C47,'ЧР 2016'!$D$13:$J$61,7,FALSE) -> 20.592933 | H47: =VLOOKUP(C47,'ВС Новоросийск 2016'!$D$13:$J$47,7,FALSE) -> 0 | I47: =F47+G47+H47 -> 20.592933
B48: 36 | C48: Баранов Максим Симонович | D48: 1978 | E48: 1 | F48: 14.736146 | I48: =F48+G48+H48 -> 14.736146
B49: 37 | C49: Антимонов Роман Валерьевич | D49: 1973 | E49: 1 | F49: 0 | G49: =VLOOKUP(C49,'ЧР 2016'!$D$13:$J$61,7,FALSE) -> 14.321835 | H49: =VLOOKUP(C49,'ВС Новоросийск 2016'!$D$13:$J$47,7,FALSE) -> 0 | I49: =F49+G49+H49 -> 14.321835
B50: 38 | C50: Леонов Алексей Викторович | D50: 1971 | E50: 2 | F50: 0 | G50: =VLOOKUP(C50,'ЧР 2016'!$D$13:$J$61,7,FALSE) -> 0 | H50: =VLOOKUP(C50,'ВС Новоросийск 2016'!$D$13:$J$47,7,FALSE) -> 14.099724 | I50: =F50+G50+H50 -> 14.099724
B51: 39 | C51: Васильев Артем Игоревич | G51: =VLOOKUP(C51,'ЧР 2016'!$D$13:$J$61,7,FALSE) -> 0 | H51: =VLOOKUP(C51,'ВС Новоросийск 2016'!$D$13:$J$47,7,FALSE) -> 14.006171 | I51: =F51+G51+H51 -> 14.006171
B52: 40 | C52: Семенов Александр Игоревич | D52: 1984 | E52: 1 | F52: 0 | G52: =VLOOKUP(C52,'ЧР 2016'!$D$13:$J$61,7,FALSE) -> 9.156583 | I52: =F52+G52+H52 -> 9.156583
B53: 41 | C53: Бурцев Александр Анатольевич | D53: 1984 | E53: МС | F53: 8.4277867 | I53: =F53+G53+H53 -> 8.4277867
B54: 42 | C54: Недальченко Иван Владимирович | D54: 1974 | E54: 1. | F54: 0 | G54: =VLOOKUP(C54,'ЧР 2016'!$D$13:$J$61,7,FALSE) -> 0 | H54: =VLOOKUP(C54,'ВС Новоросийск 2016'!$D$13:$J$47,7,FALSE) -> 6.2755241 | I54: =F54+G54+H54 -> 6.2755241
B55: 43 | C55: Фещенко Андрей Владимирович | D55: 1972 | E55: МС | F55: 6.0165399 | I55: =F55+G55+H55 -> 6.0165399
B56: 44 | C56: Громов Андрей Олегович | D56: 1984 | E56: 2 | F56: 5.7852492 | I56: =F56+G56+H56 -> 5.7852492
B57: 45 | C57: Виноградов Евгений Иванович | D57: 1964 | E57: КМС | F57: 5.2532129 | I57: =F57+G57+H57 -> 5.2532129
B58: 46 | C58: Алексеев Дмитрий Владимирович | D58: 1981 | E58: 1 | F58: 0 | I58: =F58+G58+H58 -> 0
B59: 47 | C59: Антонов Павел Евгеньевич | D59: 1962 | E59: МС | F59: 0 | I59: =F59+G59+H59 -> 0
B60: 48 | C60: Бабанов Сергей Николаевич | G60: =VLOOKUP(C60,'ЧР 2016'!$D$13:$J$61,7,FALSE) -> 0 | I60: =F60+G60+H60 -> 0
B61: 49 | C61: Бармашов Игорь Викторович | D61: 1963 | E61: 2 | F61: 0 | G61: =VLOOKUP(C61,'ЧР 2016'!$D$13:$J$61,7,FALSE) -> 0 | I61: =F61+G61+H61 -> 0
B62: 50 | C62: Барсов Валерий Владимирович | G62: =VLOOKUP(C62,'ЧР 2016'!$D$13:$J$61,7,FALSE) -> 0 | I62: =F62+G62+H62 -> 0
B63: 51 | C63: Басов Сергей Александрович | D63: 1985 | E63: 1 | F63: 0 | I63: =F63+G63+H63 -> 0
B64: 52 | C64: Березкин Анатолий Борисович | G64: =VLOOKUP(C64,'ЧР 2016'!$D$13:$J$61,7,FALSE) -> 0 | I64: =F64+G64+H64 -> 0
B65: 53 | C65: Берест Дмитрий Григорьевич | D65: 1970 | E65: 1 | F65: 0 | I65: =F65+G65+H65 -> 0
B66: 54 | C66: Босов Сергей Александрович | G66: =VLOOKUP(C66,'ЧР 2016'!$D$13:$J$61,7,FALSE) -> 0 | I66: =F66+G66+H66 -> 0
B67: 55 | C67: Головизнин Сергей Геннадьевич | D67: 1964 | E67: 2 | F67: 0 | I67: =F67+G67+H67 -> 0
B68: 56 | C68: Громов Олег Леонидович | D68: 1962 | E68: 1 | F68: 0 | I68: =F68+G68+H68 -> 0
B69: 57 | C69: Давыдов Денис Сергеевич | D69: 1982 | E69: 1 | F69: 0 | G69: =VLOOKUP(C69,'ЧР 2016'!$D$13:$J$61,7,FALSE) -> 0 | H69: =VLOOKUP(C69,'ВС Новоросийск 2016'!$D$13:$J$47,7,FALSE) -> 0 | I69: =F69+G69+H69 -> 0
B70: 58 | C70: Дударев Сергей Александрович | G70: =VLOOKUP(C70,'ЧР 2016'!$D$13:$J$61,7,FALSE) -> 0 | H70: =VLOOKUP(C70,'ВС Новоросийск 2016'!$D$13:$J$47,7,FALSE) -> 0 | I70: =F70+G70+H70 -> 0
B71: 59 | C71: Затешилов Алексей Геннадиевич | D71: 1971 | E71: 1 | F71: 0 | I71: =F71+G71+H71 -> 0
B72: 60 | C72: Зенин Андрей Михайлович | D72: 1963 | E72: МС | F72: 0 | I72: =F72+G72+H72 -> 0
B73: 61 | C73: Иванов Сергей Викторович | D73: 1984 | E73: 1 | F73: 0 | I73: =F73+G73+H73 -> 0
B74: 62 | C74: Исаков Александр Вячеславович | D74: 1975 | E74: 1 | F74: 0 | I74: =F74+G74+H74 -> 0
B75: 63 | C75: Каменщикова Анна Викторовна | D75: 1989 | E75: КМС | F75: 0 | I75: =F75+G75+H75 -> 0
B76: 64 | C76: Катасонов Александр Геннадиевич | D76: 1982 | E76: 1 | F76: 0 | I76: =F76+G76+H76 -> 0
B77: 65 | C77: Катасонов Михаил Вячеславович | D77: 1980 | E77: 1 | F77: 0 | I77: =F77+G77+H77 -> 0
B78: 66 | C78: Козин Сергей Владимирович | D78: 1964 | E78: 1 | F78: 0 | I78: =F78+G78+H78 -> 0
B79: 67 | C79: Колпачников Роман Леонидович | D79: 1977 | E79: МС | F79: 0 | G79: =VLOOKUP(C79,'ЧР 2016'!$D$13:$J$61,7,FALSE) -> 0 | H79: =VLOOKUP(C79,'ВС Новоросийск 2016'!$D$13:$J$47,7,FALSE) -> 0 | I79: =F79+G79+H79 -> 0
B80: 68 | C80: Коровников Сергей Валерьевич | D80: 1982 | E80: 1 | F80: 0 | G80: =VLOOKUP(C80,'ЧР 2016'!$D$13:$J$61,7,FALSE) -> 0 | H80: =VLOOKUP(C80,'ВС Новоросийск 2016'!$D$13:$J$47,7,FALSE) -> 0 | I80: =F80+G80+H80 -> 0
B81: 69 | C81: Краснов Егор Алексеевич | G81: =VLOOKUP(C81,'ЧР 2016'!$D$13:$J$61,7,FALSE) -> 0 | H81: =VLOOKUP(C81,'ВС Новоросийск 2016'!$D$13:$J$47,7,FALSE) -> 0 | I81: =F81+G81+H81 -> 0
B82: 70 | C82: Кулешов Вячеслав Станиславович | D82: 1985 | E82: 1 | F82: 0 | I82: =F82+G82+H82 -> 0
B83: 71 | C83: Курбатов Павел Валерьевич | D83: 1982 | E83: КМС | F83: 0 | G83: =VLOOKUP(C83,'ЧР 2016'!$D$13:$J$61,7,FALSE) -> 0 | H83: =VLOOKUP(C83,'ВС Новоросийск 2016'!$D$13:$J$47,7,FALSE) -> 0 | I83: =F83+G83+H83 -> 0
B84: 72 | C84: Липин Михаил Владимирович | G84: =VLOOKUP(C84,'ЧР 2016'!$D$13:$J$61,7,FALSE) -> 0 | I84: =F84+G84+H84 -> 0
B85: 73 | C85: Лозовик Сергей Геннадьевич | H85: =VLOOKUP(C85,'ВС Новоросийск 2016'!$D$13:$J$47,7,FALSE) -> 0 | I85: =F85+G85+H85 -> 0
B86: 74 | C86: Луценко Владимир Анатольевич | D86: 1958 | E86: 1 | F86: 0 | I86: =F86+G86+H86 -> 0
B87: 75 | C87: Миклин Александр Рудольфович | D87: 1984 | E87: МС | F87: 0 | I87: =F87+G87+H87 -> 0
B88: 76 | C88: Нетылько Сергей | G88: =VLOOKUP(C88,'ЧР 2016'!$D$13:$J$61,7,FALSE) -> 0 | I88: =F88+G88+H88 -> 0
B89: 77 | C89: Новиков Андрей Леонидович | D89: 1974. | E89: 1 | F89: 0 | I89: =F89+G89+H89 -> 0
B90: 78 | C90: Новопашин Евгений Павлович | H90: =VLOOKUP(C90,'ВС Новоросийск 2016'!$D$13:$J$47,7,FALSE) -> 0 | I90: =F90+G90+H90 -> 0
B91: 79 | C91: Петров Денис Сергеевич | D91: 1975 | E91: 1 | F91: 0 | I91: =F91+G91+H91 -> 0
B92: 80 | C92: Подставкин Сергей Васильевич | D92: 1966 | E92: КМС | F92: 0 | I92: =F92+G92+H92 -> 0
B93: 81 | C93: Резниченко Денис Игоревич | D93: 1980 | E93: 1 | F93: 0 | I93: =F93+G93+H93 -> 0
B94: 82 | C94: Рудницкий Андрей Иванович | D94: 1982 | E94: 1 | F94: 0 | I94: =F94+G94+H94 -> 0
B95: 83 | C95: Сметанкин Дмитрий Евгеньевич | D95: 1982 | E95: МС | F95: 0 | I95: =F95+G95+H95 -> 0
B96: 84 | C96: Смирнов Михаил Владимирович | D96: 1961 | E96: 1 | F96: 0 | I96: =F96+G96+H96 -> 0
B97: 85 | C97: Стародубцев Сергей Геннадьевич | D97: 1965 | E97: 1 | F97: 0 | I97: =F97+G97+H97 -> 0
B98: 86 | C98: Суховерхов Павел Александрович | D98: 1980 | E98: КМС | F98: 0 | I98: =F98+G98+H98 -> 0
B99: 87 | C99: Титов Сергей Павлович | D99: 1980 | E99: МС | F99: 0 | I99: =F99+G99+H99 -> 0
B100: 88 | C100: Ульянов Игорь Владимирович | G100: =VLOOKUP(C100,'ЧР 2016'!$D$13:$J$61,7,FALSE) -> 0 | H100: =VLOOKUP(C100,'ВС Новоросийск 2016'!$D$13:$J$47,7,FALSE) -> 0 | I100: =F100+G100+H100 -> 0
B101: 89 | C101: Федорищева Мария Витальевна | H101: =VLOOKUP(C101,'ВС Новоросийск 2016'!$D$13:$J$47,7,FALSE) -> 0 | I101: =F101+G101+H101 -> 0
B102: 90 | C102: Числов Александр Владимирович | G102: =VLOOKUP(C102,'ЧР 2016'!$D$13:$J$61,7,FALSE) -> 0 | H102: =VLOOKUP(C102,'ВС Новоросийск 2016'!$D$13:$J$47,7,FALSE) -> 0 | I102: =F102+G102+H102 -> 0
B103: 91 | C103: Широнин Николай Александрович | D103: 1962 | E103: 2 | F103: 0 | I103: =F103+G103+H103 -> 0
B104: 92 | C104: Иванов Юрий Александрович | D104: 1978 | E104: 1 | F104: 0 | G104: =VLOOKUP(C104,'ЧР 2016'!$D$13:$J$61,7,FALSE) -> -7.8086743 | I104: =F104+G104+H104 -> -7.8086743

Sheet Рейтинг 2016
B2: ФЕДЕРАЦИЯ ПОДВОДНОГО СПОРТА РОССИИ
B4: код спортивной дисциплины 1460231511Л
B7: Протокол расчета очков рейтинга 2016 г.
B9: № пп | C9: Ф.И.О. Спортсмена | D9: Год рождения | E9: Спорт. Звание, разряд | F9: ЧР 2016 | G9: ВС Новороссийск 2016 | H9: ВС Крым 2016 | I9: КР 2016 | J9: Сумма ПП | K9: k рейтинга | L9: Очки рейтинга 2016
F10: ПП | G10: ПП | H10: ПП | I10: ПП
D11: 0 | E11: 0 | F11: 100 | G11: 50 | H11: 50 | I11: 75 | K11: =100/J12 -> 0.91739813
B12: 1 | C12: Левский Дмитрий Евгеньевич | F12: =VLOOKUP(C12,'ЧР 2016'!$D$13:$J$61,7,FALSE) -> 64.566409 | G12: =VLOOKUP(C12,'ВС Новоросийск 2016'!$D$13:$J$47,7,FALSE) -> 44.437519 | J12: =F12+G12+H12+I12 -> 109.00393 | K12: =$K$11 -> 0.91739813 | L12: =J12*K12 -> 100
B13: 2 | C13: Сизов Алексей Владимирович | F13: =VLOOKUP(C13,'ЧР 2016'!$D$13:$J$61,7,FALSE) -> 66.321674 | G13: =VLOOKUP(C13,'ВС Новоросийск 2016'!$D$13:$J$47,7,FALSE) -> 42.314522 | J13: =F13+G13+H13+I13 -> 108.6362 | K13: =$K$11 -> 0.91739813 | L13: =J13*K13 -> 99.662643
B14: 3 | C14: Ченцов Сергей Юрьевич | D14: 1978 | E14: МС | F14: =VLOOKUP(C14,'ЧР 2016'!$D$13:$J$61,7,FALSE) -> 100 | J14: =F14+G14+H14+I14 -> 100 | K14: =$K$11 -> 0.91739813 | L14: =J14*K14 -> 91.739813
B15: 4 | C15: Корягин Антон Геннадьевич | D15: 1980 | E15: 1. | F15: =VLOOKUP(C15,'ЧР 2016'!$D$13:$J$61,7,FALSE) -> 17.97905 | G15: =VLOOKUP(C15,'ВС Новоросийск 2016'!$D$13:$J$47,7,FALSE) -> 0 | H15: =VLOOKUP(C15,'Крым 2016'!$D$18:$N$42,11,FALSE) -> 0 | I15: =VLOOKUP(C15,'КР 2016'!$D$18:$N$32,11,FALSE) -> 75 | J15: =F15+G15+H15+I15 -> 92.97905 | K15: =$K$11 -> 0.91739813 | L15: =J15*K15 -> 85.298807
B16: 5 | C16: Кежелис Сергей Александрович | D16: 1984 | E16: 1 | F16: =VLOOKUP(C16,'ЧР 2016'!$D$13:$J$61,7,FALSE) -> 41.060141 | H16: =VLOOKUP(C16,'Крым 2016'!$D$18:$N$42,11,FALSE) -> 50 | J16: =F16+G16+H16+I16 -> 91.060141 | K16: =$K$11 -> 0.91739813 | L16: =J16*K16 -> 83.538403
B17: 6 | C17: Мещанюк Олег Юрьевич | F17: =VLOOKUP(C17,'ЧР 2016'!$D$13:$J$61,7,FALSE) -> 32.68585 | G17: =VLOOKUP(C17,'ВС Новоросийск 2016'!$D$13:$J$47,7,FALSE) -> 28.65505 | H17: =VLOOKUP(C17,'Крым 2016'!$D$18:$N$42,11,FALSE) -> 0 | I17: =VLOOKUP(C17,'КР 2016'!$D$18:$N$32,11,FALSE) -> 16.177963 | J17: =F17+G17+H17+I17 -> 77.518864 | K17: =$K$11 -> 0.91739813 | L17: =J17*K17 -> 71.115661
B18: 7 | C18: Цветов Михаил Викторович | F18: =VLOOKUP(C18,'ЧР 2016'!$D$13:$J$61,7,FALSE) -> 54.74045 | G18: =VLOOKUP(C18,'ВС Новоросийск 2016'!$D$13:$J$47,7,FALSE) -> 16.251435 | J18: =F18+G18+H18+I18 -> 70.991885 | K18: =$K$11 -> 0.91739813 | L18: =J18*K18 -> 65.127823
B19: 8 | C19: Петченко Роман Владимирович | D19: 1978 | E19: 1 | F19: =VLOOKUP(C19,'ЧР 2016'!$D$13:$J$61,7,FALSE) -> 22.139908 | H19: =VLOOKUP(C19,'Крым 2016'!$D$18:$N$42,11,FALSE) -> 38.172121 | J19: =F19+G19+H19+I19 -> 60.312029 | K19: =$K$11 -> 0.91739813 | L19: =J19*K19 -> 55.330143
B20: 9 | C20: Любецкий Дмитрий Александрович | D20: 1981 | E20: 1 | F20: =VLOOKUP(C20,'ЧР 2016'!$D$13:$J$61,7,FALSE) -> 9.2830052 | G20: =VLOOKUP(C20,'ВС Новоросийск 2016'!$D$13:$J$47,7,FALSE) -> 50 | J20: =F20+G20+H20+I20 -> 59.283005 | K20: =$K$11 -> 0.91739813 | L20: =J20*K20 -> 54.386118
B21: 10 | C21: Колганов Юрий Валерьевич | D21: 1974 | E21: 1 | I21: =VLOOKUP(C21,'КР 2016'!$D$18:$N$32,11,FALSE) -> 57.69397 | J21: =F21+G21+H21+I21 -> 57.69397 | K21: =$K$11 -> 0.91739813 | L21: =J21*K21 -> 52.92834
B22: 11 | C22: Сидоров Петр Александрович | D22: 1980 | E22: МС | F22: =VLOOKUP(C22,'ЧР 2016'!$D$13:$J$61,7,FALSE) -> 50.364328 | G22: =VLOOKUP(C22,'ВС Новоросийск 2016'!$D$13:$J$47,7,FALSE) -> 0 | J22: =F22+G22+H22+I22 -> 50.364328 | K22: =$K$11 -> 0.91739813 | L22: =J22*K22 -> 46.204141
B23: 12 | C23: Пустов Александр Вячеславович | D23: 1983 | E23: КМС | F23: =VLOOKUP(C23,'ЧР 2016'!$D$13:$J$61,7,FALSE) -> 16.165316 | G23: =VLOOKUP(C23,'ВС Новоросийск 2016'!$D$13:$J$47,7,FALSE) -> 26.245576 | H23: =VLOOKUP(C23,'Крым 2016'!$D$18:$N$42,11,FALSE) -> 0 | J23: =F23+G23+H23+I23 -> 42.410892 | K23: =$K$11 -> 0.91739813 | L23: =J23*K23 -> 38.907673
B24: 13 | C24: Рачков Роман Евгеньевич | D24: 1978 | E24: 1 | F24: =VLOOKUP(C24,'ЧР 2016'!$D$13:$J$61,7,FALSE) -> 0 | G24: =VLOOKUP(C24,'ВС Новоросийск 2016'!$D$13:$J$47,7,FALSE) -> 2.7712637 | H24: =VLOOKUP(C24,'Крым 2016'!$D$18:$N$42,11,FALSE) -> 38.902524 | J24: =F24+G24+H24+I24 -> 41.673788 | K24: =$K$11 -> 0.91739813 | L24: =J24*K24 -> 38.231455
B25: 14 | C25: Сибгатуллин Илдар Искандерович | D25: 1985 | E25: 1 | F25: =VLOOKUP(C25,'ЧР 2016'!$D$13:$J$61,7,FALSE) -> 26.828119 | G25: =VLOOKUP(C25,'ВС Новоросийск 2016'!$D$13:$J$47,7,FALSE) -> 7.8584244 | J25: =F25+G25+H25+I25 -> 34.686544 | K25: =$K$11 -> 0.91739813 | L25: =J25*K25 -> 31.82137
B26: 15 | C26: Горохов Валерий Сергеевич | D26: 1975 | E26: МС | F26: =VLOOKUP(C26,'ЧР 2016'!$D$13:$J$61,7,FALSE) -> 18.268015 | G26: =VLOOKUP(C26,'ВС Новоросийск 2016'!$D$13:$J$47,7,FALSE) -> 14.838007 | J26: =F26+G26+H26+I26 -> 33.106022 | K26: =$K$11 -> 0.91739813 | L26: =J26*K26 -> 30.371403
B27: 16 | C27: Исаев Кирилл Борисович | F27: =VLOOKUP(C27,'ЧР 2016'!$D$13:$J$61,7,FALSE) -> 23.824797 | G27: =VLOOKUP(C27,'ВС Новоросийск 2016'!$D$13:$J$47,7,FALSE) -> 7.5142935 | H27: =VLOOKUP(C27,'Крым 2016'!$D$18:$N$42,11,FALSE) -> 0 | J27: =F27+G27+H27+I27 -> 31.339091 | K27: =$K$11 -> 0.91739813 | L27: =J27*K27 -> 28.750423
B28: 17 | C28: Белинский Владимир Владимирович | D28: 1981 | E28: 1 | F28: =VLOOKUP(C28,'ЧР 2016'!$D$13:$J$61,7,FALSE) -> 0 | H28: =VLOOKUP(C28,'Крым 2016'!$D$18:$N$42,11,FALSE) -> 31.269371 | J28: =F28+G28+H28+I28 -> 31.269371 | K28: =$K$11 -> 0.91739813 | L28: =J28*K28 -> 28.686462
B29: 18 | C29: Докучаев Владимир Александрович | D29: 1958 | E29: МС | F29: =VLOOKUP(C29,'ЧР 2016'!$D$13:$J$61,7,FALSE) -> 30.63703 | J29: =F29+G29+H29+I29 -> 30.63703 | K29: =$K$11 -> 0.91739813 | L29: =J29*K29 -> 28.106354
B30: 19 | C30: Петров Сергей Александрович | D30: 1978 | E30: 1 | F30: =VLOOKUP(C30,'ЧР 2016'!$D$13:$J$61,7,FALSE) -> 0 | H30: =VLOOKUP(C30,'Крым 2016'!$D$18:$N$42,11,FALSE) -> 30.36985 | J30: =F30+G30+H30+I30 -> 30.36985 | K30: =$K$11 -> 0.91739813 | L30: =J30*K30 -> 27.861244
B31: 20 | C31: Перевезенцев Александр Сергеевич | D31: 1985 | E31: 1 | F31: =VLOOKUP(C31,'ЧР 2016'!$D$13:$J$61,7,FALSE) -> 12.410586 | G31: =VLOOKUP(C31,'ВС Новоросийск 2016'!$D$13:$J$47,7,FALSE) -> 17.247482 | J31: =F31+G31+H31+I31 -> 29.658068 | K31: =$K$11 -> 0.91739813 | L31: =J31*K31 -> 27.208256
B32: 21 | C32: Паутов Виктор Викторович | F32: =VLOOKUP(C32,'ЧР 2016'!$D$13:$J$61,7,FALSE) -> 21.291249 | G32: =VLOOKUP(C32,'ВС Новоросийск 2016'!$D$13:$J$47,7,FALSE) -> 7.7184863 | J32: =F32+G32+H32+I32 -> 29.009735 | K32: =$K$11 -> 0.91739813 | L32: =J32*K32 -> 26.613477
B33: 22 | C33: Попов Сергей Станиславович | D33: 1974 | E33: 1 | F33: =VLOOKUP(C33,'ЧР 2016'!$D$13:$J$61,7,FALSE) -> 27.076976 | J33: =F33+G33+H33+I33 -> 27.076976 | K33: =$K$11 -> 0.91739813 | L33: =J33*K33 -> 24.840367
B34: 23 | C34: Стаценко Вячеслав Викторович | F34: =VLOOKUP(C34,'ЧР 2016'!$D$13:$J$61,7,FALSE) -> 20.698193 | G34: =VLOOKUP(C34,'ВС Новоросийск 2016'!$D$13:$J$47,7,FALSE) -> 6.0408296 | J34: =F34+G34+H34+I34 -> 26.739022 | K34: =$K$11 -> 0.91739813 | L34: =J34*K34 -> 24.530329
B35: 24 | C35: Черданцев Олег Геннадьевич | D35: 1973 | E35: 1 | I35: =VLOOKUP(C35,'КР 2016'!$D$18:$N$32,11,FALSE) -> 21.57147 | J35: =F35+G35+H35+I35 -> 21.57147 | K35: =$K$11 -> 0.91739813 | L35: =J35*K35 -> 19.789627
B36: 25 | C36: Кравченко Алексей Геральдович | D36: 1968 | E36: 1 | I36: =VLOOKUP(C36,'КР 2016'!$D$18:$N$32,11,FALSE) -> 20.775974 | J36: =F36+G36+H36+I36 -> 20.775974 | K36: =$K$11 -> 0.91739813 | L36: =J36*K36 -> 19.05984
B37: 26 | C37: Смирнов Алексей Андреевич | D37: 1989 | E37: МС | F37: =VLOOKUP(C37,'ЧР 2016'!$D$13:$J$61,7,FALSE) -> 20.592933 | G37: =VLOOKUP(C37,'ВС Новоросийск 2016'!$D$13:$J$47,7,FALSE) -> 0 | J37: =F37+G37+H37+I37 -> 20.592933 | K37: =$K$11 -> 0.91739813 | L37: =J37*K37 -> 18.891918
B38: 27 | C38: Бабичев Александр Владимирович | D38: 1967 | E38: 1 | F38: =VLOOKUP(C38,'ЧР 2016'!$D$13:$J$61,7,FALSE) -> 5.2161944 | G38: =VLOOKUP(C38,'ВС Новоросийск 2016'!$D$13:$J$47,7,FALSE) -> 13.939348 | J38: =F38+G38+H38+I38 -> 19.155542 | K38: =$K$11 -> 0.91739813 | L38: =J38*K38 -> 17.573259
B39: 28 | C39: Параничев Алексей Спартакович | D39: 1965 | E39: 2 | H39: =VLOOKUP(C39,'Крым 2016'!$D$18:$N$42,11,FALSE) -> 17.806354 | J39: =F39+G39+H39+I39 -> 17.806354 | K39: =$K$11 -> 0.91739813 | L39: =J39*K39 -> 16.335516
B40: 29 | C40: Иванов Юрий Александрович | D40: 1978 | E40: 1 | F40: =VLOOKUP(C40,'ЧР 2016'!$D$13:$J$61,7,FALSE) -> -7.8086743 | H40: =VLOOKUP(C40,'Крым 2016'!$D$18:$N$42,11,FALSE) -> 24.124993 | J40: =F40+G40+H40+I40 -> 16.316318 | K40: =$K$11 -> 0.91739813 | L40: =J40*K40 -> 14.96856
B41: 30 | C41: Осокин Сергей Леонидович | D41: 1972 | E41: 1 | I41: =VLOOKUP(C41,'КР 2016'!$D$18:$N$32,11,FALSE) -> 16.210288 | J41: =F41+G41+H41+I41 -> 16.210288 | K41: =$K$11 -> 0.91739813 | L41: =J41*K41 -> 14.871288
B42: 31 | C42: Богатов Илья Александрович | D42: 1973 | E42: 1 | F42: =VLOOKUP(C42,'ЧР 2016'!$D$13:$J$61,7,FALSE) -> 0 | G42: =VLOOKUP(C42,'ВС Новоросийск 2016'!$D$13:$J$47,7,FALSE) -> 14.579363 | J42: =F42+G42+H42+I42 -> 14.579363 | K42: =$K$11 -> 0.91739813 | L42: =J42*K42 -> 13.37508
B43: 32 | C43: Антимонов Роман Валерьевич | D43: 1973 | E43: 1 | F43: =VLOOKUP(C43,'ЧР 2016'!$D$13:$J$61,7,FALSE) -> 14.321835 | G43: =VLOOKUP(C43,'ВС Новоросийск 2016'!$D$13:$J$47,7,FALSE) -> 0 | H43: =VLOOKUP(C43,'Крым 2016'!$D$18:$N$42,11,FALSE) -> 0 | J43: =F43+G43+H43+I43 -> 14.321835 | K43: =$K$11 -> 0.91739813 | L43: =J43*K43 -> 13.138825
B44: 33 | C44: Леонов Алексей Викторович | D44: 1971 | E44: 2 | F44: =VLOOKUP(C44,'ЧР 2016'!$D$13:$J$61,7,FALSE) -> 0 | G44: =VLOOKUP(C44,'ВС Новоросийск 2016'!$D$13:$J$47,7,FALSE) -> 14.099724 | J44: =F44+G44+H44+I44 -> 14.099724 | K44: =$K$11 -> 0.91739813 | L44: =J44*K44 -> 12.93506
B45: 34 | C45: Ширин Александр Михайлович | D45: 1980 | E45: 1 | I45: =VLOOKUP(C45,'КР 2016'!$D$18:$N$32,11,FALSE) -> 14.040552 | J45: =F45+G45+H45+I45 -> 14.040552 | K45: =$K$11 -> 0.91739813 | L45: =J45*K45 -> 12.880776
B46: 35 | C46: Васильев Артем Игоревич | F46: =VLOOKUP(C46,'ЧР 2016'!$D$13:$J$61,7,FALSE) -> 0 | G46: =VLOOKUP(C46,'ВС Новоросийск 2016'!$D$13:$J$47,7,FALSE) -> 14.006171 | J46: =F46+G46+H46+I46 -> 14.006171 | K46: =$K$11 -> 0.91739813 | L46: =J46*K46 -> 12.849235
B47: 36 | C47: Резниченко Денис Игоревич | D47: 1980 | E47: 1 | I47: =VLOOKUP(C47,'КР 2016'!$D$18:$N$32,11,FALSE) -> 13.048156 | J47: =F47+G47+H47+I47 -> 13.048156 | K47: =$K$11 -> 0.91739813 | L47: =J47*K47 -> 11.970354
B48: 37 | C48: Клапша Дмитрий Валерьевич | E48: 1 | F48: =VLOOKUP(C48,'ЧР 2016'!$D$13:$J$61,7,FALSE) -> 12.208777 | G48: =VLOOKUP(C48,'ВС Новоросийск 2016'!$D$13:$J$47,7,FALSE) -> 0 | J48: =F48+G48+H48+I48 -> 12.208777 | K48: =$K$11 -> 0.91739813 | L48: =J48*K48 -> 11.20031
B49: 38 | C49: Ларичев Сергей Александрович | D49: 1976 | E49: 1 | I49: =VLOOKUP(C49,'КР 2016'!$D$18:$N$32,11,FALSE) -> 12.060341 | J49: =F49+G49+H49+I49 -> 12.060341 | K49: =$K$11 -> 0.91739813 | L49: =J49*K49 -> 11.064134
B50: 39 | C50: Кузнецов Роман Феликсович | D50: 1969 | E50: МС | F50: =VLOOKUP(C50,'ЧР 2016'!$D$13:$J$61,7,FALSE) -> 10.796794 | G50: =VLOOKUP(C50,'ВС Новоросийск 2016'!$D$13:$J$47,7,FALSE) -> 0 | H50: =VLOOKUP(C50,'Крым 2016'!$D$18:$N$42,11,FALSE) -> 0 | J50: =F50+G50+H50+I50 -> 10.796794 | K50: =$K$11 -> 0.91739813 | L50: =J50*K50 -> 9.9049584
B51: 40 | C51: Семенов Александр Игоревич | D51: 1984 | E51: 1 | F51: =VLOOKUP(C51,'ЧР 2016'!$D$13:$J$61,7,FALSE) -> 9.156583 | J51: =F51+G51+H51+I51 -> 9.156583 | K51: =$K$11 -> 0.91739813 | L51: =J51*K51 -> 8.4002321
B52: 41 | C52: Шапа Сергей Владимирович | D52: 1970 | E52: 1 | I52: =VLOOKUP(C52,'КР 2016'!$D$18:$N$32,11,FALSE) -> 6.8659445 | J52: =F52+G52+H52+I52 -> 6.8659445 | K52: =$K$11 -> 0.91739813 | L52: =J52*K52 -> 6.2988046
B53: 42 | C53: Недальченко Иван Владимирович | D53: 1974 | E53: 1. | F53: =VLOOKUP(C53,'ЧР 2016'!$D$13:$J$61,7,FALSE) -> 0 | G53: =VLOOKUP(C53,'ВС Новоросийск 2016'!$D$13:$J$47,7,FALSE) -> 6.2755241 | J53: =F53+G53+H53+I53 -> 6.2755241 | K53: =$K$11 -> 0.91739813 | L53: =J53*K53 -> 5.7571541
B54: 43 | C54: Вашурин Михаил Александрович | D54: 1973 | E54: 1 | I54: =VLOOKUP(C54,'КР 2016'!$D$18:$N$32,11,FALSE) -> 3.7722759 | J54: =F54+G54+H54+I54 -> 3.7722759 | K54: =$K$11 -> 0.91739813 | L54: =J54*K54 -> 3.4606789
B55: 44 | C55: Босов Сергей Александрович | F55: =VLOOKUP(C55,'ЧР 2016'!$D$13:$J$61,7,FALSE) -> 0 | H55: =VLOOKUP(C55,'Крым 2016'!$D$18:$N$42,11,FALSE) -> 3.3735856 | J55: =F55+G55+H55+I55 -> 3.3735856 | K55: =$K$11 -> 0.91739813 | L55: =J55*K55 -> 3.0949211
B56: 45 | C56: Дударев Сергей Александрович | F56: =VLOOKUP(C56,'ЧР 2016'!$D$13:$J$61,7,FALSE) -> 0 | G56: =VLOOKUP(C56,'ВС Новоросийск 2016'!$D$13:$J$47,7,FALSE) -> 0 | H56: =VLOOKUP(C56,'Крым 2016'!$D$18:$N$42,11,FALSE) -> 0 | I56: =VLOOKUP(C56,'КР 2016'!$D$18:$N$32,11,FALSE) -> 0.34970154 | J56: =F56+G56+H56+I56 -> 0.34970154 | K56: =$K$11 -> 0.91739813 | L56: =J56*K56 -> 0.32081554
B57: 46 | C57: Алексеев Дмитрий Владимирович | D57: 1981 | E57: 1 | J57: =F57+G57+H57+I57 -> 0 | K57: =$K$11 -> 0.91739813 | L57: =J57*K57 -> 0
B58: 47 | C58: Анашкин Дмитрий Валентинович | D58: 1974 | E58: КМС | J58: =F58+G58+H58+I58 -> 0 | K58: =$K$11 -> 0.91739813 | L58: =J58*K58 -> 0
B59: 48 | C59: Антонов Павел Евгеньевич | D59: 1962 | E59: МС | J59: =F59+G59+H59+I59 -> 0 | K59: =$K$11 -> 0.91739813 | L59: =J59*K59 -> 0
B60: 49 | C60: Арцимович Денис Леонидович | D60: 1974 | E60: 1 | J60: =F60+G60+H60+I60 -> 0 | K60: =$K$11 -> 0.91739813 | L60: =J60*K60 -> 0
B61: 50 | C61: Бабанов Сергей Николаевич | F61: =VLOOKUP(C61,'ЧР 2016'!$D$13:$J$61,7,FALSE) -> 0 | J61: =F61+G61+H61+I61 -> 0 | K61: =$K$11 -> 0.91739813 | L61: =J61*K61 -> 0
B62: 51 | C62: Баранов Максим Симонович | D62: 1978 | E62: 1 | J62: =F62+G62+H62+I62 -> 0 | K62: =$K$11 -> 0.91739813 | L62: =J62*K62 -> 0
B63: 52 | C63: Бармашов Игорь Викторович | D63: 1963 | E63: 2 | F63: =VLOOKUP(C63,'ЧР 2016'!$D$13:$J$61,7,FALSE) -> 0 | H63: =VLOOKUP(C63,'Крым 2016'!$D$18:$N$42,11,FALSE) -> 0 | J63: =F63+G63+H63+I63 -> 0 | K63: =$K$11 -> 0.91739813 | L63: =J63*K63 -> 0
B64: 53 | C64: Барсов Валерий Владимирович | F64: =VLOOKUP(C64,'ЧР 2016'!$D$13:$J$61,7,FALSE) -> 0 | J64: =F64+G64+H64+I64 -> 0 | K64: =$K$11 -> 0.91739813 | L64: =J64*K64 -> 0
B65: 54 | C65: Басов Сергей Александрович | D65: 1985 | E65: 1 | J65: =F65+G65+H65+I65 -> 0 | K65: =$K$11 -> 0.91739813 | L65: =J65*K65 -> 0
B66: 55 | C66: Бельтюков Виктор Викторович | D66: 1983 | E66: 1 | J66: =F66+G66+H66+I66 -> 0 | K66: =$K$11 -> 0.91739813 | L66: =J66*K66 -> 0
B67: 56 | C67: Бережной Сергей Владимирович | D67: 1970 | E67: КМС | F67: =VLOOKUP(C67,'ЧР 2016'!$D$13:$J$61,7,FALSE) -> 0 | J67: =F67+G67+H67+I67 -> 0 | K67: =$K$11 -> 0.91739813 | L67: =J67*K67 -> 0
B68: 57 | C68: Березкин Анатолий Борисович | F68: =VLOOKUP(C68,'ЧР 2016'!$D$13:$J$61,7,FALSE) -> 0 | J68: =F68+G68+H68+I68 -> 0 | K68: =$K$11 -> 0.91739813 | L68: =J68*K68 -> 0
B69: 58 | C69: Берест Дмитрий Григорьевич | D69: 1970 | E69: 1 | J69: =F69+G69+H69+I69 -> 0 | K69: =$K$11 -> 0.91739813 | L69: =J69*K69 -> 0
B70: 59 | C70: Бурцев Александр Анатольевич | D70: 1984 | E70: МС | J70: =F70+G70+H70+I70 -> 0 | K70: =$K$11 -> 0.91739813 | L70: =J70*K70 -> 0
B71: 60 | C71: Виноградов Евгений Иванович | D71: 1964 | E71: КМС | H71: =VLOOKUP(C71,'Крым 2016'!$D$18:$N$42,11,FALSE) -> 0 | J71: =F71+G71+H71+I71 -> 0 | K71: =$K$11 -> 0.91739813 | L71: =J71*K71 -> 0
B72: 61 | C72: Головизнин Сергей Геннадьевич | D72: 1964 | E72: 2 | H72: =VLOOKUP(C72,'Крым 2016'!$D$18:$N$42,11,FALSE) -> 0 | J72: =F72+G72+H72+I72 -> 0 | K72: =$K$11 -> 0.91739813 | L72: =J72*K72 -> 0
B73: 62 | C73: Громов Андрей Олегович | D73: 1984 | E73: 2 | J73: =F73+G73+H73+I73 -> 0 | K73: =$K$11 -> 0.91739813 | L73: =J73*K73 -> 0
B74: 63 | C74: Громов Олег Леонидович | D74: 1962 | E74: 1 | J74: =F74+G74+H74+I74 -> 0 | K74: =$K$11 -> 0.91739813 | L74: =J74*K74 -> 0
B75: 64 | C75: Давыдов Денис Сергеевич | D75: 1982 | E75: 1 | F75: =VLOOKUP(C75,'ЧР 2016'!$D$13:$J$61,7,FALSE) -> 0 | G75: =VLOOKUP(C75,'ВС Новоросийск 2016'!$D$13:$J$47,7,FALSE) -> 0 | J75: =F75+G75+H75+I75 -> 0 | K75: =$K$11 -> 0.91739813 | L75: =J75*K75 -> 0
B76: 65 | C76: Затешилов Алексей Геннадиевич | D76: 1971 | E76: 1 | J76: =F76+G76+H76+I76 -> 0 | K76: =$K$11 -> 0.91739813 | L76: =J76*K76 -> 0
B77: 66 | C77: Зенин Андрей Михайлович | D77: 1963 | E77: МС | J77: =F77+G77+H77+I77 -> 0 | K77: =$K$11 -> 0.91739813 | L77: =J77*K77 -> 0
B78: 67 | C78: Иванов Сергей Викторович | D78: 1984 | E78: 1 | J78: =F78+G78+H78+I78 -> 0 | K78: =$K$11 -> 0.91739813 | L78: =J78*K78 -> 0
B79: 68 | C79: Исаков Александр Вячеславович | D79: 1975 | E79: 1 | J79: =F79+G79+H79+I79 -> 0 | K79: =$K$11 -> 0.91739813 | L79: =J79*K79 -> 0
B80: 69 | C80: Каменщикова Анна Викторовна | D80: 1989 | E80: КМС | J80: =F80+G80+H80+I80 -> 0 | K80: =$K$11 -> 0.91739813 | L80: =J80*K80 -> 0
B81: 70 | C81: Катасонов Александр Геннадиевич | D81: 1982 | E81: 1 | J81: =F81+G81+H81+I81 -> 0 | K81: =$K$11 -> 0.91739813 | L81: =J81*K81 -> 0
B82: 71 | C82: Катасонов Михаил Вячеславович | D82: 1980 | E82: 1 | J82: =F82+G82+H82+I82 -> 0 | K82: =$K$11 -> 0.91739813 | L82: =J82*K82 -> 0
B83: 72 | C83: Козин Сергей Владимирович | D83: 1964 | E83: 1 | J83: =F83+G83+H83+I83 -> 0 | K83: =$K$11 -> 0.91739813 | L83: =J83*K83 -> 0
B84: 73 | C84: Колпачников Роман Леонидович | D84: 1977 | E84: МС | F84: =VLOOKUP(C84,'ЧР 2016'!$D$13:$J$61,7,FALSE) -> 0 | G84: =VLOOKUP(C84,'ВС Новоросийск 2016'!$D$13:$J$47,7,FALSE) -> 0 | H84: =VLOOKUP(C84,'Крым 2016'!$D$18:$N$42,11,FALSE) -> 0 | J84: =F84+G84+H84+I84 -> 0 | K84: =$K$11 -> 0.91739813 | L84: =J84*K84 -> 0
B85: 74 | C85: Коровников Сергей Валерьевич | D85: 1982 | E85: 1 | F85: =VLOOKUP(C85,'ЧР 2016'!$D$13:$J$61,7,FALSE) -> 0 | G85: =VLOOKUP(C85,'ВС Новоросийск 2016'!$D$13:$J$47,7,FALSE) -> 0 | H85: =VLOOKUP(C85,'Крым 2016'!$D$18:$N$42,11,FALSE) -> 0 | J85: =F85+G85+H85+I85 -> 0 | K85: =$K$11 -> 0.91739813 | L85: =J85*K85 -> 0
B86: 75 | C86: Костырев Александр Николаевич | D86: 1985 | E86: 1 | J86: =F86+G86+H86+I86 -> 0 | K86: =$K$11 -> 0.91739813 | L86: =J86*K86 -> 0
B87: 76 | C87: Краснов Егор Алексеевич | F87: =VLOOKUP(C87,'ЧР 2016'!$D$13:$J$61,7,FALSE) -> 0 | G87: =VLOOKUP(C87,'ВС Новоросийск 2016'!$D$13:$J$47,7,FALSE) -> 0 | J87: =F87+G87+H87+I87 -> 0 | K87: =$K$11 -> 0.91739813 | L87: =J87*K87 -> 0
B88: 77 | C88: Кузнецов Максим Романович | D88: 1996 | E88: 1 | H88: =VLOOKUP(C88,'Крым 2016'!$D$18:$N$42,11,FALSE) -> 0 | J88: =F88+G88+H88+I88 -> 0 | K88: =$K$11 -> 0.91739813 | L88: =J88*K88 -> 0
B89: 78 | C89: Кулешов Вячеслав Станиславович | D89: 1985 | E89: 1 | J89: =F89+G89+H89+I89 -> 0 | K89: =$K$11 -> 0.91739813 | L89: =J89*K89 -> 0
B90: 79 | C90: Курбатов Павел Валерьевич | D90: 1982 | E90: КМС | F90: =VLOOKUP(C90,'ЧР 2016'!$D$13:$J$61,7,FALSE) -> 0 | G90: =VLOOKUP(C90,'ВС Новоросийск 2016'!$D$13:$J$47,7,FALSE) -> 0 | J90: =F90+G90+H90+I90 -> 0 | K90: =$K$11 -> 0.91739813 | L90: =J90*K90 -> 0
B91: 80 | C91: Липин Михаил Владимирович | F91: =VLOOKUP(C91,'ЧР 2016'!$D$13:$J$61,7,FALSE) -> 0 | J91: =F91+G91+H91+I91 -> 0 | K91: =$K$11 -> 0.91739813 | L91: =J91*K91 -> 0
B92: 81 | C92: Лозовик Сергей Геннадьевич | G92: =VLOOKUP(C92,'ВС Новоросийск 2016'!$D$13:$J$47,7,FALSE) -> 0 | J92: =F92+G92+H92+I92 -> 0 | K92: =$K$11 -> 0.91739813 | L92: =J92*K92 -> 0
B93: 82 | C93: Лубягин Максим Григорьевич | D93: 1982 | E93: МС | J93: =F93+G93+H93+I93 -> 0 | K93: =$K$11 -> 0.91739813 | L93: =J93*K93 -> 0
B94: 83 | C94: Луценко Владимир Анатольевич | D94: 1958 | E94: 1 | J94: =F94+G94+H94+I94 -> 0 | K94: =$K$11 -> 0.91739813 | L94: =J94*K94 -> 0
B95: 84 | C95: Маслов Олег Борисович | D95: 1970 | E95: КМС | J95: =F95+G95+H95+I95 -> 0 | K95: =$K$11 -> 0.91739813 | L95: =J95*K95 -> 0
B96: 85 | C96: Миклин Александр Рудольфович | D96: 1984 | E96: МС | J96: =F96+G96+H96+I96 -> 0 | K96: =$K$11 -> 0.91739813 | L96: =J96*K96 -> 0
B97: 86 | C97: Нетылько Сергей | F97: =VLOOKUP(C97,'ЧР 2016'!$D$13:$J$61,7,FALSE) -> 0 | J97: =F97+G97+H97+I97 -> 0 | K97: =$K$11 -> 0.91739813 | L97: =J97*K97 -> 0
B98: 87 | C98: Новиков Андрей Леонидович | D98: 1974. | E98: 1 | J98: =F98+G98+H98+I98 -> 0 | K98: =$K$11 -> 0.91739813 | L98: =J98*K98 -> 0
B99: 88 | C99: Новопашин Евгений Павлович | G99: =VLOOKUP(C99,'ВС Новоросийск 2016'!$D$13:$J$47,7,FALSE) -> 0 | J99: =F99+G99+H99+I99 -> 0 | K99: =$K$11 -> 0.91739813 | L99: =J99*K99 -> 0
B100: 89 | C100: Петров Денис Сергеевич | D100: 1975 | E100: 1 | J100: =F100+G100+H100+I100 -> 0 | K100: =$K$11 -> 0.91739813 | L100: =J100*K100 -> 0
B101: 90 | C101: Подставкин Сергей Васильевич | D101: 1966 | E101: КМС | J101: =F101+G101+H101+I101 -> 0 | K101: =$K$11 -> 0.91739813 | L101: =J101*K101 -> 0
B102: 91 | C102: Рудницкий Андрей Иванович | D102: 1982 | E102: 1 | J102: =F102+G102+H102+I102 -> 0 | K102: =$K$11 -> 0.91739813 | L102: =J102*K102 -> 0
B103: 92 | C103: Сметанкин Дмитрий Евгеньевич | D103: 1982 | E103: МС | J103: =F103+G103+H103+I103 -> 0 | K103: =$K$11 -> 0.91739813 | L103: =J103*K103 -> 0
B104: 93 | C104: Смирнов Михаил Владимирович | D104: 1961 | E104: 1 | J104: =F104+G104+H104+I104 -> 0 | K104: =$K$11 -> 0.91739813 | L104: =J104*K104 -> 0
B105: 94 | C105: Стародубцев Сергей Геннадьевич | D105: 1965 | E105: 1 | J105: =F105+G105+H105+I105 -> 0 | K105: =$K$11 -> 0.91739813 | L105: =J105*K105 -> 0
...

Sheet ЧР 2016
B2: ФЕДЕРАЦИЯ ПОДВОДНОГО СПОРТА РОССИИ
B3: ЧЕМПИОНАТ РОССИИ ПО ПОДВОДНОМУ СПОРТУ(подводная охота)
B4: код спортивной дисциплины 1460231511Л
B5: 26 -30 мая 2016 | J5: г. Новороссийск
B7: Протокол расчета очков рейтинга
B11: № пп | C11: Старт. № | D11: Ф.И.О. Спортсмена | E11: Год рождения | F11: Спорт. Звание, разряд | G11: Сумма % за 2дня | H11: РЧ (%) | I11: k сор. | J11: Очки рейтинга
E12: 0 | F12: 0 | G12: 0 | H12: 100 | J12: ПП
B13: 1 | C13: 40 | D13: Ченцов Сергей Юрьевич | E13: 1978 | F13: МС | G13: 193.83861 | H13: 100 | I13: 0.51589308 | J13: 100 | L13: =VLOOKUP(D13,'Отборочный рейтинг 2016'!$C$13:$F$164,1,FALSE) -> Ченцов Сергей Юрьевич
B14: 2 | C14: 21 | D14: Сизов Алексей Владимирович | E14: 1965 | F14: 1 | G14: 193.83861 | H14: 100 | I14: 0.51589308 | J14: 66.321674 | L14: =VLOOKUP(D14,'Отборочный рейтинг 2016'!$C$13:$F$164,1,FALSE) -> Сизов Алексей Владимирович
B15: 3 | C15: 28 | D15: Левский Дмитрий Евгеньевич | E15: 1985 | F15: КМС | G15: 193.83861 | H15: 100 | I15: 0.51589308 | J15: 64.566409 | L15: =VLOOKUP(D15,'Отборочный рейтинг 2016'!$C$13:$F$164,1,FALSE) -> Левский Дмитрий Евгеньевич
B16: 4 | C16: 30 | D16: Цветов Михаил Викторович | E16: 1969 | F16: МС | G16: 193.83861 | H16: 100 | I16: 0.51589308 | J16: 54.74045 | L16: =VLOOKUP(D16,'Отборочный рейтинг 2016'!$C$13:$F$164,1,FALSE) -> Цветов Михаил Викторович
B17: 5 | C17: 18 | D17: Сидоров Петр Александрович | E17: 1980 | F17: МС | G17: 193.83861 | H17: 100 | I17: 0.51589308 | J17: 50.364328 | L17: =VLOOKUP(D17,'Отборочный рейтинг 2016'!$C$13:$F$164,1,FALSE) -> Сидоров Петр Александрович
B18: 6 | C18: 14 | D18: Кежелис Сергей Александрович | E18: 1984 | F18: КМС | G18: 193.83861 | H18: 100 | I18: 0.51589308 | J18: 41.060141 | L18: =VLOOKUP(D18,'Отборочный рейтинг 2016'!$C$13:$F$164,1,FALSE) -> Кежелис Сергей Александрович
B19: 7 | C19: 24 | D19: Мещанюк Олег Юрьевич | E19: 1971 | F19: 1 | G19: 193.83861 | H19: 100 | I19: 0.51589308 | J19: 32.68585 | L19: =VLOOKUP(D19,'Отборочный рейтинг 2016'!$C$13:$F$164,1,FALSE) -> Мещанюк Олег Юрьевич
B20: 8 | C20: 53 | D20: Докучаев Владимир Александрович | E20: 1958 | F20: МС | G20: 193.83861 | H20: 100 | I20: 0.51589308 | J20: 30.63703 | L20: =VLOOKUP(D20,'Отборочный рейтинг 2016'!$C$13:$F$164,1,FALSE) -> Докучаев Владимир Александрович
B21: 9 | C21: 35 | D21: Попов Сергей Станиславович | E21: 1974 | F21: 1 | G21: 193.83861 | H21: 100 | I21: 0.51589308 | J21: 27.076976 | L21: =VLOOKUP(D21,'Отборочный рейтинг 2016'!$C$13:$F$164,1,FALSE) -> Попов Сергей Станиславович
B22: 10 | C22: 43 | D22: Сибгатуллин Илдар Искандерович | E22: 1985 | F22: 1 | G22: 193.83861 | H22: 100 | I22: 0.51589308 | J22: 26.828119 | L22: =VLOOKUP(D22,'Отборочный рейтинг 2016'!$C$13:$F$164,1,FALSE) -> Сибгатуллин Илдар Искандерович
B23: 11 | C23: 6 | D23: Исаев Кирилл Борисович | E23: 1986 | F23: 1 | G23: 193.83861 | H23: 100 | I23: 0.51589308 | J23: 23.824797 | L23: =VLOOKUP(D23,'Отборочный рейтинг 2016'!$C$13:$F$164,1,FALSE) -> Исаев Кирилл Борисович
B24: 12 | C24: 13 | D24: Петченко Роман Владимирович | E24: 1978 | F24: КМС | G24: 193.83861 | H24: 100 | I24: 0.51589308 | J24: 22.139908 | L24: =VLOOKUP(D24,'Отборочный рейтинг 2016'!$C$13:$F$164,1,FALSE) -> Петченко Роман Владимирович
B25: 13 | C25: 2 | D25: Паутов Виктор Викторович | E25: 1973 | F25: 1 | G25: 193.83861 | H25: 100 | I25: 0.51589308 | J25: 21.291249 | L25: =VLOOKUP(D25,'Отборочный рейтинг 2016'!$C$13:$F$164,1,FALSE) -> Паутов Виктор Викторович
B26: 14 | C26: 36 | D26: Стаценко Вячеслав Викторович | E26: 1981 | F26: 1 | G26: 193.83861 | H26: 100 | I26: 0.51589308 | J26: 20.698193 | L26: =VLOOKUP(D26,'Отборочный рейтинг 2016'!$C$13:$F$164,1,FALSE) -> Стаценко Вячеслав Викторович
B27: 15 | C27: 7 | D27: Смирнов Алексей Андреевич | E27: 1989 | F27: МС | G27: 193.83861 | H27: 100 | I27: 0.51589308 | J27: 20.592933 | L27: =VLOOKUP(D27,'Отборочный рейтинг 2016'!$C$13:$F$164,1,FALSE) -> Смирнов Алексей Андреевич
B28: 16 | C28: 26 | D28: Горохов Валерий Сергеевич | E28: 1975 | F28: МС | G28: 193.83861 | H28: 100 | I28: 0.51589308 | J28: 18.268015 | L28: =VLOOKUP(D28,'Отборочный рейтинг 2016'!$C$13:$F$164,1,FALSE) -> Горохов Валерий Сергеевич
B29: 17 | C29: 22 | D29: Корягин Антон Геннадьевич | E29: 1980 | F29: КМС | G29: 193.83861 | H29: 100 | I29: 0.51589308 | J29: 17.97905 | L29: =VLOOKUP(D29,'Отборочный рейтинг 2016'!$C$13:$F$164,1,FALSE) -> Корягин Антон Геннадьевич
B30: 18 | C30: 1 | D30: Пустов Александр Вячеславович | E30: 1983 | F30: КМС | G30: 193.83861 | H30: 100 | I30: 0.51589308 | J30: 16.165316 | L30: =VLOOKUP(D30,'Отборочный рейтинг 2016'!$C$13:$F$164,1,FALSE) -> Пустов Александр Вячеславович
B31: 19 | C31: 31 | D31: Антимонов Роман Валерьевич | E31: 1973 | F31: 1 | G31: 193.83861 | H31: 100 | I31: 0.51589308 | J31: 14.321835 | L31: =VLOOKUP(D31,'Отборочный рейтинг 2016'!$C$13:$F$164,1,FALSE) -> Антимонов Роман Валерьевич
B32: 20 | C32: 44 | D32: Перевезенцев Александр Сергеевич | E32: 1985 | F32: 1 | G32: 193.83861 | H32: 100 | I32: 0.51589308 | J32: 12.410586 | L32: =VLOOKUP(D32,'Отборочный рейтинг 2016'!$C$13:$F$164,1,FALSE) -> Перевезенцев Александр Сергеевич
B33: 21 | C33: 27 | D33: Клапша Дмитрий Валерьевич | E33: 1979 | F33: 1 | G33: 193.83861 | H33: 100 | I33: 0.51589308 | J33: 12.208777 | L33: =VLOOKUP(D33,'Отборочный рейтинг 2016'!$C$13:$F$164,1,FALSE) -> Клапша Дмитрий Валерьевич
B34: 22 | C34: 52 | D34: Кузнецов Роман Феликсович | E34: 1969 | F34: МС | G34: 193.83861 | H34: 100 | I34: 0.51589308 | J34: 10.796794 | L34: =VLOOKUP(D34,'Отборочный рейтинг 2016'!$C$13:$F$164,1,FALSE) -> Кузнецов Роман Феликсович
B35: 23 | C35: 19 | D35: Любецкий Дмитрий Александрович | E35: 1981 | F35: МС | G35: 193.83861 | H35: 100 | I35: 0.51589308 | J35: 9.2830052 | L35: =VLOOKUP(D35,'Отборочный рейтинг 2016'!$C$13:$F$164,1,FALSE) -> Любецкий Дмитрий Александрович
B36: 24 | C36: 54 | D36: Семенов Александр Игоревич | E36: 1984 | F36: 1 | G36: 193.83861 | H36: 100 | I36: 0.51589308 | J36: 9.156583 | L36: =VLOOKUP(D36,'Отборочный рейтинг 2016'!$C$13:$F$164,1,FALSE) -> Семенов Александр Игоревич
B37: 25 | C37: 42 | D37: Бабичев Александр Владимирович | E37: 1967 | F37: 1 | G37: 193.83861 | H37: 100 | I37: 0.51589308 | J37: 5.2161944 | L37: =VLOOKUP(D37,'Отборочный рейтинг 2016'!$C$13:$F$164,1,FALSE) -> Бабичев Александр Владимирович
B38: 26 | C38: 3 | D38: Краснов Егор Алексеевич | E38: 1982 | F38: 1 | G38: 193.83861 | H38: 100 | I38: 0.51589308 | J38: 0 | L38: =VLOOKUP(D38,'Отборочный рейтинг 2016'!$C$13:$F$164,1,FALSE) -> Краснов Егор Алексеевич
B39: 27 | C39: 4 | D39: Березкин Анатолий Борисович | E39: 1972 | F39: 1 | G39: 193.83861 | H39: 100 | I39: 0.51589308 | J39: 0 | L39: =VLOOKUP(D39,'Отборочный рейтинг 2016'!$C$13:$F$164,1,FALSE) -> Березкин Анатолий Борисович
B40: 28 | C40: 5 | D40: Бармашов Игорь Викторович | E40: 1963 | F40: 1 | G40: 193.83861 | H40: 100 | I40: 0.51589308 | J40: 0 | L40: =VLOOKUP(D40,'Отборочный рейтинг 2016'!$C$13:$F$164,1,FALSE) -> Бармашов Игорь Викторович
B41: 29 | C41: 8 | D41: Недальченко Иван Владимирович | E41: 1974 | F41: 1 | G41: 193.83861 | H41: 100 | I41: 0.51589308 | J41: 0 | L41: =VLOOKUP(D41,'Отборочный рейтинг 2016'!$C$13:$F$164,1,FALSE) -> Недальченко Иван Владимирович
B42: 30 | C42: 9 | D42: Леонов Алексей Викторович | E42: 1971 | F42: 1 | G42: 193.83861 | H42: 100 | I42: 0.51589308 | J42: 0 | L42: =VLOOKUP(D42,'Отборочный рейтинг 2016'!$C$13:$F$164,1,FALSE) -> Леонов Алексей Викторович
B43: 31 | C43: 10 | D43: Петров Сергей Александрович | E43: 1978 | F43: КМС | G43: 193.83861 | H43: 100 | I43: 0.51589308 | J43: 0 | L43: =VLOOKUP(D43,'Отборочный рейтинг 2016'!$C$13:$F$164,1,FALSE) -> Петров Сергей Александрович
B44: 32 | C44: 11 | D44: Белинский Владимир Владимирович | E44: 1981 | F44: 1 | G44: 193.83861 | H44: 100 | I44: 0.51589308 | J44: 0 | L44: =VLOOKUP(D44,'Отборочный рейтинг 2016'!$C$13:$F$164,1,FALSE) -> Белинский Владимир Владимирович
B45: 33 | C45: 15 | D45: Нетылько Сергей | E45: 1955 | F45: 1 | G45: 193.83861 | H45: 100 | I45: 0.51589308 | J45: 0 | L45: =VLOOKUP(D45,'Отборочный рейтинг 2016'!$C$13:$F$164,1,FALSE) -> Нетылько Сергей
B46: 34 | C46: 16 | D46: Босов Сергей Александрович | E46: 1984 | F46: 1 | G46: 193.83861 | H46: 100 | I46: 0.51589308 | J46: 0 | L46: =VLOOKUP(D46,'Отборочный рейтинг 2016'!$C$13:$F$164,1,FALSE) -> Босов Сергей Александрович
B47: 35 | C47: 17 | D47: Бабанов Сергей Николаевич | E47: 1965 | F47: 1 | G47: 193.83861 | H47: 100 | I47: 0.51589308 | J47: 0 | L47: =VLOOKUP(D47,'Отборочный рейтинг 2016'!$C$13:$F$164,1,FALSE) -> Бабанов Сергей Николаевич
B48: 36 | C48: 20 | D48: Рачков Роман Евгеньевич | E48: 1978 | F48: МС | G48: 193.83861 | H48: 100 | I48: 0.51589308 | J48: 0 | L48: =VLOOKUP(D48,'Отборочный рейтинг 2016'!$C$13:$F$164,1,FALSE) -> Рачков Роман Евгеньевич
B49: 37 | C49: 23 | D49: Дударев Сергей Александрович | E49: 1965 | F49: 1 | G49: 193.83861 | H49: 100 | I49: 0.51589308 | J49: 0 | L49: =VLOOKUP(D49,'Отборочный рейтинг 2016'!$C$13:$F$164,1,FALSE) -> Дударев Сергей Александрович
B50: 38 | C50: 25 | D50: Васильев Артем Игоревич | E50: 1972 | F50: 1 | G50: 193.83861 | H50: 100 | I50: 0.51589308 | J50: 0 | L50: =VLOOKUP(D50,'Отборочный рейтинг 2016'!$C$13:$F$164,1,FALSE) -> Васильев Артем Игоревич
B51: 39 | C51: 29 | D51: Липин Михаил Владимирович | E51: 1965 | F51: КМС | G51: 193.83861 | H51: 100 | I51: 0.51589308 | J51: 0 | L51: =VLOOKUP(D51,'Отборочный рейтинг 2016'!$C$13:$F$164,1,FALSE) -> Липин Михаил Владимирович
B52: 40 | C52: 32 | D52: Давыдов Денис Сергеевич | E52: 1982 | F52: 1 | G52: 193.83861 | H52: 100 | I52: 0.51589308 | J52: 0 | L52: =VLOOKUP(D52,'Отборочный рейтинг 2016'!$C$13:$F$164,1,FALSE) -> Давыдов Денис Сергеевич
B53: 41 | C53: 33 | D53: Барсов Валерий Владимирович | E53: 1974 | F53: 1 | G53: 193.83861 | H53: 100 | I53: 0.51589308 | J53: 0 | L53: =VLOOKUP(D53,'Отборочный рейтинг 2016'!$C$13:$F$164,1,FALSE) -> Барсов Валерий Владимирович
B54: 42 | C54: 34 | D54: Бережной Сергей Владимирович | E54: 1970 | F54: МС | G54: 193.83861 | H54: 100 | I54: 0.51589308 | J54: 0 | L54: =VLOOKUP(D54,'Отборочный рейтинг 2016'!$C$13:$F$164,1,FALSE) -> Бережной Сергей Владимирович
B55: 43 | C55: 37 | D55: Числов Александр Владимирович | E55: 1972 | F55: КМС | G55: 193.83861 | H55: 100 | I55: 0.51589308 | J55: 0 | L55: =VLOOKUP(D55,'Отборочный рейтинг 2016'!$C$13:$F$164,1,FALSE) -> Числов Александр Владимирович
B56: 44 | C56: 38 | D56: Ульянов Игорь Владимирович | E56: 1963 | F56: МС | G56: 193.83861 | H56: 100 | I56: 0.51589308 | J56: 0 | L56: =VLOOKUP(D56,'Отборочный рейтинг 2016'!$C$13:$F$164,1,FALSE) -> Ульянов Игорь Владимирович
B57: 45 | C57: 39 | D57: Курбатов Павел Валерьевич | E57: 1982 | F57: МС | G57: 193.83861 | H57: 100 | I57: 0.51589308 | J57: 0 | L57: =VLOOKUP(D57,'Отборочный рейтинг 2016'!$C$13:$F$164,1,FALSE) -> Курбатов Павел Валерьевич
B58: 46 | C58: 41 | D58: Богатов Илья Александрович | E58: 1973 | F58: МС | G58: 193.83861 | H58: 100 | I58: 0.51589308 | J58: 0 | L58: =VLOOKUP(D58,'Отборочный рейтинг 2016'!$C$13:$F$164,1,FALSE) -> Богатов Илья Александрович
B59: 47 | C59: 45 | D59: Коровников Сергей Валерьевич | E59: 1982 | F59: 1 | G59: 193.83861 | H59: 100 | I59: 0.51589308 | J59: 0 | L59: =VLOOKUP(D59,'Отборочный рейтинг 2016'!$C$13:$F$164,1,FALSE) -> Коровников Сергей Валерьевич
B60: 48 | C60: 51 | D60: Колпачников Роман Леонидович | E60: 1977 | F60: МС | G60: 193.83861 | H60: 100 | I60: 0.51589308 | J60: 0 | L60: =VLOOKUP(D60,'Отборочный рейтинг 2016'!$C$13:$F$164,1,FALSE) -> Колпачников Роман Леонидович
B61: 49 | C61: 12 | D61: Иванов Юрий Александрович | E61: 1978 | F61: 1 | G61: 193.83861 | H61: 100 | I61: 0.51589308 | J61: -7.8086743 | L61: =VLOOKUP(D61,'Отборочный рейтинг 2016'!$C$13:$F$164,1,FALSE) -> Иванов Юрий Александрович

Sheet ВС Новоросийск 2016
B2: ФЕДЕРАЦИЯ ПОДВОДНОГО СПОРТА РОССИИ
B3: ВСЕРОССИЙСКИЕ СОРЕВНОВАНИЯ ПО ПОДВОДНОМУ СПОРТУ(подводная охота)
B4: код спортивной дисциплины 1460231511Л
B5: 19 - 22 мая 2016 | J5: г. Новороссийск
B7: Протокол расчета очков рейтинга
B11: № пп | C11: Старт. № | D11: Ф.И.О. Спортсмена | E11: Год рождения | F11: Спорт. Звание, разряд | G11: Сумма % за 2дня | H11: РЧ (%) | I11: k сор. | J11: Очки рейтинга
E12: 0 | F12: 0 | G12: 0 | H12: 50 | J12: ПП
B13: 1 | C13: 5 | D13: Любецкий Дмитрий Александрович | E13: 1981 | F13: МС | G13: 170.51996 | H13: 50 | I13: 0.2932208 | J13: 50
B14: 2 | C14: 21 | D14: Левский Дмитрий Евгеньевич | E14: 1985 | F14: КМС | G14: 170.51996 | H14: 50 | I14: 0.2932208 | J14: 44.437519
B15: 3 | C15: 8 | D15: Сизов Алексей Владимирович | E15: 1965 | F15: 1 | G15: 170.51996 | H15: 50 | I15: 0.2932208 | J15: 42.314522
B16: 4 | C16: 29 | D16: Мещанюк Олег Юрьевич | E16: 1971 | F16: 1 | G16: 170.51996 | H16: 50 | I16: 0.2932208 | J16: 28.65505
B17: 5 | C17: 1 | D17: Пустов Александр Вячеславович | E17: 1983 | F17: КМС | G17: 170.51996 | H17: 50 | I17: 0.2932208 | J17: 26.245576
B18: 6 | C18: 17 | D18: Перевезенцев Александр Сергеевич | E18: 1985 | F18: 1 | G18: 170.51996 | H18: 50 | I18: 0.2932208 | J18: 17.247482
B19: 7 | C19: 20 | D19: Цветов Михаил Викторович | E19: 1969 | F19: МС | G19: 170.51996 | H19: 50 | I19: 0.2932208 | J19: 16.251435
B20: 8 | C20: 19 | D20: Горохов Валерий Сергеевич | E20: 1975 | F20: МС | G20: 170.51996 | H20: 50 | I20: 0.2932208 | J20: 14.838007
B21: 9 | C21: 14 | D21: Богатов Илья Александрович | E21: 1973 | F21: 1 | G21: 170.51996 | H21: 50 | I21: 0.2932208 | J21: 14.579363
B22: 10 | C22: 26 | D22: Леонов Алексей Викторович | E22: 1971 | F22: 1 | G22: 170.51996 | H22: 50 | I22: 0.2932208 | J22: 14.099724
B23: 11 | C23: 23 | D23: Васильев Артем Игоревич | E23: 1972 | F23: 1 | G23: 170.51996 | H23: 50 | I23: 0.2932208 | J23: 14.006171
B24: 12 | C24: 15 | D24: Бабичев Александр Владимирович | E24: 1967 | F24: 1 | G24: 170.51996 | H24: 50 | I24: 0.2932208 | J24: 13.939348
B25: 13 | C25: 16 | D25: Сибгатуллин Илдар Искандерович | E25: 1985 | F25: 1 | G25: 170.51996 | H25: 50 | I25: 0.2932208 | J25: 7.8584244
B26: 14 | C26: 2 | D26: Паутов Виктор Викторович | E26: 1973 | F26: 1 | G26: 170.51996 | H26: 50 | I26: 0.2932208 | J26: 7.7184863
B27: 15 | C27: 4 | D27: Исаев Кирилл Борисович | E27: 1986 | F27: 1 | G27: 170.51996 | H27: 50 | I27: 0.2932208 | J27: 7.5142935
B28: 16 | C28: 25 | D28: Недальченко Иван Владимирович | E28: 1974 | F28: 1 | G28: 170.51996 | H28: 50 | I28: 0.2932208 | J28: 6.2755241
B29: 17 | C29: 9 | D29: Стаценко Вячеслав Викторович | E29: 1981 | F29: 1 | G29: 170.51996 | H29: 50 | I29: 0.2932208 | J29: 6.0408296
B30: 18 | C30: 7 | D30: Рачков Роман Евгеньевич | E30: 1978 | F30: МС | G30: 170.51996 | H30: 50 | I30: 0.2932208 | J30: 2.7712637
B31: 19 | C31: 3 | D31: Краснов Егор Алексеевич | E31: 1982 | F31: 1 | G31: 170.51996 | H31: 50 | I31: 0.2932208 | J31: 0
B32: 20 | C32: 6 | D32: Сидоров Петр Александрович | E32: 1980 | F32: МС | G32: 170.51996 | H32: 50 | I32: 0.2932208 | J32: 0
B33: 21 | C33: 10 | D33: Новопашин Евгений Павлович | E33: 1983 | F33: 2 | G33: 170.51996 | H33: 50 | I33: 0.2932208 | J33: 0
B34: 22 | C34: 11 | D34: Лозовик Сергей Геннадьевич | E34: 1981 | F34: 2 | G34: 170.51996 | H34: 50 | I34: 0.2932208 | J34: 0
B35: 23 | C35: 12 | D35: Кузнецов Роман Феликсович | E35: 1969 | F35: МС | G35: 170.51996 | H35: 50 | I35: 0.2932208 | J35: 0
B36: 24 | C36: 13 | D36: Колпачников Роман Леонидович | E36: 1977 | F36: МС | G36: 170.51996 | H36: 50 | I36: 0.2932208 | J36: 0
B37: 25 | C37: 18 | D37: Коровников Сергей Валерьевич | E37: 1982 | F37: 1 | G37: 170.51996 | H37: 50 | I37: 0.2932208 | J37: 0
B38: 26 | C38: 22 | D38: Клапша Дмитрий Валерьевич | E38: 1979 | F38: 1 | G38: 170.51996 | H38: 50 | I38: 0.2932208 | J38: 0
B39: 27 | C39: 24 | D39: Смирнов Алексей Андреевич | E39: 1989 | F39: МС | G39: 170.51996 | H39: 50 | I39: 0.2932208 | J39: 0
B40: 28 | C40: 27 | D40: Федорищева Мария Витальевна | E40: 1980 | F40: 3 | G40: 170.51996 | H40: 50 | I40: 0.2932208 | J40: 0
B41: 29 | C41: 28 | D41: Корягин Антон Геннадьевич | E41: 1980 | F41: КМС | G41: 170.51996 | H41: 50 | I41: 0.2932208 | J41: 0
B42: 30 | C42: 30 | D42: Дударев Сергей Александрович | E42: 1965 | F42: 1 | G42: 170.51996 | H42: 50 | I42: 0.2932208 | J42: 0
B43: 31 | C43: 31 | D43: Курбатов Павел Валерьевич | E43: 1982 | F43: МС | G43: 170.51996 | H43: 50 | I43: 0.2932208 | J43: 0
B44: 32 | C44: 32 | D44: Числов Александр Владимирович | E44: 1972 | F44: КМС | G44: 170.51996 | H44: 50 | I44: 0.2932208 | J44: 0
B45: 33 | C45: 33 | D45: Ульянов Игорь Владимирович | E45: 1963 | F45: МС | G45: 170.51996 | H45: 50 | I45: 0.2932208 | J45: 0
B46: 34 | C46: 34 | D46: Антимонов Роман Валерьевич | E46: 1973 | F46: 1 | G46: 170.51996 | H46: 50 | I46: 0.2932208 | J46: 0
B47: 35 | C47: 35 | D47: Давыдов Денис Сергеевич | E47: 1982 | F47: 1 | G47: 170.51996 | H47: 50 | I47: 0.2932208 | J47: 0

Sheet Крым 2016
B2: ФЕДЕРАЦИЯ ПОДВОДНОГО СПОРТА РОССИИ
B3: ВСЕРОССИЙСКИЕ СОРЕВНОВАНИЯ ПО ПОДВОДНОМУ СПОРТУ (Подводная охота)
B4: код спортивной дисциплины 1460231511Л
B5: 22 - 25 сентября 2016 | N5: г. Судак
B7: Протокол расчета очков рейтинга
B11: № пп | C11: Старт. № | D11: Ф.И.О. Спортсмена | E11: Год рождения | F11: Спорт. Звание, разряд | G11: Постоянная состовляющая | H11: Переменная составляющая (Сумма % за 2 дня) | I11: Сумма состовляющих | J11: Сумма % за 2дня | L11: РЧ (%) | M11: k сор. | N11: Очки рейтинга
E12: 0 | F12: 0 | J12: 0 | L12: 50 | N12: ПП
D15: 1 | E15: 2 | F15: 3 | G15: 4 | H15: 5 | I15: 6 | J15: 7 | K15: 8 | L15: 9 | M15: 10 | N15: 11
L17: =L12 -> 50 | M17: =IF(K117="",0,L12/K117) -> 0.31138195
B18: 1 | C18: 19 | D18: Кежелис Сергей Александрович | E18: 1984 | F18: МС | H18: 160.5745 | I18: 160.5745 | J18: 160.5745 | K18: =IF(J18=0,K17,IF(J18>K17,J18,K17)) -> 160.5745 | L18: =L17 -> 50 | M18: =M17 -> 0.31138195 | N18: =IF(I18="","",I18*M18) -> 50
B19: 2 | C19: 4 | D19: Рачков Роман Евгеньевич | E19: 1978 | F19: МС | H19: 124.93506 | I19: 124.93506 | J19: 124.93506 | K19: =IF(J19=0,K18,IF(J19>K18,J19,K18)) -> 160.5745 | L19: =L18 -> 50 | M19: =M18 -> 0.31138195 | N19: =IF(I19="","",I19*M19) -> 38.902524
B20: 3 | C20: 15 | D20: Петченко Роман Владимирович | E20: 1978 | F20: КМС | H20: 122.58938 | I20: 122.58938 | J20: 122.58938 | K20: =IF(J20=0,K19,IF(J20>K19,J20,K19)) -> 160.5745 | L20: =L19 -> 50 | M20: =M19 -> 0.31138195 | N20: =IF(I20="","",I20*M20) -> 38.172121
B21: 4 | C21: 16 | D21: Белинский Владимир Владимирович | E21: 1981 | F21: 1 | H21: 100.42127 | I21: 100.42127 | J21: 100.42127 | K21: =IF(J21=0,K20,IF(J21>K20,J21,K20)) -> 160.5745 | L21: =L20 -> 50 | M21: =M20 -> 0.31138195 | N21: =IF(I21="","",I21*M21) -> 31.269371
B22: 5 | C22: 14 | D22: Петров Сергей Александрович | E22: 1978 | F22: КМС | H22: 97.532468 | I22: 97.532468 | J22: 97.532468 | K22: =IF(J22=0,K21,IF(J22>K21,J22,K21)) -> 160.5745 | L22: =L21 -> 50 | M22: =M21 -> 0.31138195 | N22: =IF(I22="","",I22*M22) -> 30.36985
B23: 6 | C23: 17 | D23: Иванов Юрий Александрович | E23: 1978 | F23: 1 | H23: 77.477171 | I23: 77.477171 | J23: 77.477171 | K23: =IF(J23=0,K22,IF(J23>K22,J23,K22)) -> 160.5745 | L23: =L22 -> 50 | M23: =M22 -> 0.31138195 | N23: =IF(I23="","",I23*M23) -> 24.124993
B24: 7 | C24: 18 | D24: Параничев Алексей Спартакович | E24: 1965 | F24: 2 | H24: 57.184928 | I24: 57.184928 | J24: 57.184928 | K24: =IF(J24=0,K23,IF(J24>K23,J24,K23)) -> 160.5745 | L24: =L23 -> 50 | M24: =M23 -> 0.31138195 | N24: =IF(I24="","",I24*M24) -> 17.806354
B25: 8 | C25: 20 | D25: Босов Сергей Александрович | E25: 1984 | F25: 1 | H25: 10.834236 | I25: 10.834236 | J25: 10.834236 | K25: =IF(J25=0,K24,IF(J25>K24,J25,K24)) -> 160.5745 | L25: =L24 -> 50 | M25: =M24 -> 0.31138195 | N25: =IF(I25="","",I25*M25) -> 3.3735856
B26: 9 | C26: 1 | D26: Бармашов Игорь Викторович | E26: 1963 | F26: 1 | H26: 0 | I26: 0 | J26: 0 | K26: =IF(J26=0,K25,IF(J26>K25,J26,K25)) -> 160.5745 | L26: =L25 -> 50 | M26: =M25 -> 0.31138195 | N26: =IF(I26="","",I26*M26) -> 0
B27: 10 | C27: 2 | D27: Пустов Александр Вячеславович | E27: 1983 | F27: КМС | H27: 0 | I27: 0 | J27: 0 | K27: =IF(J27=0,K26,IF(J27>K26,J27,K26)) -> 160.5745 | L27: =L26 -> 50 | M27: =M26 -> 0.31138195 | N27: =IF(I27="","",I27*M27) -> 0
B28: 11 | C28: 3 | D28: Исаев Кирилл Борисович | E28: 1986 | F28: 1 | H28: 0 | I28: 0 | J28: 0 | K28: =IF(J28=0,K27,IF(J28>K27,J28,K27)) -> 160.5745 | L28: =L27 -> 50 | M28: =M27 -> 0.31138195 | N28: =IF(I28="","",I28*M28) -> 0
B29: 12 | C29: 5 | D29: Корягин Антон Геннадьевич | E29: 1980 | F29: КМС | H29: 0 | I29: 0 | J29: 0 | K29: =IF(J29=0,K28,IF(J29>K28,J29,K28)) -> 160.5745 | L29: =L28 -> 50 | M29: =M28 -> 0.31138195 | N29: =IF(I29="","",I29*M29) -> 0
B30: 13 | C30: 6 | D30: Мещанюк Олег Юрьевич | E30: 1971 | F30: 1 | H30: 0 | I30: 0 | J30: 0 | K30: =IF(J30=0,K29,IF(J30>K29,J30,K29)) -> 160.5745 | L30: =L29 -> 50 | M30: =M29 -> 0.31138195 | N30: =IF(I30="","",I30*M30) -> 0
B31: 14 | C31: 7 | D31: Дударев Сергей Александрович | E31: 1965 | F31: 1 | H31: 0 | I31: 0 | J31: 0 | K31: =IF(J31=0,K30,IF(J31>K30,J31,K30)) -> 160.5745 | L31: =L30 -> 50 | M31: =M30 -> 0.31138195 | N31: =IF(I31="","",I31*M31) -> 0
B32: 15 | C32: 8 | D32: Ульянов Игорь Владимирович | E32: 1963 | F32: МС | H32: 0 | I32: 0 | J32: 0 | K32: =IF(J32=0,K31,IF(J32>K31,J32,K31)) -> 160.5745 | L32: =L31 -> 50 | M32: =M31 -> 0.31138195 | N32: =IF(I32="","",I32*M32) -> 0
B33: 16 | C33: 9 | D33: Кузнецов Роман Феликсович | E33: 1969 | F33: МС | H33: 0 | I33: 0 | J33: 0 | K33: =IF(J33=0,K32,IF(J33>K32,J33,K32)) -> 160.5745 | L33: =L32 -> 50 | M33: =M32 -> 0.31138195 | N33: =IF(I33="","",I33*M33) -> 0
B34: 17 | C34: 10 | D34: Колпачников Роман Леонидович | E34: 1977 | F34: МС | H34: 0 | I34: 0 | J34: 0 | K34: =IF(J34=0,K33,IF(J34>K33,J34,K33)) -> 160.5745 | L34: =L33 -> 50 | M34: =M33 -> 0.31138195 | N34: =IF(I34="","",I34*M34) -> 0
B35: 18 | C35: 11 | D35: Кузнецов Максим Романович | E35: 1996 | F35: 1 | H35: 0 | I35: 0 | J35: 0 | K35: =IF(J35=0,K34,IF(J35>K34,J35,K34)) -> 160.5745 | L35: =L34 -> 50 | M35: =M34 -> 0.31138195 | N35: =IF(I35="","",I35*M35) -> 0
B36: 19 | C36: 12 | D36: Сивак Роман Борисович | E36: 1974 | F36: 2 | H36: 0 | I36: 0 | J36: 0 | K36: =IF(J36=0,K35,IF(J36>K35,J36,K35)) -> 160.5745 | L36: =L35 -> 50 | M36: =M35 -> 0.31138195 | N36: =IF(I36="","",I36*M36) -> 0
B37: 20 | C37: 13 | D37: Верховцев Сергей Вячеславович | E37: 1956 | F37: МС | H37: 0 | I37: 0 | J37: 0 | K37: =IF(J37=0,K36,IF(J37>K36,J37,K36)) -> 160.5745 | L37: =L36 -> 50 | M37: =M36 -> 0.31138195 | N37: =IF(I37="","",I37*M37) -> 0
B38: 21 | C38: 21 | D38: Виноградов Евгений Иванович | E38: 1964 | F38: КМС | H38: 0 | I38: 0 | J38: 0 | K38: =IF(J38=0,K37,IF(J38>K37,J38,K37)) -> 160.5745 | L38: =L37 -> 50 | M38: =M37 -> 0.31138195 | N38: =IF(I38="","",I38*M38) -> 0
B39: 22 | C39: 22 | D39: Головизнин Сергей Геннадьевич | E39: 1964 | F39: 1 | H39: 0 | I39: 0 | J39: 0 | K39: =IF(J39=0,K38,IF(J39>K38,J39,K38)) -> 160.5745 | L39: =L38 -> 50 | M39: =M38 -> 0.31138195 | N39: =IF(I39="","",I39*M39) -> 0
B40: 23 | C40: 23 | D40: Широнин Николай Александрович | E40: 1962 | F40: 1 | H40: 0 | I40: 0 | J40: 0 | K40: =IF(J40=0,K39,IF(J40>K39,J40,K39)) -> 160.5745 | L40: =L39 -> 50 | M40: =M39 -> 0.31138195 | N40: =IF(I40="","",I40*M40) -> 0
B41: 24 | C41: 24 | D41: Антимонов Роман Валерьевич | E41: 1973 | F41: 1 | H41: 0 | I41: 0 | J41: 0 | K41: =IF(J41=0,K40,IF(J41>K40,J41,K40)) -> 160.5745 | L41: =L40 -> 50 | M41: =M40 -> 0.31138195 | N41: =IF(I41="","",I41*M41) -> 0
B42: 25 | C42: 25 | D42: Коровников Сергей Валерьевич | E42: 1982 | F42: 1 | H42: 0 | I42: 0 | J42: 0 | K42: =IF(J42=0,K41,IF(J42>K41,J42,K41)) -> 160.5745 | L42: =L41 -> 50 | M42: =M41 -> 0.31138195 | N42: =IF(I42="","",I42*M42) -> 0
B43: 26 | J43: 0 | K43: =IF(J43=0,K42,IF(J43>K42,J43,K42)) -> 160.5745 | L43: =L42 -> 50 | M43: =M42 -> 0.31138195 | N43: =IF(I43="","",I43*M43)
B44: 27 | J44: 0 | K44: =IF(J44=0,K43,IF(J44>K43,J44,K43)) -> 160.5745 | L44: =L43 -> 50 | M44: =M43 -> 0.31138195 | N44: =IF(I44="","",I44*M44)
B45: 28 | J45: 0 | K45: =IF(J45=0,K44,IF(J45>K44,J45,K44)) -> 160.5745 | L45: =L44 -> 50 | M45: =M44 -> 0.31138195 | N45: =IF(I45="","",I45*M45)
B46: 29 | J46: 0 | K46: =IF(J46=0,K45,IF(J46>K45,J46,K45)) -> 160.5745 | L46: =L45 -> 50 | M46: =M45 -> 0.31138195 | N46: =IF(I46="","",I46*M46)
B47: 30 | J47: 0 | K47: =IF(J47=0,K46,IF(J47>K46,J47,K46)) -> 160.5745 | L47: =L46 -> 50 | M47: =M46 -> 0.31138195 | N47: =IF(I47="","",I47*M47)
B48: 31 | J48: 0 | K48: =IF(J48=0,K47,IF(J48>K47,J48,K47)) -> 160.5745 | L48: =L47 -> 50 | M48: =M47 -> 0.31138195 | N48: =IF(I48="","",I48*M48)
B49: 32 | J49: 0 | K49: =IF(J49=0,K48,IF(J49>K48,J49,K48)) -> 160.5745 | L49: =L48 -> 50 | M49: =M48 -> 0.31138195 | N49: =IF(I49="","",I49*M49)
B50: 33 | J50: 0 | K50: =IF(J50=0,K49,IF(J50>K49,J50,K49)) -> 160.5745 | L50: =L49 -> 50 | M50: =M49 -> 0.31138195 | N50: =IF(I50="","",I50*M50)
B51: 34 | J51: 0 | K51: =IF(J51=0,K50,IF(J51>K50,J51,K50)) -> 160.5745 | L51: =L50 -> 50 | M51: =M50 -> 0.31138195 | N51: =IF(I51="","",I51*M51)
B52: 35 | J52: 0 | K52: =IF(J52=0,K51,IF(J52>K51,J52,K51)) -> 160.5745 | L52: =L51 -> 50 | M52: =M51 -> 0.31138195 | N52: =IF(I52="","",I52*M52)
B53: 36 | J53: 0 | K53: =IF(J53=0,K52,IF(J53>K52,J53,K52)) -> 160.5745 | L53: =L52 -> 50 | M53: =M52 -> 0.31138195 | N53: =IF(I53="","",I53*M53)
B54: 37 | J54: 0 | K54: =IF(J54=0,K53,IF(J54>K53,J54,K53)) -> 160.5745 | L54: =L53 -> 50 | M54: =M53 -> 0.31138195 | N54: =IF(I54="","",I54*M54)
... B117: 100 | J117: 0 | K117: =IF(J117=0,K116,IF(J117>K116,J117,K116)) -> 160.5745 | L117: =L116 -> 50 | M117: =M116 -> 0.31138195 | N117: =IF(I117="","",I117*M117)

Sheet КР 2016
B2: ФЕДЕРАЦИЯ ПОДВОДНОГО СПОРТА РОССИИ
B3: КУБОК РОССИИ ПО ПОДВОДНОМУ СПОРТУ (подводная охота)
B4: код спортивной дисциплины 1460231511Л
B5: 29 сентября - 02 октября 2016 | N5: с.Андреевка, Приморский край
B7: Протокол расчета очков рейтинга
B11: № пп | C11: Старт. № | D11: Ф.И.О. Спортсмена | E11: Год рождения | F11: Спорт. Звание, разряд | G11: Постоянная состовляющая | H11: Переменная составляющая (Сумма % за 2 дня) | I11: Сумма состовляющих | J11: Сумма % за 2дня | L11: РЧ (%) | M11: k сор. | N11: Очки рейтинга
E12: 0 | F12: 0 | J12: 0 | L12: 75 | N12: ПП
D15: 1 | E15: 2 | F15: 3 | G15: 4 | H15: 5 | I15: 6 | J15: 7 | K15: 8 | L15: 9 | M15: 10 | N15: 11
L17: =L12 -> 75 | M17: =IF(K117="",0,L12/K117) -> 0.375
B18: 1 | C18: 4 | D18: Корягин Антон Геннадьевич | E18: 1980 | F18: кмс | H18: 200 | I18: 200 | J18: 200 | K18: =IF(J18=0,K17,IF(J18>K17,J18,K17)) -> 200 | L18: =L17 -> 75 | M18: =M17 -> 0.375 | N18: =IF(I18="","",I18*M18) -> 75 | P18: =VLOOKUP(D18,'Рейтинг 2016'!$C$12:$E$135,1,FALSE) -> Корягин Антон Геннадьевич
B19: 2 | C19: 6 | D19: Колганов Юрий Валерьевич | E19: 1974 | F19: 1 | H19: 153.85059 | I19: 153.85059 | J19: 153.85059 | K19: =IF(J19=0,K18,IF(J19>K18,J19,K18)) -> 200 | L19: =L18 -> 75 | M19: =M18 -> 0.375 | N19: =IF(I19="","",I19*M19) -> 57.69397 | P19: =VLOOKUP(D19,'Рейтинг 2016'!$C$12:$E$135,1,FALSE) -> Колганов Юрий Валерьевич
B20: 3 | C20: 27 | D20: Черданцев Олег Геннадьевич | E20: 1973 | F20: 1 | H20: 57.523921 | I20: 57.523921 | J20: 57.523921 | K20: =IF(J20=0,K19,IF(J20>K19,J20,K19)) -> 200 | L20: =L19 -> 75 | M20: =M19 -> 0.375 | N20: =IF(I20="","",I20*M20) -> 21.57147 | P20: =VLOOKUP(D20,'Рейтинг 2016'!$C$12:$E$135,1,FALSE) -> Черданцев Олег Геннадьевич
B21: 4 | C21: 7 | D21: Кравченко Алексей Геральдович | E21: 1968 | F21: 1 | H21: 55.402597 | I21: 55.402597 | J21: 55.402597 | K21: =IF(J21=0,K20,IF(J21>K20,J21,K20)) -> 200 | L21: =L20 -> 75 | M21: =M20 -> 0.375 | N21: =IF(I21="","",I21*M21) -> 20.775974 | P21: =VLOOKUP(D21,'Рейтинг 2016'!$C$12:$E$135,1,FALSE) -> Кравченко Алексей Геральдович
B22: 5 | C22: 11 | D22: Осокин Сергей Леонидович | E22: 1972 | F22: 1 | H22: 43.227434 | I22: 43.227434 | J22: 43.227434 | K22: =IF(J22=0,K21,IF(J22>K21,J22,K21)) -> 200 | L22: =L21 -> 75 | M22: =M21 -> 0.375 | N22: =IF(I22="","",I22*M22) -> 16.210288 | P22: =VLOOKUP(D22,'Рейтинг 2016'!$C$12:$E$135,1,FALSE) -> Осокин Сергей Леонидович
B23: 6 | C23: 14 | D23: Мещанюк Олег Юрьевич | E23: 1971 | F23: кмс | H23: 43.141235 | I23: 43.141235 | J23: 43.141235 | K23: =IF(J23=0,K22,IF(J23>K22,J23,K22)) -> 200 | L23: =L22 -> 75 | M23: =M22 -> 0.375 | N23: =IF(I23="","",I23*M23) -> 16.177963 | P23: =VLOOKUP(D23,'Рейтинг 2016'!$C$12:$E$135,1,FALSE) -> Мещанюк Олег Юрьевич
B24: 7 | C24: 2 | D24: Ширин Александр Михайлович | E24: 1980 | F24: 1 | H24: 37.441471 | I24: 37.441471 | J24: 37.441471 | K24: =IF(J24=0,K23,IF(J24>K23,J24,K23)) -> 200 | L24: =L23 -> 75 | M24: =M23 -> 0.375 | N24: =IF(I24="","",I24*M24) -> 14.040552 | P24: =VLOOKUP(D24,'Рейтинг 2016'!$C$12:$E$135,1,FALSE) -> Ширин Александр Михайлович
B25: 8 | C25: 1 | D25: Резниченко Денис Игоревич | E25: 1980 | F25: 1 | H25: 34.795084 | I25: 34.795084 | J25: 34.795084 | K25: =IF(J25=0,K24,IF(J25>K24,J25,K24)) -> 200 | L25: =L24 -> 75 | M25: =M24 -> 0.375 | N25: =IF(I25="","",I25*M25) -> 13.048156 | P25: =VLOOKUP(D25,'Рейтинг 2016'!$C$12:$E$135,1,FALSE) -> Резниченко Денис Игоревич
B26: 9 | C26: 16 | D26: Ларичев Сергей Александрович | E26: 1976 | F26: 1 | H26: 32.160908 | I26: 32.160908 | J26: 32.160908 | K26: =IF(J26=0,K25,IF(J26>K25,J26,K25)) -> 200 | L26: =L25 -> 75 | M26: =M25 -> 0.375 | N26: =IF(I26="","",I26*M26) -> 12.060341 | P26: =VLOOKUP(D26,'Рейтинг 2016'!$C$12:$E$135,1,FALSE) -> Ларичев Сергей Александрович
B27: 10 | C27: 15 | D27: Шапа Сергей Владимирович | E27: 1970 | F27: 1 | H27: 18.309185 | I27: 18.309185 | J27: 18.309185 | K27: =IF(J27=0,K26,IF(J27>K26,J27,K26)) -> 200 | L27: =L26 -> 75 | M27: =M26 -> 0.375 | N27: =IF(I27="","",I27*M27) -> 6.8659445 | P27: =VLOOKUP(D27,'Рейтинг 2016'!$C$12:$E$135,1,FALSE) -> Шапа Сергей Владимирович
B28: 11 | C28: 23 | D28: Вашурин Михаил Александрович | E28: 1973 | F28: 1 | H28: 10.059403 | I28: 10.059403 | J28: 10.059403 | K28: =IF(J28=0,K27,IF(J28>K27,J28,K27)) -> 200 | L28: =L27 -> 75 | M28: =M27 -> 0.375 | N28: =IF(I28="","",I28*M28) -> 3.7722759 | P28: =VLOOKUP(D28,'Рейтинг 2016'!$C$12:$E$135,1,FALSE) -> Вашурин Михаил Александрович
B29: 12 | C29: 5 | D29: Дударев Сергей Александрович | E29: 1965 | F29: 1 | H29: 0.93253745 | I29: 0.93253745 | J29: 0.93253745 | K29: =IF(J29=0,K28,IF(J29>K28,J29,K28)) -> 200 | L29: =L28 -> 75 | M29: =M28 -> 0.375 | N29: =IF(I29="","",I29*M29) -> 0.34970154 | P29: =VLOOKUP(D29,'Рейтинг 2016'!$C$12:$E$135,1,FALSE) -> Дударев Сергей Александрович
B30: 13 | C30: 8 | D30: Егоров Игнатий Владимирович | E30: 1976 | F30: 1 | H30: -3.3150014 | I30: -3.3150014 | J30: -3.3150014 | K30: =IF(J30=0,K29,IF(J30>K29,J30,K29)) -> 200 | L30: =L29 -> 75 | M30: =M29 -> 0.375 | N30: =IF(I30="","",I30*M30) -> -1.2431255 | P30: =VLOOKUP(D30,'Рейтинг 2016'!$C$12:$E$135,1,FALSE) -> Егоров Игнатий Владимирович
B31: 14 | C31: 28 | D31: Большаков Владимир Вячеславович | E31: 1975 | F31: 1 | H31: 0 | I31: 0 | J31: 0 | K31: =IF(J31=0,K30,IF(J31>K30,J31,K30)) -> 200 | L31: =L30 -> 75 | M31: =M30 -> 0.375 | N31: =IF(I31="","",I31*M31) -> 0 | P31: =VLOOKUP(D31,'Рейтинг 2016'!$C$12:$E$135,1,FALSE) -> Большаков Владимир Вячеславович
B32: 15 | C32: 10 | D32: Мурыгин Сергей Николаевич | E32: 1973 | F32: 1 | H32: -0.101 | I32: -0.101 | J32: -0.101 | K32: =IF(J32=0,K31,IF(J32>K31,J32,K31)) -> 200 | L32: =L31 -> 75 | M32: =M31 -> 0.375 | N32: =IF(I32="","",I32*M32) -> -0.037875 | P32: =VLOOKUP(D32,'Рейтинг 2016'!$C$12:$E$135,1,FALSE) -> Мурыгин Сергей Николаевич
B33: 16 | H33: 0 | I33: 0 | J33: 0 | K33: =IF(J33=0,K32,IF(J33>K32,J33,K32)) -> 200 | L33: =L32 -> 75 | M33: =M32 -> 0.375 | N33: =IF(I33="","",I33*M33) -> 0
B34: 17 | H34: 0 | I34: 0 | J34: 0 | K34: =IF(J34=0,K33,IF(J34>K33,J34,K33)) -> 200 | L34: =L33 -> 75 | M34: =M33 -> 0.375 | N34: =IF(I34="","",I34*M34) -> 0
B35: 18 | H35: 0 | I35: 0 | J35: 0 | K35: =IF(J35=0,K34,IF(J35>K34,J35,K34)) -> 200 | L35: =L34 -> 75 | M35: =M34 -> 0.375 | N35: =IF(I35="","",I35*M35) -> 0
B36: 19 | H36: 0 | I36: 0 | J36: 0 | K36: =IF(J36=0,K35,IF(J36>K35,J36,K35)) -> 200 | L36: =L35 -> 75 | M36: =M35 -> 0.375 | N36: =IF(I36="","",I36*M36) -> 0
B37: 20 | H37: 0 | I37: 0 | J37: 0 | K37: =IF(J37=0,K36,IF(J37>K36,J37,K36)) -> 200 | L37: =L36 -> 75 | M37: =M36 -> 0.375 | N37: =IF(I37="","",I37*M37) -> 0
B38: 21 | H38: 0 | I38: 0 | J38: 0 | K38: =IF(J38=0,K37,IF(J38>K37,J38,K37)) -> 200 | L38: =L37 -> 75 | M38: =M37 -> 0.375 | N38: =IF(I38="","",I38*M38) -> 0
B39: 22 | H39: 0 | I39: 0 | J39: 0 | K39: =IF(J39=0,K38,IF(J39>K38,J39,K38)) -> 200 | L39: =L38 -> 75 | M39: =M38 -> 0.375 | N39: =IF(I39="","",I39*M39) -> 0
B40: 23 | H40: 0 | I40: 0 | J40: 0 | K40: =IF(J40=0,K39,IF(J40>K39,J40,K39)) -> 200 | L40: =L39 -> 75 | M40: =M39 -> 0.375 | N40: =IF(I40="","",I40*M40) -> 0
B41: 24 | H41: 0 | I41: 0 | J41: 0 | K41: =IF(J41=0,K40,IF(J41>K40,J41,K40)) -> 200 | L41: =L40 -> 75 | M41: =M40 -> 0.375 | N41: =IF(I41="","",I41*M41) -> 0
B42: 25 | H42: 0 | I42: 0 | J42: 0 | K42: =IF(J42=0,K41,IF(J42>K41,J42,K41)) -> 200 | L42: =L41 -> 75 | M42: =M41 -> 0.375 | N42: =IF(I42="","",I42*M42) -> 0
B43: 26 | H43: 0 | I43: 0 | J43: 0 | K43: =IF(J43=0,K42,IF(J43>K42,J43,K42)) -> 200 | L43: =L42 -> 75 | M43: =M42 -> 0.375 | N43: =IF(I43="","",I43*M43) -> 0
B44: 27 | H44: 0 | I44: 0 | J44: 0 | K44: =IF(J44=0,K43,IF(J44>K43,J44,K43)) -> 200 | L44: =L43 -> 75 | M44: =M43 -> 0.375 | N44: =IF(I44="","",I44*M44) -> 0
... B117: 100 | H117: 0 | I117: 0 | J117: 0 | K117: =IF(J117=0,K116,IF(J117>K116,J117,K116)) -> 200 | L117: =L116 -> 75 | M117: =M116 -> 0.375 | N117: =IF(I117="","",I117*M117) -> 0
